{"text_format":"1","workbook":"xlsx","n_sheets":18,"sheets":["使い方","マクロ","記載要領","配置技術者","①業種","②工事データ","③取り込みと並べ替え","④工事経歴書の作成","1","2","3","4","5","6","7","8","9","10"],"not_rendered":{"charts":0,"images":16,"macros":1,"external_links":0,"defined_names":15,"comments":0,"pivot_tables":0},"unopened":[],"bounds":{"document_bytes":16777216,"sheet_cells":100000,"rows_first":2000,"rows_last":500,"rows_between":2000,"halvings":0,"cell_chars":16384,"cell_head_chars":4096},"cells_cut":0,"cells_raw":0,"read":"whole","date_system":"1900"}

{"sheet":"使い方","index":0,"n_rows":60,"n_cols":15,"rows_kept":60,"cut":false,"hidden":false,"merged":[[15,1,15,6],[43,8,43,10],[10,1,10,5]]}
[]
[null,"CDからダウンロードしたら、",null,null,null,null,null,null,null,null,null,null,null,null,"N令5"]
[null,"作業する前に、"]
[null,"ダウンロードしたファイルを、パソコンのデスクトップやハードディスクに保存してください。"]
[null,"　↓"]
[null,"次に、保存したファイルを開いてください。保存しないで作業すると、マクロが動きません。"]
[]
[]
[null,"マクロを有効にしてください"]
[]
[]
[null,"マクロが無効になっている場合はこちらをご覧ください。"]
[]
[null,"このソフトは次の順序で並び替えできます"]
[]
[null,"　１．　元請の金額の大きい順（元請合計の70％以上入力要）"]
[null,null,"↓",null,null,null,null,"　　　完工高合計の70％以上入力要"]
[null,"　２．　１に続き、下請の金額の大きい順"]
[]
[null,"これ以外の並び替えが必要な場合は、あらかじめ並び替えておいたエクセルデータを使います。"]
[]
[null,"このソフトの使い方"]
[]
[]
[]
[]
[null,"この画面で業種を選択します。"]
[]
[null,"↓"]
[]
[]
[]
[]
[null,"工事データを入力します。"]
[null,"会社がお持ちのエクセルやアクセスのデータを貼り付けていただいてもかまいません。"]
[null,"1,300件まで入力できます。"]
[]
[null,"↓"]
[]
[]
[]
[null,"前のページで入力したデータを、ボタンひとつで取り込んで並び替えできます。"]
[]
[null,"ボタンをクリックしても反応しない場合、マクロを有効にしてください。→→→→→",null,null,null,null,null,null,"マクロを使ったファイルの使い方"]
[]
[null,"↓"]
[]
[]
[]
[]
[null,"このページの手順どおり、ボタンをクリックするだけで、工事経歴書１０枚の新しいファイルができあがります。"]
[null,"このボタンは１０個ありますので、合計１００枚(１３００件の工事）の工事経歴書ができあがります。"]
[]
[null,"↓"]
[null,"新しい工事経歴書のファイルが10枚できあがります。"]
[null,"ファイル名をつけて保存してから、編集、印刷してください。"]
[]
[]
[]
[null,"このファイルは保護も計算式も入っていませんので、自由に文字のレイアウトなどの編集ができます。"]

{"sheet":"マクロ","index":1,"n_rows":16,"n_cols":12,"rows_kept":16,"cut":false,"hidden":false,"merged":[[4,2,4,14],[11,2,11,10],[15,2,15,3],[15,5,15,6]]}
[]
[]
[null,null,"CDからダウンロードしたら、"]
[null,null,"作業する前に、"]
[null,null,"ダウンロードしたファイルを、パソコンのデスクトップやハードディスクに保存してください。"]
[null,null,"　↓"]
[null,null,"次に、保存したファイルを開いてください。保存しないで作業すると、マクロが動きません。"]
[]
[]
[null,null,"保存しないでそのまま作業しようとすると、"]
[]
[null,null,"　セキュリティリスク　このファイルのソースが信頼できないため、Microsftによりマクロの実行がブロックされました。",null,null,null,null,null,null,null,null,"　等の警告が出て、作業ができません。"]
[]
[null,null,"その後も、いろいろなセキュリティーの警告が出ましたら、"]
[]
[null,null,"編集を有効にする",null,null,"コンテンツの有効化",null,"　等のボタンを押して、先に進んでください。"]

{"sheet":"記載要領","index":2,"n_rows":33,"n_cols":5,"rows_kept":33,"cut":false,"hidden":false,"merged":[[2,2,11,2],[25,3,26,4],[15,2,29,2],[27,3,29,4],[17,3,19,4],[20,3,21,4],[22,3,24,4],[16,3,16,4]]}
[]
[null,null,"記載要領（国土交通省）を要約しました。"]
[null,null,"経審を受ける\n場合","①","元請工事に係る請負代金の額の合計額の７割を超えるところまで、"]
[null,null,null,"元請","請負代金の大きい順に元請工事を記載する。"]
[null,null,null,"工事","ただし、元請工事に軽微(税込み500万円未満）な建設工事が含まれる場合は、"]
[null,null,null,"↓","軽微な建設工事の元請工事は１０件を超えて記載する必要はない。"]
[null,null,null,"②","①に続けて総完成工事高の７割を超えるところまで、"]
[null,null,null,null,"元請工事・下請工事の別に関わらず、請負代金の額の大きい順に"]
[null,null,null,null,"工事（①で記載をした元請工事を除く）を記載する。"]
[null,null,null,null,"ただし、軽微（税込み500万円未満)な建設工事が含まれる場合は、"]
[null,null,null,"↓","軽微な建設工事は１０件を超えて記載する必要はない。"]
[null,null,null,"③","②に続けて、主な未成工事について請負代金の額の大きい順に記載する。"]
[]
[null,null,"この国交省の記載要領ではさっぱりわかりませんので、"]
[null,null,"都道府県が独自の解説をしているという現状です。"]
[null,null,"経審を受ける\n場合","お客様から質問が多い事項をまとめてみました。"]
[null,null,null,"Ｑ．元請だけの記載で全体の7割を超えましたが、下請を記入する必要はありますか？"]
[null,null,null,"⇒Ａ．下請の記入は不要と思われます（下記大阪府の記載フロー参照）。ただし、他県では取り扱いが違うこともあります。各都道府県の手引きだけでは判断できない場合、担当の役所に確認してみてください。"]
[]
[]
[null,null,null,"Ｑ．税込み500万円以上の工事全部+税込み500万円の工事10件＜7割に達しません。7割超にするため税込み500万円未満の工事をさらに何百件も記載する必要がありますか？"]
[]
[null,null,null,"⇒Ａ．税込み500万円未満の工事は11件以上記載不要と思われます（下記大阪府の記載フロー参照）。ただし、他県では取り扱いが違うこともあります。各都道府県の手引きだけでは判断できない場合、担当の役所に確認してみてください。"]
[]
[]
[null,null,null,"Ｑ．税込み500万円以上の工事は全部記載するのでしょうか？途中までですでに7割以上はクリアしています。"]
[]
[null,null,null,"⇒Ａ．1000億円を超えればそれ以上記載不要という取り扱いがあります。1000億円以下でもこのようなケースはありえますが、役所の解説に見当たりません。担当の役所に確認してみてください。"]
[]
[]
[]
[]
[null,null,"大阪府のＨＰより"]

{"sheet":"配置技術者","index":3,"n_rows":244,"n_cols":4,"rows_kept":244,"cut":false,"hidden":false,"merged":[[243,1,243,3],[19,1,19,3],[20,1,20,3],[242,1,242,3]]}
[]
[null,"配置技術者"]
[null,"主任技術者","請負金額に関係なく必ず現場に配置しなければならない。"]
[null,"（一般、特定）","一般建設業の専任技術者になる要件がある人（各種資格、実務経験等）"]
[null,"監理技術者","特定建設業者が元請受注した工事について"]
[null,"（特定のみ）","下請業者に、税込み3000万円以上（建築一式は税込み4500万円以上）発注する場合"]
[null,null,"必ず配置しなければならない。"]
[null,null,"(もともと一般建設業者が元請受注した場合、このような多額の下請発注はできない）"]
[null,null,"特定建設業の専任技術者になる要件がある人（各種資格、指導的監督実務経験等）"]
[]
[null,"技術者の現場かけ持ちができない工事"]
[null,"税込み2500万円以上（建築一式は税込み5000万円以上）の公共性のある工事"]
[null,"工期が終了するまで他の現場とかけ持ち配置することができない。"]
[null,"元請工事に限りません。下請であっても専任の主任技術者または監理技術者が必要です。"]
[null,"公共性のある工事とは",null,"・国、地方公共団体発注の工作物"]
[null,null,null,"・鉄道、索道、道路、上下水道などの公共性のある施設"]
[null,null,null,"・電気事業用施設、ガス事業用施設"]
[null,null,null,"・学校、図書館、寺院、工場、病院、デパート、事務所、ホテル、共同住宅など\n　公衆または多数の人間が利用する施設"]
[null,null,null,"→したがって個人住宅の工事以外ほとんどのものが該当"]
[null,"わかりやすいマニュアルが発行されていましたのでまずこれをご覧下さい。"]
[null,"↓　　　↓　　　↓"]
[]
[]
[]
[]
[]
[]
[]
[]
[]
[]
[]
[]
[]
[]
[]
[]
[]
[]
[]
[]
[]
[]
[]
[]
[]
[]
[]
[]
[]
[]
[]
[]
[]
[]
[]
[]
[]
[]
[]
[]
[]
[]
[]
[]
[]
[]
[]
[]
[]
[]
[]
[]
[]
[]
[]
[]
[]
[]
[]
[]
[]
[]
[]
[]
[]
[]
[]
[]
[]
[]
[]
[]
[]
[]
[]
[]
[]
[]
[]
[]
[]
[]
[]
[]
[]
[]
[]
[]
[]
[]
[]
[]
[]
[]
[]
[]
[]
[]
[]
[]
[]
[]
[]
[]
[]
[]
[]
[]
[]
[]
[]
[]
[]
[]
[]
[]
[]
[]
[]
[]
[]
[]
[]
[]
[]
[]
[]
[]
[]
[]
[]
[]
[]
[]
[]
[]
[]
[]
[]
[]
[]
[]
[]
[]
[]
[]
[]
[]
[]
[]
[]
[]
[]
[]
[]
[]
[]
[]
[]
[]
[]
[]
[]
[]
[]
[]
[]
[]
[]
[]
[]
[]
[]
[]
[]
[]
[]
[]
[]
[]
[]
[]
[]
[]
[]
[]
[]
[]
[]
[]
[]
[]
[]
[]
[]
[]
[]
[]
[]
[]
[]
[]
[]
[]
[]
[]
[]
[]
[]
[]
[]
[]
[]
[]
[]
[]
[]
[]
[]
[]
[]
[]
[null,"これでも解決しない場合、さらに詳しい情報がほしい方は、Yahoo等で「配置技術者」で検索してください。"]

{"sheet":"①業種","index":4,"n_rows":69,"n_cols":6,"rows_kept":69,"cut":false,"hidden":false,"merged":[[21,1,21,9],[24,1,24,9]]}
[]
[null,"CDからダウンロードしたら、"]
[null,"作業する前に、"]
[null,"ダウンロードしたファイルを、パソコンのデスクトップやハードディスクに保存してください。"]
[null,"　↓"]
[null,"次に、保存したファイルを開いてください。保存しないで作業すると、マクロが動きません。"]
[]
[]
[]
[null,null,null,"まず、工事経歴書を作りたい業種を1つ選択してください。"]
[null,null,null,"　　　　　　　↓"]
[]
[null,null,null,"土木一式",null,{"$f":"VLOOKUP(D13,D39:E69,2,FALSE)","v":"ＰＣ"}]
[]
[]
[null,null,null,"選択したら次のページ「②工事データ」に移ってください。"]
[]
[]
[]
[]
[]
[]
[]
[]
[]
[]
[]
[]
[]
[]
[]
[]
[]
[]
[]
[]
[]
[null,null,null,"（業種）","（うち）"]
[null,1,null,"土木一式","ＰＣ"]
[null,2,null,"建築一式"]
[null,3,null,"大工"]
[null,4,null,"左官"]
[null,5,null,"とび・土工・コンクリート","法面処理"]
[null,6,null,"石"]
[null,7,null,"屋根"]
[null,8,null,"電気"]
[null,9,null,"管"]
[null,10,null,"タイル・れんが・ブロック"]
[null,11,null,"鋼構造物","鋼橋上部"]
[null,12,null,"鉄筋"]
[null,13,null,"ほ装"]
[null,14,null,"しゅんせつ"]
[null,15,null,"板金"]
[null,16,null,"ガラス"]
[null,17,null,"塗装"]
[null,18,null,"防水"]
[null,19,null,"内装仕上"]
[null,20,null,"機械器具設置"]
[null,21,null,"熱絶縁"]
[null,22,null,"電気通信"]
[null,23,null,"造園"]
[null,24,null,"さく井"]
[null,25,null,"建具"]
[null,26,null,"水道施設"]
[null,27,null,"消防施設"]
[null,28,null,"清掃施設"]
[null,29,null,"解体"]
[null,30,null,"とび･土工･ｺﾝｸﾘｰﾄ･解体(経過措置)"]
[null,null,null,"その他"]

{"sheet":"②工事データ","index":5,"n_rows":1310,"n_cols":20,"rows_kept":1310,"cut":false,"hidden":false,"merged":[[8,12,8,13],[8,14,8,15],[8,5,8,7],[8,0,8,4],[3,6,3,7],[4,6,4,7],[5,6,5,7],[7,6,7,7],[6,6,6,7],[8,8,8,11]]}
["タイトル行のすぐ下の行から工事データを入力してください。1300件（行番号11～行番号1310）まで入力可能です。"]
["文字データがセルからはみ出てもかまいません（後ほど印刷画面で編集できます）。",null,null,null,null,null,null,null,null,null,"ﾚ"]
["右欄外のボタンを押してサンプルデータを全部消すことができます。お客様が入力した大切なデータを間違えて消さないようにご注意下さい。→→→→→→→→→→→→→→→→→→→→→→→→→→→→→→→→→→→→→→",null,null,null,null,null,null,null,null,null,null,null,null,null,null,null,null,null,null,"行挿入を想定して行番号11～2000まで消去するようマクロを記録"]
[null,null,null,null,null,null,"A完工高合計",null,"B入力金額","B÷A"]
[null,null,null,null,{"$f":"+K5&L5","v":{"$error":"#DIV/0!"}},"元請",null,null,{"$f":"SUMIF($B$11:$I$1310,F5,$I$11:$I$1310)","v":6923150},{"$f":"+I5/G5","v":{"$error":"#DIV/0!"}},{"$f":"IF(J5<=0.7,\"70%超入力してください×\",\"70%超あります(^o^)\")","v":{"$error":"#DIV/0!"}},{"$f":"IF(I5>G5,\"完工高を超えています×\",\"\")","v":"完工高を超えています×"}]
[null,null,null,null,{"$f":"+K6&L6","v":"完工高を超えています×"},"下請",null,null,{"$f":"SUMIF($B$11:$I$1310,F6,$I$11:$I$1310)","v":6922500},{"$f":"+I6/G6","v":{"$error":"#DIV/0!"}},null,{"$f":"IF(I6>G6,\"完工高を超えています×\",\"\")","v":"完工高を超えています×"}]
[null,null,null,null,{"$f":"+K7&L7","v":""},"その他",null,null,{"$f":"+I8-I5-I6","v":0},null,{"$f":"IF(I7>0,\"0にしてください×\",\"\")","v":""}]
[null,null,null,null,{"$f":"+K8&L8","v":{"$error":"#DIV/0!"}},"合計",{"$f":"SUM(G5:H6)","v":0},null,{"$f":"SUM(I11:I1310)","v":13845650},{"$f":"+I8/G8","v":{"$error":"#DIV/0!"}},{"$f":"IF(J8<=0.7,\"70%超入力してください×\",\"70%超あります(^o^)\")","v":{"$error":"#DIV/0!"}},{"$f":"IF(I8>G8,\"完工高を超えています×\",\"\")","v":"完工高を超えています×"}]
["このシートは10行目まで保護をかけてあります（パスワードは入れておりません）。",null,null,null,null,"技術者",null,null,"請負代金　（単位：千円）",null,null,null,"着工",null,"完成"]
["注文者","　元請\n　下請","JV","工事名","工事場所","技術者氏名","主任「ﾚ」","監理「ﾚ」","請負代金","請負代金\n（進行基準）","うち","うち\n（進行基準）","年","月","年","月"]
["注文者1","下請",null,"工事名1","工事場所1","技術者1",null,"ﾚ",10001,20001,30001,40001,1,2,3,4]
["注文者2","元請",null,"工事名2","工事場所2","技術者2",null,"ﾚ",10002,20002,30002,40002,2,3,4,5]
["注文者3","下請",null,"工事名3","工事場所3","技術者3",null,"ﾚ",10003,20003,30003,40003,3,4,5,6]
["注文者4","元請",null,"工事名4","工事場所4","技術者4",null,"ﾚ",10004,20004,30004,40004,4,5,6,7]
["注文者5","下請",null,"工事名5","工事場所5","技術者5",null,"ﾚ",10005,20005,30005,40005,5,6,7,8]
["注文者6","元請",null,"工事名6","工事場所6","技術者6",null,"ﾚ",10006,20006,30006,40006,6,7,8,9]
["注文者7","下請",null,"工事名7","工事場所7","技術者7",null,"ﾚ",10007,20007,30007,40007,7,8,9,10]
["注文者8","元請",null,"工事名8","工事場所8","技術者8",null,"ﾚ",10008,20008,30008,40008,8,9,10,11]
["注文者9","下請",null,"工事名9","工事場所9","技術者9",null,"ﾚ",10009,20009,30009,40009,9,10,11,12]
["注文者10","元請",null,"工事名10","工事場所10","技術者10",null,"ﾚ",10010,20010,30010,40010,10,11,12,13]
["注文者11","下請",null,"工事名11","工事場所11","技術者11",null,"ﾚ",10011,20011,30011,40011,11,12,13,14]
["注文者12","元請",null,"工事名12","工事場所12","技術者12",null,"ﾚ",10012,20012,30012,40012,12,13,14,15]
["注文者13","下請",null,"工事名13","工事場所13","技術者13",null,"ﾚ",10013,20013,30013,40013,13,14,15,16]
["注文者14","元請",null,"工事名14","工事場所14","技術者14",null,"ﾚ",10014,20014,30014,40014,14,15,16,17]
["注文者15","下請",null,"工事名15","工事場所15","技術者15",null,"ﾚ",10015,20015,30015,40015,15,16,17,18]
["注文者16","元請",null,"工事名16","工事場所16","技術者16",null,"ﾚ",10016,20016,30016,40016,16,17,18,19]
["注文者17","下請",null,"工事名17","工事場所17","技術者17",null,"ﾚ",10017,20017,30017,40017,17,18,19,20]
["注文者18","元請",null,"工事名18","工事場所18","技術者18",null,"ﾚ",10018,20018,30018,40018,18,19,20,21]
["注文者19","下請",null,"工事名19","工事場所19","技術者19",null,"ﾚ",10019,20019,30019,40019,19,20,21,22]
["注文者20","元請",null,"工事名20","工事場所20","技術者20",null,"ﾚ",10020,20020,30020,40020,20,21,22,23]
["注文者21","下請",null,"工事名21","工事場所21","技術者21",null,"ﾚ",10021,20021,30021,40021,21,22,23,24]
["注文者22","元請",null,"工事名22","工事場所22","技術者22",null,"ﾚ",10022,20022,30022,40022,22,23,24,25]
["注文者23","下請",null,"工事名23","工事場所23","技術者23",null,"ﾚ",10023,20023,30023,40023,23,24,25,26]
["注文者24","元請",null,"工事名24","工事場所24","技術者24",null,"ﾚ",10024,20024,30024,40024,24,25,26,27]
["注文者25","下請",null,"工事名25","工事場所25","技術者25",null,"ﾚ",10025,20025,30025,40025,25,26,27,28]
["注文者26","元請",null,"工事名26","工事場所26","技術者26",null,"ﾚ",10026,20026,30026,40026,26,27,28,29]
["注文者27","下請",null,"工事名27","工事場所27","技術者27",null,"ﾚ",10027,20027,30027,40027,27,28,29,30]
["注文者28","元請",null,"工事名28","工事場所28","技術者28",null,"ﾚ",10028,20028,30028,40028,28,29,30,31]
["注文者29","下請",null,"工事名29","工事場所29","技術者29",null,"ﾚ",10029,20029,30029,40029,29,30,31,32]
["注文者30","元請",null,"工事名30","工事場所30","技術者30",null,"ﾚ",10030,20030,30030,40030,30,31,32,33]
["注文者31","下請",null,"工事名31","工事場所31","技術者31",null,"ﾚ",10031,20031,30031,40031,31,32,33,34]
["注文者32","元請",null,"工事名32","工事場所32","技術者32",null,"ﾚ",10032,20032,30032,40032,32,33,34,35]
["注文者33","下請",null,"工事名33","工事場所33","技術者33",null,"ﾚ",10033,20033,30033,40033,33,34,35,36]
["注文者34","元請",null,"工事名34","工事場所34","技術者34",null,"ﾚ",10034,20034,30034,40034,34,35,36,37]
["注文者35","下請",null,"工事名35","工事場所35","技術者35",null,"ﾚ",10035,20035,30035,40035,35,36,37,38]
["注文者36","元請",null,"工事名36","工事場所36","技術者36",null,"ﾚ",10036,20036,30036,40036,36,37,38,39]
["注文者37","下請",null,"工事名37","工事場所37","技術者37",null,"ﾚ",10037,20037,30037,40037,37,38,39,40]
["注文者38","元請",null,"工事名38","工事場所38","技術者38",null,"ﾚ",10038,20038,30038,40038,38,39,40,41]
["注文者39","下請",null,"工事名39","工事場所39","技術者39",null,"ﾚ",10039,20039,30039,40039,39,40,41,42]
["注文者40","元請",null,"工事名40","工事場所40","技術者40",null,"ﾚ",10040,20040,30040,40040,40,41,42,43]
["注文者41","下請",null,"工事名41","工事場所41","技術者41",null,"ﾚ",10041,20041,30041,40041,41,42,43,44]
["注文者42","元請",null,"工事名42","工事場所42","技術者42",null,"ﾚ",10042,20042,30042,40042,42,43,44,45]
["注文者43","下請",null,"工事名43","工事場所43","技術者43",null,"ﾚ",10043,20043,30043,40043,43,44,45,46]
["注文者44","元請",null,"工事名44","工事場所44","技術者44",null,"ﾚ",10044,20044,30044,40044,44,45,46,47]
["注文者45","下請",null,"工事名45","工事場所45","技術者45",null,"ﾚ",10045,20045,30045,40045,45,46,47,48]
["注文者46","元請",null,"工事名46","工事場所46","技術者46",null,"ﾚ",10046,20046,30046,40046,46,47,48,49]
["注文者47","下請",null,"工事名47","工事場所47","技術者47",null,"ﾚ",10047,20047,30047,40047,47,48,49,50]
["注文者48","元請",null,"工事名48","工事場所48","技術者48",null,"ﾚ",10048,20048,30048,40048,48,49,50,51]
["注文者49","下請",null,"工事名49","工事場所49","技術者49",null,"ﾚ",10049,20049,30049,40049,49,50,51,52]
["注文者50","元請",null,"工事名50","工事場所50","技術者50",null,"ﾚ",10050,20050,30050,40050,50,51,52,53]
["注文者51","下請",null,"工事名51","工事場所51","技術者51",null,"ﾚ",10051,20051,30051,40051,51,52,53,54]
["注文者52","元請",null,"工事名52","工事場所52","技術者52",null,"ﾚ",10052,20052,30052,40052,52,53,54,55]
["注文者53","下請",null,"工事名53","工事場所53","技術者53",null,"ﾚ",10053,20053,30053,40053,53,54,55,56]
["注文者54","元請",null,"工事名54","工事場所54","技術者54",null,"ﾚ",10054,20054,30054,40054,54,55,56,57]
["注文者55","下請",null,"工事名55","工事場所55","技術者55",null,"ﾚ",10055,20055,30055,40055,55,56,57,58]
["注文者56","元請",null,"工事名56","工事場所56","技術者56",null,"ﾚ",10056,20056,30056,40056,56,57,58,59]
["注文者57","下請",null,"工事名57","工事場所57","技術者57",null,"ﾚ",10057,20057,30057,40057,57,58,59,60]
["注文者58","元請",null,"工事名58","工事場所58","技術者58",null,"ﾚ",10058,20058,30058,40058,58,59,60,61]
["注文者59","下請",null,"工事名59","工事場所59","技術者59",null,"ﾚ",10059,20059,30059,40059,59,60,61,62]
["注文者60","元請",null,"工事名60","工事場所60","技術者60",null,"ﾚ",10060,20060,30060,40060,60,61,62,63]
["注文者61","下請",null,"工事名61","工事場所61","技術者61",null,"ﾚ",10061,20061,30061,40061,61,62,63,64]
["注文者62","元請",null,"工事名62","工事場所62","技術者62",null,"ﾚ",10062,20062,30062,40062,62,63,64,65]
["注文者63","下請",null,"工事名63","工事場所63","技術者63",null,"ﾚ",10063,20063,30063,40063,63,64,65,66]
["注文者64","元請",null,"工事名64","工事場所64","技術者64",null,"ﾚ",10064,20064,30064,40064,64,65,66,67]
["注文者65","下請",null,"工事名65","工事場所65","技術者65",null,"ﾚ",10065,20065,30065,40065,65,66,67,68]
["注文者66","元請",null,"工事名66","工事場所66","技術者66",null,"ﾚ",10066,20066,30066,40066,66,67,68,69]
["注文者67","下請",null,"工事名67","工事場所67","技術者67",null,"ﾚ",10067,20067,30067,40067,67,68,69,70]
["注文者68","元請",null,"工事名68","工事場所68","技術者68",null,"ﾚ",10068,20068,30068,40068,68,69,70,71]
["注文者69","下請",null,"工事名69","工事場所69","技術者69",null,"ﾚ",10069,20069,30069,40069,69,70,71,72]
["注文者70","元請",null,"工事名70","工事場所70","技術者70",null,"ﾚ",10070,20070,30070,40070,70,71,72,73]
["注文者71","下請",null,"工事名71","工事場所71","技術者71",null,"ﾚ",10071,20071,30071,40071,71,72,73,74]
["注文者72","元請",null,"工事名72","工事場所72","技術者72",null,"ﾚ",10072,20072,30072,40072,72,73,74,75]
["注文者73","下請",null,"工事名73","工事場所73","技術者73",null,"ﾚ",10073,20073,30073,40073,73,74,75,76]
["注文者74","元請",null,"工事名74","工事場所74","技術者74",null,"ﾚ",10074,20074,30074,40074,74,75,76,77]
["注文者75","下請",null,"工事名75","工事場所75","技術者75",null,"ﾚ",10075,20075,30075,40075,75,76,77,78]
["注文者76","元請",null,"工事名76","工事場所76","技術者76",null,"ﾚ",10076,20076,30076,40076,76,77,78,79]
["注文者77","下請",null,"工事名77","工事場所77","技術者77",null,"ﾚ",10077,20077,30077,40077,77,78,79,80]
["注文者78","元請",null,"工事名78","工事場所78","技術者78",null,"ﾚ",10078,20078,30078,40078,78,79,80,81]
["注文者79","下請",null,"工事名79","工事場所79","技術者79",null,"ﾚ",10079,20079,30079,40079,79,80,81,82]
["注文者80","元請",null,"工事名80","工事場所80","技術者80",null,"ﾚ",10080,20080,30080,40080,80,81,82,83]
["注文者81","下請",null,"工事名81","工事場所81","技術者81",null,"ﾚ",10081,20081,30081,40081,81,82,83,84]
["注文者82","元請",null,"工事名82","工事場所82","技術者82",null,"ﾚ",10082,20082,30082,40082,82,83,84,85]
["注文者83","下請",null,"工事名83","工事場所83","技術者83",null,"ﾚ",10083,20083,30083,40083,83,84,85,86]
["注文者84","元請",null,"工事名84","工事場所84","技術者84",null,"ﾚ",10084,20084,30084,40084,84,85,86,87]
["注文者85","下請",null,"工事名85","工事場所85","技術者85",null,"ﾚ",10085,20085,30085,40085,85,86,87,88]
["注文者86","元請",null,"工事名86","工事場所86","技術者86",null,"ﾚ",10086,20086,30086,40086,86,87,88,89]
["注文者87","下請",null,"工事名87","工事場所87","技術者87",null,"ﾚ",10087,20087,30087,40087,87,88,89,90]
["注文者88","元請",null,"工事名88","工事場所88","技術者88",null,"ﾚ",10088,20088,30088,40088,88,89,90,91]
["注文者89","下請",null,"工事名89","工事場所89","技術者89",null,"ﾚ",10089,20089,30089,40089,89,90,91,92]
["注文者90","元請",null,"工事名90","工事場所90","技術者90",null,"ﾚ",10090,20090,30090,40090,90,91,92,93]
["注文者91","下請",null,"工事名91","工事場所91","技術者91",null,"ﾚ",10091,20091,30091,40091,91,92,93,94]
["注文者92","元請",null,"工事名92","工事場所92","技術者92",null,"ﾚ",10092,20092,30092,40092,92,93,94,95]
["注文者93","下請",null,"工事名93","工事場所93","技術者93",null,"ﾚ",10093,20093,30093,40093,93,94,95,96]
["注文者94","元請",null,"工事名94","工事場所94","技術者94",null,"ﾚ",10094,20094,30094,40094,94,95,96,97]
["注文者95","下請",null,"工事名95","工事場所95","技術者95",null,"ﾚ",10095,20095,30095,40095,95,96,97,98]
["注文者96","元請",null,"工事名96","工事場所96","技術者96",null,"ﾚ",10096,20096,30096,40096,96,97,98,99]
["注文者97","下請",null,"工事名97","工事場所97","技術者97",null,"ﾚ",10097,20097,30097,40097,97,98,99,100]
["注文者98","元請",null,"工事名98","工事場所98","技術者98",null,"ﾚ",10098,20098,30098,40098,98,99,100,101]
["注文者99","下請",null,"工事名99","工事場所99","技術者99",null,"ﾚ",10099,20099,30099,40099,99,100,101,102]
["注文者100","元請",null,"工事名100","工事場所100","技術者100",null,"ﾚ",10100,20100,30100,40100,100,101,102,103]
["注文者101","下請",null,"工事名101","工事場所101","技術者101",null,"ﾚ",10101,20101,30101,40101,101,102,103,104]
["注文者102","元請",null,"工事名102","工事場所102","技術者102",null,"ﾚ",10102,20102,30102,40102,102,103,104,105]
["注文者103","下請",null,"工事名103","工事場所103","技術者103",null,"ﾚ",10103,20103,30103,40103,103,104,105,106]
["注文者104","元請",null,"工事名104","工事場所104","技術者104",null,"ﾚ",10104,20104,30104,40104,104,105,106,107]
["注文者105","下請",null,"工事名105","工事場所105","技術者105",null,"ﾚ",10105,20105,30105,40105,105,106,107,108]
["注文者106","元請",null,"工事名106","工事場所106","技術者106",null,"ﾚ",10106,20106,30106,40106,106,107,108,109]
["注文者107","下請",null,"工事名107","工事場所107","技術者107",null,"ﾚ",10107,20107,30107,40107,107,108,109,110]
["注文者108","元請",null,"工事名108","工事場所108","技術者108",null,"ﾚ",10108,20108,30108,40108,108,109,110,111]
["注文者109","下請",null,"工事名109","工事場所109","技術者109",null,"ﾚ",10109,20109,30109,40109,109,110,111,112]
["注文者110","元請",null,"工事名110","工事場所110","技術者110",null,"ﾚ",10110,20110,30110,40110,110,111,112,113]
["注文者111","下請",null,"工事名111","工事場所111","技術者111",null,"ﾚ",10111,20111,30111,40111,111,112,113,114]
["注文者112","元請",null,"工事名112","工事場所112","技術者112",null,"ﾚ",10112,20112,30112,40112,112,113,114,115]
["注文者113","下請",null,"工事名113","工事場所113","技術者113",null,"ﾚ",10113,20113,30113,40113,113,114,115,116]
["注文者114","元請",null,"工事名114","工事場所114","技術者114",null,"ﾚ",10114,20114,30114,40114,114,115,116,117]
["注文者115","下請",null,"工事名115","工事場所115","技術者115",null,"ﾚ",10115,20115,30115,40115,115,116,117,118]
["注文者116","元請",null,"工事名116","工事場所116","技術者116",null,"ﾚ",10116,20116,30116,40116,116,117,118,119]
["注文者117","下請",null,"工事名117","工事場所117","技術者117",null,"ﾚ",10117,20117,30117,40117,117,118,119,120]
["注文者118","元請",null,"工事名118","工事場所118","技術者118",null,"ﾚ",10118,20118,30118,40118,118,119,120,121]
["注文者119","下請",null,"工事名119","工事場所119","技術者119",null,"ﾚ",10119,20119,30119,40119,119,120,121,122]
["注文者120","元請",null,"工事名120","工事場所120","技術者120",null,"ﾚ",10120,20120,30120,40120,120,121,122,123]
["注文者121","下請",null,"工事名121","工事場所121","技術者121",null,"ﾚ",10121,20121,30121,40121,121,122,123,124]
["注文者122","元請",null,"工事名122","工事場所122","技術者122",null,"ﾚ",10122,20122,30122,40122,122,123,124,125]
["注文者123","下請",null,"工事名123","工事場所123","技術者123",null,"ﾚ",10123,20123,30123,40123,123,124,125,126]
["注文者124","元請",null,"工事名124","工事場所124","技術者124",null,"ﾚ",10124,20124,30124,40124,124,125,126,127]
["注文者125","下請",null,"工事名125","工事場所125","技術者125",null,"ﾚ",10125,20125,30125,40125,125,126,127,128]
["注文者126","元請",null,"工事名126","工事場所126","技術者126",null,"ﾚ",10126,20126,30126,40126,126,127,128,129]
["注文者127","下請",null,"工事名127","工事場所127","技術者127",null,"ﾚ",10127,20127,30127,40127,127,128,129,130]
["注文者128","元請",null,"工事名128","工事場所128","技術者128",null,"ﾚ",10128,20128,30128,40128,128,129,130,131]
["注文者129","下請",null,"工事名129","工事場所129","技術者129",null,"ﾚ",10129,20129,30129,40129,129,130,131,132]
["注文者130","元請",null,"工事名130","工事場所130","技術者130",null,"ﾚ",10130,20130,30130,40130,130,131,132,133]
["注文者131","下請",null,"工事名131","工事場所131","技術者131",null,"ﾚ",10131,20131,30131,40131,131,132,133,134]
["注文者132","元請",null,"工事名132","工事場所132","技術者132",null,"ﾚ",10132,20132,30132,40132,132,133,134,135]
["注文者133","下請",null,"工事名133","工事場所133","技術者133",null,"ﾚ",10133,20133,30133,40133,133,134,135,136]
["注文者134","元請",null,"工事名134","工事場所134","技術者134",null,"ﾚ",10134,20134,30134,40134,134,135,136,137]
["注文者135","下請",null,"工事名135","工事場所135","技術者135",null,"ﾚ",10135,20135,30135,40135,135,136,137,138]
["注文者136","元請",null,"工事名136","工事場所136","技術者136",null,"ﾚ",10136,20136,30136,40136,136,137,138,139]
["注文者137","下請",null,"工事名137","工事場所137","技術者137",null,"ﾚ",10137,20137,30137,40137,137,138,139,140]
["注文者138","元請",null,"工事名138","工事場所138","技術者138",null,"ﾚ",10138,20138,30138,40138,138,139,140,141]
["注文者139","下請",null,"工事名139","工事場所139","技術者139",null,"ﾚ",10139,20139,30139,40139,139,140,141,142]
["注文者140","元請",null,"工事名140","工事場所140","技術者140",null,"ﾚ",10140,20140,30140,40140,140,141,142,143]
["注文者141","下請",null,"工事名141","工事場所141","技術者141",null,"ﾚ",10141,20141,30141,40141,141,142,143,144]
["注文者142","元請",null,"工事名142","工事場所142","技術者142",null,"ﾚ",10142,20142,30142,40142,142,143,144,145]
["注文者143","下請",null,"工事名143","工事場所143","技術者143",null,"ﾚ",10143,20143,30143,40143,143,144,145,146]
["注文者144","元請",null,"工事名144","工事場所144","技術者144",null,"ﾚ",10144,20144,30144,40144,144,145,146,147]
["注文者145","下請",null,"工事名145","工事場所145","技術者145",null,"ﾚ",10145,20145,30145,40145,145,146,147,148]
["注文者146","元請",null,"工事名146","工事場所146","技術者146",null,"ﾚ",10146,20146,30146,40146,146,147,148,149]
["注文者147","下請",null,"工事名147","工事場所147","技術者147",null,"ﾚ",10147,20147,30147,40147,147,148,149,150]
["注文者148","元請",null,"工事名148","工事場所148","技術者148",null,"ﾚ",10148,20148,30148,40148,148,149,150,151]
["注文者149","下請",null,"工事名149","工事場所149","技術者149",null,"ﾚ",10149,20149,30149,40149,149,150,151,152]
["注文者150","元請",null,"工事名150","工事場所150","技術者150",null,"ﾚ",10150,20150,30150,40150,150,151,152,153]
["注文者151","下請",null,"工事名151","工事場所151","技術者151",null,"ﾚ",10151,20151,30151,40151,151,152,153,154]
["注文者152","元請",null,"工事名152","工事場所152","技術者152",null,"ﾚ",10152,20152,30152,40152,152,153,154,155]
["注文者153","下請",null,"工事名153","工事場所153","技術者153",null,"ﾚ",10153,20153,30153,40153,153,154,155,156]
["注文者154","元請",null,"工事名154","工事場所154","技術者154",null,"ﾚ",10154,20154,30154,40154,154,155,156,157]
["注文者155","下請",null,"工事名155","工事場所155","技術者155",null,"ﾚ",10155,20155,30155,40155,155,156,157,158]
["注文者156","元請",null,"工事名156","工事場所156","技術者156",null,"ﾚ",10156,20156,30156,40156,156,157,158,159]
["注文者157","下請",null,"工事名157","工事場所157","技術者157",null,"ﾚ",10157,20157,30157,40157,157,158,159,160]
["注文者158","元請",null,"工事名158","工事場所158","技術者158",null,"ﾚ",10158,20158,30158,40158,158,159,160,161]
["注文者159","下請",null,"工事名159","工事場所159","技術者159",null,"ﾚ",10159,20159,30159,40159,159,160,161,162]
["注文者160","元請",null,"工事名160","工事場所160","技術者160",null,"ﾚ",10160,20160,30160,40160,160,161,162,163]
["注文者161","下請",null,"工事名161","工事場所161","技術者161",null,"ﾚ",10161,20161,30161,40161,161,162,163,164]
["注文者162","元請",null,"工事名162","工事場所162","技術者162",null,"ﾚ",10162,20162,30162,40162,162,163,164,165]
["注文者163","下請",null,"工事名163","工事場所163","技術者163",null,"ﾚ",10163,20163,30163,40163,163,164,165,166]
["注文者164","元請",null,"工事名164","工事場所164","技術者164",null,"ﾚ",10164,20164,30164,40164,164,165,166,167]
["注文者165","下請",null,"工事名165","工事場所165","技術者165",null,"ﾚ",10165,20165,30165,40165,165,166,167,168]
["注文者166","元請",null,"工事名166","工事場所166","技術者166",null,"ﾚ",10166,20166,30166,40166,166,167,168,169]
["注文者167","下請",null,"工事名167","工事場所167","技術者167",null,"ﾚ",10167,20167,30167,40167,167,168,169,170]
["注文者168","元請",null,"工事名168","工事場所168","技術者168",null,"ﾚ",10168,20168,30168,40168,168,169,170,171]
["注文者169","下請",null,"工事名169","工事場所169","技術者169",null,"ﾚ",10169,20169,30169,40169,169,170,171,172]
["注文者170","元請",null,"工事名170","工事場所170","技術者170",null,"ﾚ",10170,20170,30170,40170,170,171,172,173]
["注文者171","下請",null,"工事名171","工事場所171","技術者171",null,"ﾚ",10171,20171,30171,40171,171,172,173,174]
["注文者172","元請",null,"工事名172","工事場所172","技術者172",null,"ﾚ",10172,20172,30172,40172,172,173,174,175]
["注文者173","下請",null,"工事名173","工事場所173","技術者173",null,"ﾚ",10173,20173,30173,40173,173,174,175,176]
["注文者174","元請",null,"工事名174","工事場所174","技術者174",null,"ﾚ",10174,20174,30174,40174,174,175,176,177]
["注文者175","下請",null,"工事名175","工事場所175","技術者175",null,"ﾚ",10175,20175,30175,40175,175,176,177,178]
["注文者176","元請",null,"工事名176","工事場所176","技術者176",null,"ﾚ",10176,20176,30176,40176,176,177,178,179]
["注文者177","下請",null,"工事名177","工事場所177","技術者177",null,"ﾚ",10177,20177,30177,40177,177,178,179,180]
["注文者178","元請",null,"工事名178","工事場所178","技術者178",null,"ﾚ",10178,20178,30178,40178,178,179,180,181]
["注文者179","下請",null,"工事名179","工事場所179","技術者179",null,"ﾚ",10179,20179,30179,40179,179,180,181,182]
["注文者180","元請",null,"工事名180","工事場所180","技術者180",null,"ﾚ",10180,20180,30180,40180,180,181,182,183]
["注文者181","下請",null,"工事名181","工事場所181","技術者181",null,"ﾚ",10181,20181,30181,40181,181,182,183,184]
["注文者182","元請",null,"工事名182","工事場所182","技術者182",null,"ﾚ",10182,20182,30182,40182,182,183,184,185]
["注文者183","下請",null,"工事名183","工事場所183","技術者183",null,"ﾚ",10183,20183,30183,40183,183,184,185,186]
["注文者184","元請",null,"工事名184","工事場所184","技術者184",null,"ﾚ",10184,20184,30184,40184,184,185,186,187]
["注文者185","下請",null,"工事名185","工事場所185","技術者185",null,"ﾚ",10185,20185,30185,40185,185,186,187,188]
["注文者186","元請",null,"工事名186","工事場所186","技術者186",null,"ﾚ",10186,20186,30186,40186,186,187,188,189]
["注文者187","下請",null,"工事名187","工事場所187","技術者187",null,"ﾚ",10187,20187,30187,40187,187,188,189,190]
["注文者188","元請",null,"工事名188","工事場所188","技術者188",null,"ﾚ",10188,20188,30188,40188,188,189,190,191]
["注文者189","下請",null,"工事名189","工事場所189","技術者189",null,"ﾚ",10189,20189,30189,40189,189,190,191,192]
["注文者190","元請",null,"工事名190","工事場所190","技術者190",null,"ﾚ",10190,20190,30190,40190,190,191,192,193]
["注文者191","下請",null,"工事名191","工事場所191","技術者191",null,"ﾚ",10191,20191,30191,40191,191,192,193,194]
["注文者192","元請",null,"工事名192","工事場所192","技術者192",null,"ﾚ",10192,20192,30192,40192,192,193,194,195]
["注文者193","下請",null,"工事名193","工事場所193","技術者193",null,"ﾚ",10193,20193,30193,40193,193,194,195,196]
["注文者194","元請",null,"工事名194","工事場所194","技術者194",null,"ﾚ",10194,20194,30194,40194,194,195,196,197]
["注文者195","下請",null,"工事名195","工事場所195","技術者195",null,"ﾚ",10195,20195,30195,40195,195,196,197,198]
["注文者196","元請",null,"工事名196","工事場所196","技術者196",null,"ﾚ",10196,20196,30196,40196,196,197,198,199]
["注文者197","下請",null,"工事名197","工事場所197","技術者197",null,"ﾚ",10197,20197,30197,40197,197,198,199,200]
["注文者198","元請",null,"工事名198","工事場所198","技術者198",null,"ﾚ",10198,20198,30198,40198,198,199,200,201]
["注文者199","下請",null,"工事名199","工事場所199","技術者199",null,"ﾚ",10199,20199,30199,40199,199,200,201,202]
["注文者200","元請",null,"工事名200","工事場所200","技術者200",null,"ﾚ",10200,20200,30200,40200,200,201,202,203]
["注文者201","下請",null,"工事名201","工事場所201","技術者201",null,"ﾚ",10201,20201,30201,40201,201,202,203,204]
["注文者202","元請",null,"工事名202","工事場所202","技術者202",null,"ﾚ",10202,20202,30202,40202,202,203,204,205]
["注文者203","下請",null,"工事名203","工事場所203","技術者203",null,"ﾚ",10203,20203,30203,40203,203,204,205,206]
["注文者204","元請",null,"工事名204","工事場所204","技術者204",null,"ﾚ",10204,20204,30204,40204,204,205,206,207]
["注文者205","下請",null,"工事名205","工事場所205","技術者205",null,"ﾚ",10205,20205,30205,40205,205,206,207,208]
["注文者206","元請",null,"工事名206","工事場所206","技術者206",null,"ﾚ",10206,20206,30206,40206,206,207,208,209]
["注文者207","下請",null,"工事名207","工事場所207","技術者207",null,"ﾚ",10207,20207,30207,40207,207,208,209,210]
["注文者208","元請",null,"工事名208","工事場所208","技術者208",null,"ﾚ",10208,20208,30208,40208,208,209,210,211]
["注文者209","下請",null,"工事名209","工事場所209","技術者209",null,"ﾚ",10209,20209,30209,40209,209,210,211,212]
["注文者210","元請",null,"工事名210","工事場所210","技術者210",null,"ﾚ",10210,20210,30210,40210,210,211,212,213]
["注文者211","下請",null,"工事名211","工事場所211","技術者211",null,"ﾚ",10211,20211,30211,40211,211,212,213,214]
["注文者212","元請",null,"工事名212","工事場所212","技術者212",null,"ﾚ",10212,20212,30212,40212,212,213,214,215]
["注文者213","下請",null,"工事名213","工事場所213","技術者213",null,"ﾚ",10213,20213,30213,40213,213,214,215,216]
["注文者214","元請",null,"工事名214","工事場所214","技術者214",null,"ﾚ",10214,20214,30214,40214,214,215,216,217]
["注文者215","下請",null,"工事名215","工事場所215","技術者215",null,"ﾚ",10215,20215,30215,40215,215,216,217,218]
["注文者216","元請",null,"工事名216","工事場所216","技術者216",null,"ﾚ",10216,20216,30216,40216,216,217,218,219]
["注文者217","下請",null,"工事名217","工事場所217","技術者217",null,"ﾚ",10217,20217,30217,40217,217,218,219,220]
["注文者218","元請",null,"工事名218","工事場所218","技術者218",null,"ﾚ",10218,20218,30218,40218,218,219,220,221]
["注文者219","下請",null,"工事名219","工事場所219","技術者219",null,"ﾚ",10219,20219,30219,40219,219,220,221,222]
["注文者220","元請",null,"工事名220","工事場所220","技術者220",null,"ﾚ",10220,20220,30220,40220,220,221,222,223]
["注文者221","下請",null,"工事名221","工事場所221","技術者221",null,"ﾚ",10221,20221,30221,40221,221,222,223,224]
["注文者222","元請",null,"工事名222","工事場所222","技術者222",null,"ﾚ",10222,20222,30222,40222,222,223,224,225]
["注文者223","下請",null,"工事名223","工事場所223","技術者223",null,"ﾚ",10223,20223,30223,40223,223,224,225,226]
["注文者224","元請",null,"工事名224","工事場所224","技術者224",null,"ﾚ",10224,20224,30224,40224,224,225,226,227]
["注文者225","下請",null,"工事名225","工事場所225","技術者225",null,"ﾚ",10225,20225,30225,40225,225,226,227,228]
["注文者226","元請",null,"工事名226","工事場所226","技術者226",null,"ﾚ",10226,20226,30226,40226,226,227,228,229]
["注文者227","下請",null,"工事名227","工事場所227","技術者227",null,"ﾚ",10227,20227,30227,40227,227,228,229,230]
["注文者228","元請",null,"工事名228","工事場所228","技術者228",null,"ﾚ",10228,20228,30228,40228,228,229,230,231]
["注文者229","下請",null,"工事名229","工事場所229","技術者229",null,"ﾚ",10229,20229,30229,40229,229,230,231,232]
["注文者230","元請",null,"工事名230","工事場所230","技術者230",null,"ﾚ",10230,20230,30230,40230,230,231,232,233]
["注文者231","下請",null,"工事名231","工事場所231","技術者231",null,"ﾚ",10231,20231,30231,40231,231,232,233,234]
["注文者232","元請",null,"工事名232","工事場所232","技術者232",null,"ﾚ",10232,20232,30232,40232,232,233,234,235]
["注文者233","下請",null,"工事名233","工事場所233","技術者233",null,"ﾚ",10233,20233,30233,40233,233,234,235,236]
["注文者234","元請",null,"工事名234","工事場所234","技術者234",null,"ﾚ",10234,20234,30234,40234,234,235,236,237]
["注文者235","下請",null,"工事名235","工事場所235","技術者235",null,"ﾚ",10235,20235,30235,40235,235,236,237,238]
["注文者236","元請",null,"工事名236","工事場所236","技術者236",null,"ﾚ",10236,20236,30236,40236,236,237,238,239]
["注文者237","下請",null,"工事名237","工事場所237","技術者237",null,"ﾚ",10237,20237,30237,40237,237,238,239,240]
["注文者238","元請",null,"工事名238","工事場所238","技術者238",null,"ﾚ",10238,20238,30238,40238,238,239,240,241]
["注文者239","下請",null,"工事名239","工事場所239","技術者239",null,"ﾚ",10239,20239,30239,40239,239,240,241,242]
["注文者240","元請",null,"工事名240","工事場所240","技術者240",null,"ﾚ",10240,20240,30240,40240,240,241,242,243]
["注文者241","下請",null,"工事名241","工事場所241","技術者241",null,"ﾚ",10241,20241,30241,40241,241,242,243,244]
["注文者242","元請",null,"工事名242","工事場所242","技術者242",null,"ﾚ",10242,20242,30242,40242,242,243,244,245]
["注文者243","下請",null,"工事名243","工事場所243","技術者243",null,"ﾚ",10243,20243,30243,40243,243,244,245,246]
["注文者244","元請",null,"工事名244","工事場所244","技術者244",null,"ﾚ",10244,20244,30244,40244,244,245,246,247]
["注文者245","下請",null,"工事名245","工事場所245","技術者245",null,"ﾚ",10245,20245,30245,40245,245,246,247,248]
["注文者246","元請",null,"工事名246","工事場所246","技術者246",null,"ﾚ",10246,20246,30246,40246,246,247,248,249]
["注文者247","下請",null,"工事名247","工事場所247","技術者247",null,"ﾚ",10247,20247,30247,40247,247,248,249,250]
["注文者248","元請",null,"工事名248","工事場所248","技術者248",null,"ﾚ",10248,20248,30248,40248,248,249,250,251]
["注文者249","下請",null,"工事名249","工事場所249","技術者249",null,"ﾚ",10249,20249,30249,40249,249,250,251,252]
["注文者250","元請",null,"工事名250","工事場所250","技術者250",null,"ﾚ",10250,20250,30250,40250,250,251,252,253]
["注文者251","下請",null,"工事名251","工事場所251","技術者251",null,"ﾚ",10251,20251,30251,40251,251,252,253,254]
["注文者252","元請",null,"工事名252","工事場所252","技術者252",null,"ﾚ",10252,20252,30252,40252,252,253,254,255]
["注文者253","下請",null,"工事名253","工事場所253","技術者253",null,"ﾚ",10253,20253,30253,40253,253,254,255,256]
["注文者254","元請",null,"工事名254","工事場所254","技術者254",null,"ﾚ",10254,20254,30254,40254,254,255,256,257]
["注文者255","下請",null,"工事名255","工事場所255","技術者255",null,"ﾚ",10255,20255,30255,40255,255,256,257,258]
["注文者256","元請",null,"工事名256","工事場所256","技術者256",null,"ﾚ",10256,20256,30256,40256,256,257,258,259]
["注文者257","下請",null,"工事名257","工事場所257","技術者257",null,"ﾚ",10257,20257,30257,40257,257,258,259,260]
["注文者258","元請",null,"工事名258","工事場所258","技術者258",null,"ﾚ",10258,20258,30258,40258,258,259,260,261]
["注文者259","下請",null,"工事名259","工事場所259","技術者259",null,"ﾚ",10259,20259,30259,40259,259,260,261,262]
["注文者260","元請",null,"工事名260","工事場所260","技術者260",null,"ﾚ",10260,20260,30260,40260,260,261,262,263]
["注文者261","下請",null,"工事名261","工事場所261","技術者261",null,"ﾚ",10261,20261,30261,40261,261,262,263,264]
["注文者262","元請",null,"工事名262","工事場所262","技術者262",null,"ﾚ",10262,20262,30262,40262,262,263,264,265]
["注文者263","下請",null,"工事名263","工事場所263","技術者263",null,"ﾚ",10263,20263,30263,40263,263,264,265,266]
["注文者264","元請",null,"工事名264","工事場所264","技術者264",null,"ﾚ",10264,20264,30264,40264,264,265,266,267]
["注文者265","下請",null,"工事名265","工事場所265","技術者265",null,"ﾚ",10265,20265,30265,40265,265,266,267,268]
["注文者266","元請",null,"工事名266","工事場所266","技術者266",null,"ﾚ",10266,20266,30266,40266,266,267,268,269]
["注文者267","下請",null,"工事名267","工事場所267","技術者267",null,"ﾚ",10267,20267,30267,40267,267,268,269,270]
["注文者268","元請",null,"工事名268","工事場所268","技術者268",null,"ﾚ",10268,20268,30268,40268,268,269,270,271]
["注文者269","下請",null,"工事名269","工事場所269","技術者269",null,"ﾚ",10269,20269,30269,40269,269,270,271,272]
["注文者270","元請",null,"工事名270","工事場所270","技術者270",null,"ﾚ",10270,20270,30270,40270,270,271,272,273]
["注文者271","下請",null,"工事名271","工事場所271","技術者271",null,"ﾚ",10271,20271,30271,40271,271,272,273,274]
["注文者272","元請",null,"工事名272","工事場所272","技術者272",null,"ﾚ",10272,20272,30272,40272,272,273,274,275]
["注文者273","下請",null,"工事名273","工事場所273","技術者273",null,"ﾚ",10273,20273,30273,40273,273,274,275,276]
["注文者274","元請",null,"工事名274","工事場所274","技術者274",null,"ﾚ",10274,20274,30274,40274,274,275,276,277]
["注文者275","下請",null,"工事名275","工事場所275","技術者275",null,"ﾚ",10275,20275,30275,40275,275,276,277,278]
["注文者276","元請",null,"工事名276","工事場所276","技術者276",null,"ﾚ",10276,20276,30276,40276,276,277,278,279]
["注文者277","下請",null,"工事名277","工事場所277","技術者277",null,"ﾚ",10277,20277,30277,40277,277,278,279,280]
["注文者278","元請",null,"工事名278","工事場所278","技術者278",null,"ﾚ",10278,20278,30278,40278,278,279,280,281]
["注文者279","下請",null,"工事名279","工事場所279","技術者279",null,"ﾚ",10279,20279,30279,40279,279,280,281,282]
["注文者280","元請",null,"工事名280","工事場所280","技術者280",null,"ﾚ",10280,20280,30280,40280,280,281,282,283]
["注文者281","下請",null,"工事名281","工事場所281","技術者281",null,"ﾚ",10281,20281,30281,40281,281,282,283,284]
["注文者282","元請",null,"工事名282","工事場所282","技術者282",null,"ﾚ",10282,20282,30282,40282,282,283,284,285]
["注文者283","下請",null,"工事名283","工事場所283","技術者283",null,"ﾚ",10283,20283,30283,40283,283,284,285,286]
["注文者284","元請",null,"工事名284","工事場所284","技術者284",null,"ﾚ",10284,20284,30284,40284,284,285,286,287]
["注文者285","下請",null,"工事名285","工事場所285","技術者285",null,"ﾚ",10285,20285,30285,40285,285,286,287,288]
["注文者286","元請",null,"工事名286","工事場所286","技術者286",null,"ﾚ",10286,20286,30286,40286,286,287,288,289]
["注文者287","下請",null,"工事名287","工事場所287","技術者287",null,"ﾚ",10287,20287,30287,40287,287,288,289,290]
["注文者288","元請",null,"工事名288","工事場所288","技術者288",null,"ﾚ",10288,20288,30288,40288,288,289,290,291]
["注文者289","下請",null,"工事名289","工事場所289","技術者289",null,"ﾚ",10289,20289,30289,40289,289,290,291,292]
["注文者290","元請",null,"工事名290","工事場所290","技術者290",null,"ﾚ",10290,20290,30290,40290,290,291,292,293]
["注文者291","下請",null,"工事名291","工事場所291","技術者291",null,"ﾚ",10291,20291,30291,40291,291,292,293,294]
["注文者292","元請",null,"工事名292","工事場所292","技術者292",null,"ﾚ",10292,20292,30292,40292,292,293,294,295]
["注文者293","下請",null,"工事名293","工事場所293","技術者293",null,"ﾚ",10293,20293,30293,40293,293,294,295,296]
["注文者294","元請",null,"工事名294","工事場所294","技術者294",null,"ﾚ",10294,20294,30294,40294,294,295,296,297]
["注文者295","下請",null,"工事名295","工事場所295","技術者295",null,"ﾚ",10295,20295,30295,40295,295,296,297,298]
["注文者296","元請",null,"工事名296","工事場所296","技術者296",null,"ﾚ",10296,20296,30296,40296,296,297,298,299]
["注文者297","下請",null,"工事名297","工事場所297","技術者297",null,"ﾚ",10297,20297,30297,40297,297,298,299,300]
["注文者298","元請",null,"工事名298","工事場所298","技術者298",null,"ﾚ",10298,20298,30298,40298,298,299,300,301]
["注文者299","下請",null,"工事名299","工事場所299","技術者299",null,"ﾚ",10299,20299,30299,40299,299,300,301,302]
["注文者300","元請",null,"工事名300","工事場所300","技術者300",null,"ﾚ",10300,20300,30300,40300,300,301,302,303]
["注文者301","下請",null,"工事名301","工事場所301","技術者301",null,"ﾚ",10301,20301,30301,40301,301,302,303,304]
["注文者302","元請",null,"工事名302","工事場所302","技術者302",null,"ﾚ",10302,20302,30302,40302,302,303,304,305]
["注文者303","下請",null,"工事名303","工事場所303","技術者303",null,"ﾚ",10303,20303,30303,40303,303,304,305,306]
["注文者304","元請",null,"工事名304","工事場所304","技術者304",null,"ﾚ",10304,20304,30304,40304,304,305,306,307]
["注文者305","下請",null,"工事名305","工事場所305","技術者305",null,"ﾚ",10305,20305,30305,40305,305,306,307,308]
["注文者306","元請",null,"工事名306","工事場所306","技術者306",null,"ﾚ",10306,20306,30306,40306,306,307,308,309]
["注文者307","下請",null,"工事名307","工事場所307","技術者307",null,"ﾚ",10307,20307,30307,40307,307,308,309,310]
["注文者308","元請",null,"工事名308","工事場所308","技術者308",null,"ﾚ",10308,20308,30308,40308,308,309,310,311]
["注文者309","下請",null,"工事名309","工事場所309","技術者309",null,"ﾚ",10309,20309,30309,40309,309,310,311,312]
["注文者310","元請",null,"工事名310","工事場所310","技術者310",null,"ﾚ",10310,20310,30310,40310,310,311,312,313]
["注文者311","下請",null,"工事名311","工事場所311","技術者311",null,"ﾚ",10311,20311,30311,40311,311,312,313,314]
["注文者312","元請",null,"工事名312","工事場所312","技術者312",null,"ﾚ",10312,20312,30312,40312,312,313,314,315]
["注文者313","下請",null,"工事名313","工事場所313","技術者313",null,"ﾚ",10313,20313,30313,40313,313,314,315,316]
["注文者314","元請",null,"工事名314","工事場所314","技術者314",null,"ﾚ",10314,20314,30314,40314,314,315,316,317]
["注文者315","下請",null,"工事名315","工事場所315","技術者315",null,"ﾚ",10315,20315,30315,40315,315,316,317,318]
["注文者316","元請",null,"工事名316","工事場所316","技術者316",null,"ﾚ",10316,20316,30316,40316,316,317,318,319]
["注文者317","下請",null,"工事名317","工事場所317","技術者317",null,"ﾚ",10317,20317,30317,40317,317,318,319,320]
["注文者318","元請",null,"工事名318","工事場所318","技術者318",null,"ﾚ",10318,20318,30318,40318,318,319,320,321]
["注文者319","下請",null,"工事名319","工事場所319","技術者319",null,"ﾚ",10319,20319,30319,40319,319,320,321,322]
["注文者320","元請",null,"工事名320","工事場所320","技術者320",null,"ﾚ",10320,20320,30320,40320,320,321,322,323]
["注文者321","下請",null,"工事名321","工事場所321","技術者321",null,"ﾚ",10321,20321,30321,40321,321,322,323,324]
["注文者322","元請",null,"工事名322","工事場所322","技術者322",null,"ﾚ",10322,20322,30322,40322,322,323,324,325]
["注文者323","下請",null,"工事名323","工事場所323","技術者323",null,"ﾚ",10323,20323,30323,40323,323,324,325,326]
["注文者324","元請",null,"工事名324","工事場所324","技術者324",null,"ﾚ",10324,20324,30324,40324,324,325,326,327]
["注文者325","下請",null,"工事名325","工事場所325","技術者325",null,"ﾚ",10325,20325,30325,40325,325,326,327,328]
["注文者326","元請",null,"工事名326","工事場所326","技術者326",null,"ﾚ",10326,20326,30326,40326,326,327,328,329]
["注文者327","下請",null,"工事名327","工事場所327","技術者327",null,"ﾚ",10327,20327,30327,40327,327,328,329,330]
["注文者328","元請",null,"工事名328","工事場所328","技術者328",null,"ﾚ",10328,20328,30328,40328,328,329,330,331]
["注文者329","下請",null,"工事名329","工事場所329","技術者329",null,"ﾚ",10329,20329,30329,40329,329,330,331,332]
["注文者330","元請",null,"工事名330","工事場所330","技術者330",null,"ﾚ",10330,20330,30330,40330,330,331,332,333]
["注文者331","下請",null,"工事名331","工事場所331","技術者331",null,"ﾚ",10331,20331,30331,40331,331,332,333,334]
["注文者332","元請",null,"工事名332","工事場所332","技術者332",null,"ﾚ",10332,20332,30332,40332,332,333,334,335]
["注文者333","下請",null,"工事名333","工事場所333","技術者333",null,"ﾚ",10333,20333,30333,40333,333,334,335,336]
["注文者334","元請",null,"工事名334","工事場所334","技術者334",null,"ﾚ",10334,20334,30334,40334,334,335,336,337]
["注文者335","下請",null,"工事名335","工事場所335","技術者335",null,"ﾚ",10335,20335,30335,40335,335,336,337,338]
["注文者336","元請",null,"工事名336","工事場所336","技術者336",null,"ﾚ",10336,20336,30336,40336,336,337,338,339]
["注文者337","下請",null,"工事名337","工事場所337","技術者337",null,"ﾚ",10337,20337,30337,40337,337,338,339,340]
["注文者338","元請",null,"工事名338","工事場所338","技術者338",null,"ﾚ",10338,20338,30338,40338,338,339,340,341]
["注文者339","下請",null,"工事名339","工事場所339","技術者339",null,"ﾚ",10339,20339,30339,40339,339,340,341,342]
["注文者340","元請",null,"工事名340","工事場所340","技術者340",null,"ﾚ",10340,20340,30340,40340,340,341,342,343]
["注文者341","下請",null,"工事名341","工事場所341","技術者341",null,"ﾚ",10341,20341,30341,40341,341,342,343,344]
["注文者342","元請",null,"工事名342","工事場所342","技術者342",null,"ﾚ",10342,20342,30342,40342,342,343,344,345]
["注文者343","下請",null,"工事名343","工事場所343","技術者343",null,"ﾚ",10343,20343,30343,40343,343,344,345,346]
["注文者344","元請",null,"工事名344","工事場所344","技術者344",null,"ﾚ",10344,20344,30344,40344,344,345,346,347]
["注文者345","下請",null,"工事名345","工事場所345","技術者345",null,"ﾚ",10345,20345,30345,40345,345,346,347,348]
["注文者346","元請",null,"工事名346","工事場所346","技術者346",null,"ﾚ",10346,20346,30346,40346,346,347,348,349]
["注文者347","下請",null,"工事名347","工事場所347","技術者347",null,"ﾚ",10347,20347,30347,40347,347,348,349,350]
["注文者348","元請",null,"工事名348","工事場所348","技術者348",null,"ﾚ",10348,20348,30348,40348,348,349,350,351]
["注文者349","下請",null,"工事名349","工事場所349","技術者349",null,"ﾚ",10349,20349,30349,40349,349,350,351,352]
["注文者350","元請",null,"工事名350","工事場所350","技術者350",null,"ﾚ",10350,20350,30350,40350,350,351,352,353]
["注文者351","下請",null,"工事名351","工事場所351","技術者351",null,"ﾚ",10351,20351,30351,40351,351,352,353,354]
["注文者352","元請",null,"工事名352","工事場所352","技術者352",null,"ﾚ",10352,20352,30352,40352,352,353,354,355]
["注文者353","下請",null,"工事名353","工事場所353","技術者353",null,"ﾚ",10353,20353,30353,40353,353,354,355,356]
["注文者354","元請",null,"工事名354","工事場所354","技術者354",null,"ﾚ",10354,20354,30354,40354,354,355,356,357]
["注文者355","下請",null,"工事名355","工事場所355","技術者355",null,"ﾚ",10355,20355,30355,40355,355,356,357,358]
["注文者356","元請",null,"工事名356","工事場所356","技術者356",null,"ﾚ",10356,20356,30356,40356,356,357,358,359]
["注文者357","下請",null,"工事名357","工事場所357","技術者357",null,"ﾚ",10357,20357,30357,40357,357,358,359,360]
["注文者358","元請",null,"工事名358","工事場所358","技術者358",null,"ﾚ",10358,20358,30358,40358,358,359,360,361]
["注文者359","下請",null,"工事名359","工事場所359","技術者359",null,"ﾚ",10359,20359,30359,40359,359,360,361,362]
["注文者360","元請",null,"工事名360","工事場所360","技術者360",null,"ﾚ",10360,20360,30360,40360,360,361,362,363]
["注文者361","下請",null,"工事名361","工事場所361","技術者361",null,"ﾚ",10361,20361,30361,40361,361,362,363,364]
["注文者362","元請",null,"工事名362","工事場所362","技術者362",null,"ﾚ",10362,20362,30362,40362,362,363,364,365]
["注文者363","下請",null,"工事名363","工事場所363","技術者363",null,"ﾚ",10363,20363,30363,40363,363,364,365,366]
["注文者364","元請",null,"工事名364","工事場所364","技術者364",null,"ﾚ",10364,20364,30364,40364,364,365,366,367]
["注文者365","下請",null,"工事名365","工事場所365","技術者365",null,"ﾚ",10365,20365,30365,40365,365,366,367,368]
["注文者366","元請",null,"工事名366","工事場所366","技術者366",null,"ﾚ",10366,20366,30366,40366,366,367,368,369]
["注文者367","下請",null,"工事名367","工事場所367","技術者367",null,"ﾚ",10367,20367,30367,40367,367,368,369,370]
["注文者368","元請",null,"工事名368","工事場所368","技術者368",null,"ﾚ",10368,20368,30368,40368,368,369,370,371]
["注文者369","下請",null,"工事名369","工事場所369","技術者369",null,"ﾚ",10369,20369,30369,40369,369,370,371,372]
["注文者370","元請",null,"工事名370","工事場所370","技術者370",null,"ﾚ",10370,20370,30370,40370,370,371,372,373]
["注文者371","下請",null,"工事名371","工事場所371","技術者371",null,"ﾚ",10371,20371,30371,40371,371,372,373,374]
["注文者372","元請",null,"工事名372","工事場所372","技術者372",null,"ﾚ",10372,20372,30372,40372,372,373,374,375]
["注文者373","下請",null,"工事名373","工事場所373","技術者373",null,"ﾚ",10373,20373,30373,40373,373,374,375,376]
["注文者374","元請",null,"工事名374","工事場所374","技術者374",null,"ﾚ",10374,20374,30374,40374,374,375,376,377]
["注文者375","下請",null,"工事名375","工事場所375","技術者375",null,"ﾚ",10375,20375,30375,40375,375,376,377,378]
["注文者376","元請",null,"工事名376","工事場所376","技術者376",null,"ﾚ",10376,20376,30376,40376,376,377,378,379]
["注文者377","下請",null,"工事名377","工事場所377","技術者377",null,"ﾚ",10377,20377,30377,40377,377,378,379,380]
["注文者378","元請",null,"工事名378","工事場所378","技術者378",null,"ﾚ",10378,20378,30378,40378,378,379,380,381]
["注文者379","下請",null,"工事名379","工事場所379","技術者379",null,"ﾚ",10379,20379,30379,40379,379,380,381,382]
["注文者380","元請",null,"工事名380","工事場所380","技術者380",null,"ﾚ",10380,20380,30380,40380,380,381,382,383]
["注文者381","下請",null,"工事名381","工事場所381","技術者381",null,"ﾚ",10381,20381,30381,40381,381,382,383,384]
["注文者382","元請",null,"工事名382","工事場所382","技術者382",null,"ﾚ",10382,20382,30382,40382,382,383,384,385]
["注文者383","下請",null,"工事名383","工事場所383","技術者383",null,"ﾚ",10383,20383,30383,40383,383,384,385,386]
["注文者384","元請",null,"工事名384","工事場所384","技術者384",null,"ﾚ",10384,20384,30384,40384,384,385,386,387]
["注文者385","下請",null,"工事名385","工事場所385","技術者385",null,"ﾚ",10385,20385,30385,40385,385,386,387,388]
["注文者386","元請",null,"工事名386","工事場所386","技術者386",null,"ﾚ",10386,20386,30386,40386,386,387,388,389]
["注文者387","下請",null,"工事名387","工事場所387","技術者387",null,"ﾚ",10387,20387,30387,40387,387,388,389,390]
["注文者388","元請",null,"工事名388","工事場所388","技術者388",null,"ﾚ",10388,20388,30388,40388,388,389,390,391]
["注文者389","下請",null,"工事名389","工事場所389","技術者389",null,"ﾚ",10389,20389,30389,40389,389,390,391,392]
["注文者390","元請",null,"工事名390","工事場所390","技術者390",null,"ﾚ",10390,20390,30390,40390,390,391,392,393]
["注文者391","下請",null,"工事名391","工事場所391","技術者391",null,"ﾚ",10391,20391,30391,40391,391,392,393,394]
["注文者392","元請",null,"工事名392","工事場所392","技術者392",null,"ﾚ",10392,20392,30392,40392,392,393,394,395]
["注文者393","下請",null,"工事名393","工事場所393","技術者393",null,"ﾚ",10393,20393,30393,40393,393,394,395,396]
["注文者394","元請",null,"工事名394","工事場所394","技術者394",null,"ﾚ",10394,20394,30394,40394,394,395,396,397]
["注文者395","下請",null,"工事名395","工事場所395","技術者395",null,"ﾚ",10395,20395,30395,40395,395,396,397,398]
["注文者396","元請",null,"工事名396","工事場所396","技術者396",null,"ﾚ",10396,20396,30396,40396,396,397,398,399]
["注文者397","下請",null,"工事名397","工事場所397","技術者397",null,"ﾚ",10397,20397,30397,40397,397,398,399,400]
["注文者398","元請",null,"工事名398","工事場所398","技術者398",null,"ﾚ",10398,20398,30398,40398,398,399,400,401]
["注文者399","下請",null,"工事名399","工事場所399","技術者399",null,"ﾚ",10399,20399,30399,40399,399,400,401,402]
["注文者400","元請",null,"工事名400","工事場所400","技術者400",null,"ﾚ",10400,20400,30400,40400,400,401,402,403]
["注文者401","下請",null,"工事名401","工事場所401","技術者401",null,"ﾚ",10401,20401,30401,40401,401,402,403,404]
["注文者402","元請",null,"工事名402","工事場所402","技術者402",null,"ﾚ",10402,20402,30402,40402,402,403,404,405]
["注文者403","下請",null,"工事名403","工事場所403","技術者403",null,"ﾚ",10403,20403,30403,40403,403,404,405,406]
["注文者404","元請",null,"工事名404","工事場所404","技術者404",null,"ﾚ",10404,20404,30404,40404,404,405,406,407]
["注文者405","下請",null,"工事名405","工事場所405","技術者405",null,"ﾚ",10405,20405,30405,40405,405,406,407,408]
["注文者406","元請",null,"工事名406","工事場所406","技術者406",null,"ﾚ",10406,20406,30406,40406,406,407,408,409]
["注文者407","下請",null,"工事名407","工事場所407","技術者407",null,"ﾚ",10407,20407,30407,40407,407,408,409,410]
["注文者408","元請",null,"工事名408","工事場所408","技術者408",null,"ﾚ",10408,20408,30408,40408,408,409,410,411]
["注文者409","下請",null,"工事名409","工事場所409","技術者409",null,"ﾚ",10409,20409,30409,40409,409,410,411,412]
["注文者410","元請",null,"工事名410","工事場所410","技術者410",null,"ﾚ",10410,20410,30410,40410,410,411,412,413]
["注文者411","下請",null,"工事名411","工事場所411","技術者411",null,"ﾚ",10411,20411,30411,40411,411,412,413,414]
["注文者412","元請",null,"工事名412","工事場所412","技術者412",null,"ﾚ",10412,20412,30412,40412,412,413,414,415]
["注文者413","下請",null,"工事名413","工事場所413","技術者413",null,"ﾚ",10413,20413,30413,40413,413,414,415,416]
["注文者414","元請",null,"工事名414","工事場所414","技術者414",null,"ﾚ",10414,20414,30414,40414,414,415,416,417]
["注文者415","下請",null,"工事名415","工事場所415","技術者415",null,"ﾚ",10415,20415,30415,40415,415,416,417,418]
["注文者416","元請",null,"工事名416","工事場所416","技術者416",null,"ﾚ",10416,20416,30416,40416,416,417,418,419]
["注文者417","下請",null,"工事名417","工事場所417","技術者417",null,"ﾚ",10417,20417,30417,40417,417,418,419,420]
["注文者418","元請",null,"工事名418","工事場所418","技術者418",null,"ﾚ",10418,20418,30418,40418,418,419,420,421]
["注文者419","下請",null,"工事名419","工事場所419","技術者419",null,"ﾚ",10419,20419,30419,40419,419,420,421,422]
["注文者420","元請",null,"工事名420","工事場所420","技術者420",null,"ﾚ",10420,20420,30420,40420,420,421,422,423]
["注文者421","下請",null,"工事名421","工事場所421","技術者421",null,"ﾚ",10421,20421,30421,40421,421,422,423,424]
["注文者422","元請",null,"工事名422","工事場所422","技術者422",null,"ﾚ",10422,20422,30422,40422,422,423,424,425]
["注文者423","下請",null,"工事名423","工事場所423","技術者423",null,"ﾚ",10423,20423,30423,40423,423,424,425,426]
["注文者424","元請",null,"工事名424","工事場所424","技術者424",null,"ﾚ",10424,20424,30424,40424,424,425,426,427]
["注文者425","下請",null,"工事名425","工事場所425","技術者425",null,"ﾚ",10425,20425,30425,40425,425,426,427,428]
["注文者426","元請",null,"工事名426","工事場所426","技術者426",null,"ﾚ",10426,20426,30426,40426,426,427,428,429]
["注文者427","下請",null,"工事名427","工事場所427","技術者427",null,"ﾚ",10427,20427,30427,40427,427,428,429,430]
["注文者428","元請",null,"工事名428","工事場所428","技術者428",null,"ﾚ",10428,20428,30428,40428,428,429,430,431]
["注文者429","下請",null,"工事名429","工事場所429","技術者429",null,"ﾚ",10429,20429,30429,40429,429,430,431,432]
["注文者430","元請",null,"工事名430","工事場所430","技術者430",null,"ﾚ",10430,20430,30430,40430,430,431,432,433]
["注文者431","下請",null,"工事名431","工事場所431","技術者431",null,"ﾚ",10431,20431,30431,40431,431,432,433,434]
["注文者432","元請",null,"工事名432","工事場所432","技術者432",null,"ﾚ",10432,20432,30432,40432,432,433,434,435]
["注文者433","下請",null,"工事名433","工事場所433","技術者433",null,"ﾚ",10433,20433,30433,40433,433,434,435,436]
["注文者434","元請",null,"工事名434","工事場所434","技術者434",null,"ﾚ",10434,20434,30434,40434,434,435,436,437]
["注文者435","下請",null,"工事名435","工事場所435","技術者435",null,"ﾚ",10435,20435,30435,40435,435,436,437,438]
["注文者436","元請",null,"工事名436","工事場所436","技術者436",null,"ﾚ",10436,20436,30436,40436,436,437,438,439]
["注文者437","下請",null,"工事名437","工事場所437","技術者437",null,"ﾚ",10437,20437,30437,40437,437,438,439,440]
["注文者438","元請",null,"工事名438","工事場所438","技術者438",null,"ﾚ",10438,20438,30438,40438,438,439,440,441]
["注文者439","下請",null,"工事名439","工事場所439","技術者439",null,"ﾚ",10439,20439,30439,40439,439,440,441,442]
["注文者440","元請",null,"工事名440","工事場所440","技術者440",null,"ﾚ",10440,20440,30440,40440,440,441,442,443]
["注文者441","下請",null,"工事名441","工事場所441","技術者441",null,"ﾚ",10441,20441,30441,40441,441,442,443,444]
["注文者442","元請",null,"工事名442","工事場所442","技術者442",null,"ﾚ",10442,20442,30442,40442,442,443,444,445]
["注文者443","下請",null,"工事名443","工事場所443","技術者443",null,"ﾚ",10443,20443,30443,40443,443,444,445,446]
["注文者444","元請",null,"工事名444","工事場所444","技術者444",null,"ﾚ",10444,20444,30444,40444,444,445,446,447]
["注文者445","下請",null,"工事名445","工事場所445","技術者445",null,"ﾚ",10445,20445,30445,40445,445,446,447,448]
["注文者446","元請",null,"工事名446","工事場所446","技術者446",null,"ﾚ",10446,20446,30446,40446,446,447,448,449]
["注文者447","下請",null,"工事名447","工事場所447","技術者447",null,"ﾚ",10447,20447,30447,40447,447,448,449,450]
["注文者448","元請",null,"工事名448","工事場所448","技術者448",null,"ﾚ",10448,20448,30448,40448,448,449,450,451]
["注文者449","下請",null,"工事名449","工事場所449","技術者449",null,"ﾚ",10449,20449,30449,40449,449,450,451,452]
["注文者450","元請",null,"工事名450","工事場所450","技術者450",null,"ﾚ",10450,20450,30450,40450,450,451,452,453]
["注文者451","下請",null,"工事名451","工事場所451","技術者451",null,"ﾚ",10451,20451,30451,40451,451,452,453,454]
["注文者452","元請",null,"工事名452","工事場所452","技術者452",null,"ﾚ",10452,20452,30452,40452,452,453,454,455]
["注文者453","下請",null,"工事名453","工事場所453","技術者453",null,"ﾚ",10453,20453,30453,40453,453,454,455,456]
["注文者454","元請",null,"工事名454","工事場所454","技術者454",null,"ﾚ",10454,20454,30454,40454,454,455,456,457]
["注文者455","下請",null,"工事名455","工事場所455","技術者455",null,"ﾚ",10455,20455,30455,40455,455,456,457,458]
["注文者456","元請",null,"工事名456","工事場所456","技術者456",null,"ﾚ",10456,20456,30456,40456,456,457,458,459]
["注文者457","下請",null,"工事名457","工事場所457","技術者457",null,"ﾚ",10457,20457,30457,40457,457,458,459,460]
["注文者458","元請",null,"工事名458","工事場所458","技術者458",null,"ﾚ",10458,20458,30458,40458,458,459,460,461]
["注文者459","下請",null,"工事名459","工事場所459","技術者459",null,"ﾚ",10459,20459,30459,40459,459,460,461,462]
["注文者460","元請",null,"工事名460","工事場所460","技術者460",null,"ﾚ",10460,20460,30460,40460,460,461,462,463]
["注文者461","下請",null,"工事名461","工事場所461","技術者461",null,"ﾚ",10461,20461,30461,40461,461,462,463,464]
["注文者462","元請",null,"工事名462","工事場所462","技術者462",null,"ﾚ",10462,20462,30462,40462,462,463,464,465]
["注文者463","下請",null,"工事名463","工事場所463","技術者463",null,"ﾚ",10463,20463,30463,40463,463,464,465,466]
["注文者464","元請",null,"工事名464","工事場所464","技術者464",null,"ﾚ",10464,20464,30464,40464,464,465,466,467]
["注文者465","下請",null,"工事名465","工事場所465","技術者465",null,"ﾚ",10465,20465,30465,40465,465,466,467,468]
["注文者466","元請",null,"工事名466","工事場所466","技術者466",null,"ﾚ",10466,20466,30466,40466,466,467,468,469]
["注文者467","下請",null,"工事名467","工事場所467","技術者467",null,"ﾚ",10467,20467,30467,40467,467,468,469,470]
["注文者468","元請",null,"工事名468","工事場所468","技術者468",null,"ﾚ",10468,20468,30468,40468,468,469,470,471]
["注文者469","下請",null,"工事名469","工事場所469","技術者469",null,"ﾚ",10469,20469,30469,40469,469,470,471,472]
["注文者470","元請",null,"工事名470","工事場所470","技術者470",null,"ﾚ",10470,20470,30470,40470,470,471,472,473]
["注文者471","下請",null,"工事名471","工事場所471","技術者471",null,"ﾚ",10471,20471,30471,40471,471,472,473,474]
["注文者472","元請",null,"工事名472","工事場所472","技術者472",null,"ﾚ",10472,20472,30472,40472,472,473,474,475]
["注文者473","下請",null,"工事名473","工事場所473","技術者473",null,"ﾚ",10473,20473,30473,40473,473,474,475,476]
["注文者474","元請",null,"工事名474","工事場所474","技術者474",null,"ﾚ",10474,20474,30474,40474,474,475,476,477]
["注文者475","下請",null,"工事名475","工事場所475","技術者475",null,"ﾚ",10475,20475,30475,40475,475,476,477,478]
["注文者476","元請",null,"工事名476","工事場所476","技術者476",null,"ﾚ",10476,20476,30476,40476,476,477,478,479]
["注文者477","下請",null,"工事名477","工事場所477","技術者477",null,"ﾚ",10477,20477,30477,40477,477,478,479,480]
["注文者478","元請",null,"工事名478","工事場所478","技術者478",null,"ﾚ",10478,20478,30478,40478,478,479,480,481]
["注文者479","下請",null,"工事名479","工事場所479","技術者479",null,"ﾚ",10479,20479,30479,40479,479,480,481,482]
["注文者480","元請",null,"工事名480","工事場所480","技術者480",null,"ﾚ",10480,20480,30480,40480,480,481,482,483]
["注文者481","下請",null,"工事名481","工事場所481","技術者481",null,"ﾚ",10481,20481,30481,40481,481,482,483,484]
["注文者482","元請",null,"工事名482","工事場所482","技術者482",null,"ﾚ",10482,20482,30482,40482,482,483,484,485]
["注文者483","下請",null,"工事名483","工事場所483","技術者483",null,"ﾚ",10483,20483,30483,40483,483,484,485,486]
["注文者484","元請",null,"工事名484","工事場所484","技術者484",null,"ﾚ",10484,20484,30484,40484,484,485,486,487]
["注文者485","下請",null,"工事名485","工事場所485","技術者485",null,"ﾚ",10485,20485,30485,40485,485,486,487,488]
["注文者486","元請",null,"工事名486","工事場所486","技術者486",null,"ﾚ",10486,20486,30486,40486,486,487,488,489]
["注文者487","下請",null,"工事名487","工事場所487","技術者487",null,"ﾚ",10487,20487,30487,40487,487,488,489,490]
["注文者488","元請",null,"工事名488","工事場所488","技術者488",null,"ﾚ",10488,20488,30488,40488,488,489,490,491]
["注文者489","下請",null,"工事名489","工事場所489","技術者489",null,"ﾚ",10489,20489,30489,40489,489,490,491,492]
["注文者490","元請",null,"工事名490","工事場所490","技術者490",null,"ﾚ",10490,20490,30490,40490,490,491,492,493]
["注文者491","下請",null,"工事名491","工事場所491","技術者491",null,"ﾚ",10491,20491,30491,40491,491,492,493,494]
["注文者492","元請",null,"工事名492","工事場所492","技術者492",null,"ﾚ",10492,20492,30492,40492,492,493,494,495]
["注文者493","下請",null,"工事名493","工事場所493","技術者493",null,"ﾚ",10493,20493,30493,40493,493,494,495,496]
["注文者494","元請",null,"工事名494","工事場所494","技術者494",null,"ﾚ",10494,20494,30494,40494,494,495,496,497]
["注文者495","下請",null,"工事名495","工事場所495","技術者495",null,"ﾚ",10495,20495,30495,40495,495,496,497,498]
["注文者496","元請",null,"工事名496","工事場所496","技術者496",null,"ﾚ",10496,20496,30496,40496,496,497,498,499]
["注文者497","下請",null,"工事名497","工事場所497","技術者497",null,"ﾚ",10497,20497,30497,40497,497,498,499,500]
["注文者498","元請",null,"工事名498","工事場所498","技術者498",null,"ﾚ",10498,20498,30498,40498,498,499,500,501]
["注文者499","下請",null,"工事名499","工事場所499","技術者499",null,"ﾚ",10499,20499,30499,40499,499,500,501,502]
["注文者500","元請",null,"工事名500","工事場所500","技術者500",null,"ﾚ",10500,20500,30500,40500,500,501,502,503]
["注文者501","下請",null,"工事名501","工事場所501","技術者501",null,"ﾚ",10501,20501,30501,40501,501,502,503,504]
["注文者502","元請",null,"工事名502","工事場所502","技術者502",null,"ﾚ",10502,20502,30502,40502,502,503,504,505]
["注文者503","下請",null,"工事名503","工事場所503","技術者503",null,"ﾚ",10503,20503,30503,40503,503,504,505,506]
["注文者504","元請",null,"工事名504","工事場所504","技術者504",null,"ﾚ",10504,20504,30504,40504,504,505,506,507]
["注文者505","下請",null,"工事名505","工事場所505","技術者505",null,"ﾚ",10505,20505,30505,40505,505,506,507,508]
["注文者506","元請",null,"工事名506","工事場所506","技術者506",null,"ﾚ",10506,20506,30506,40506,506,507,508,509]
["注文者507","下請",null,"工事名507","工事場所507","技術者507",null,"ﾚ",10507,20507,30507,40507,507,508,509,510]
["注文者508","元請",null,"工事名508","工事場所508","技術者508",null,"ﾚ",10508,20508,30508,40508,508,509,510,511]
["注文者509","下請",null,"工事名509","工事場所509","技術者509",null,"ﾚ",10509,20509,30509,40509,509,510,511,512]
["注文者510","元請",null,"工事名510","工事場所510","技術者510",null,"ﾚ",10510,20510,30510,40510,510,511,512,513]
["注文者511","下請",null,"工事名511","工事場所511","技術者511",null,"ﾚ",10511,20511,30511,40511,511,512,513,514]
["注文者512","元請",null,"工事名512","工事場所512","技術者512",null,"ﾚ",10512,20512,30512,40512,512,513,514,515]
["注文者513","下請",null,"工事名513","工事場所513","技術者513",null,"ﾚ",10513,20513,30513,40513,513,514,515,516]
["注文者514","元請",null,"工事名514","工事場所514","技術者514",null,"ﾚ",10514,20514,30514,40514,514,515,516,517]
["注文者515","下請",null,"工事名515","工事場所515","技術者515",null,"ﾚ",10515,20515,30515,40515,515,516,517,518]
["注文者516","元請",null,"工事名516","工事場所516","技術者516",null,"ﾚ",10516,20516,30516,40516,516,517,518,519]
["注文者517","下請",null,"工事名517","工事場所517","技術者517",null,"ﾚ",10517,20517,30517,40517,517,518,519,520]
["注文者518","元請",null,"工事名518","工事場所518","技術者518",null,"ﾚ",10518,20518,30518,40518,518,519,520,521]
["注文者519","下請",null,"工事名519","工事場所519","技術者519",null,"ﾚ",10519,20519,30519,40519,519,520,521,522]
["注文者520","元請",null,"工事名520","工事場所520","技術者520",null,"ﾚ",10520,20520,30520,40520,520,521,522,523]
["注文者521","下請",null,"工事名521","工事場所521","技術者521",null,"ﾚ",10521,20521,30521,40521,521,522,523,524]
["注文者522","元請",null,"工事名522","工事場所522","技術者522",null,"ﾚ",10522,20522,30522,40522,522,523,524,525]
["注文者523","下請",null,"工事名523","工事場所523","技術者523",null,"ﾚ",10523,20523,30523,40523,523,524,525,526]
["注文者524","元請",null,"工事名524","工事場所524","技術者524",null,"ﾚ",10524,20524,30524,40524,524,525,526,527]
["注文者525","下請",null,"工事名525","工事場所525","技術者525",null,"ﾚ",10525,20525,30525,40525,525,526,527,528]
["注文者526","元請",null,"工事名526","工事場所526","技術者526",null,"ﾚ",10526,20526,30526,40526,526,527,528,529]
["注文者527","下請",null,"工事名527","工事場所527","技術者527",null,"ﾚ",10527,20527,30527,40527,527,528,529,530]
["注文者528","元請",null,"工事名528","工事場所528","技術者528",null,"ﾚ",10528,20528,30528,40528,528,529,530,531]
["注文者529","下請",null,"工事名529","工事場所529","技術者529",null,"ﾚ",10529,20529,30529,40529,529,530,531,532]
["注文者530","元請",null,"工事名530","工事場所530","技術者530",null,"ﾚ",10530,20530,30530,40530,530,531,532,533]
["注文者531","下請",null,"工事名531","工事場所531","技術者531",null,"ﾚ",10531,20531,30531,40531,531,532,533,534]
["注文者532","元請",null,"工事名532","工事場所532","技術者532",null,"ﾚ",10532,20532,30532,40532,532,533,534,535]
["注文者533","下請",null,"工事名533","工事場所533","技術者533",null,"ﾚ",10533,20533,30533,40533,533,534,535,536]
["注文者534","元請",null,"工事名534","工事場所534","技術者534",null,"ﾚ",10534,20534,30534,40534,534,535,536,537]
["注文者535","下請",null,"工事名535","工事場所535","技術者535",null,"ﾚ",10535,20535,30535,40535,535,536,537,538]
["注文者536","元請",null,"工事名536","工事場所536","技術者536",null,"ﾚ",10536,20536,30536,40536,536,537,538,539]
["注文者537","下請",null,"工事名537","工事場所537","技術者537",null,"ﾚ",10537,20537,30537,40537,537,538,539,540]
["注文者538","元請",null,"工事名538","工事場所538","技術者538",null,"ﾚ",10538,20538,30538,40538,538,539,540,541]
["注文者539","下請",null,"工事名539","工事場所539","技術者539",null,"ﾚ",10539,20539,30539,40539,539,540,541,542]
["注文者540","元請",null,"工事名540","工事場所540","技術者540",null,"ﾚ",10540,20540,30540,40540,540,541,542,543]
["注文者541","下請",null,"工事名541","工事場所541","技術者541",null,"ﾚ",10541,20541,30541,40541,541,542,543,544]
["注文者542","元請",null,"工事名542","工事場所542","技術者542",null,"ﾚ",10542,20542,30542,40542,542,543,544,545]
["注文者543","下請",null,"工事名543","工事場所543","技術者543",null,"ﾚ",10543,20543,30543,40543,543,544,545,546]
["注文者544","元請",null,"工事名544","工事場所544","技術者544",null,"ﾚ",10544,20544,30544,40544,544,545,546,547]
["注文者545","下請",null,"工事名545","工事場所545","技術者545",null,"ﾚ",10545,20545,30545,40545,545,546,547,548]
["注文者546","元請",null,"工事名546","工事場所546","技術者546",null,"ﾚ",10546,20546,30546,40546,546,547,548,549]
["注文者547","下請",null,"工事名547","工事場所547","技術者547",null,"ﾚ",10547,20547,30547,40547,547,548,549,550]
["注文者548","元請",null,"工事名548","工事場所548","技術者548",null,"ﾚ",10548,20548,30548,40548,548,549,550,551]
["注文者549","下請",null,"工事名549","工事場所549","技術者549",null,"ﾚ",10549,20549,30549,40549,549,550,551,552]
["注文者550","元請",null,"工事名550","工事場所550","技術者550",null,"ﾚ",10550,20550,30550,40550,550,551,552,553]
["注文者551","下請",null,"工事名551","工事場所551","技術者551",null,"ﾚ",10551,20551,30551,40551,551,552,553,554]
["注文者552","元請",null,"工事名552","工事場所552","技術者552",null,"ﾚ",10552,20552,30552,40552,552,553,554,555]
["注文者553","下請",null,"工事名553","工事場所553","技術者553",null,"ﾚ",10553,20553,30553,40553,553,554,555,556]
["注文者554","元請",null,"工事名554","工事場所554","技術者554",null,"ﾚ",10554,20554,30554,40554,554,555,556,557]
["注文者555","下請",null,"工事名555","工事場所555","技術者555",null,"ﾚ",10555,20555,30555,40555,555,556,557,558]
["注文者556","元請",null,"工事名556","工事場所556","技術者556",null,"ﾚ",10556,20556,30556,40556,556,557,558,559]
["注文者557","下請",null,"工事名557","工事場所557","技術者557",null,"ﾚ",10557,20557,30557,40557,557,558,559,560]
["注文者558","元請",null,"工事名558","工事場所558","技術者558",null,"ﾚ",10558,20558,30558,40558,558,559,560,561]
["注文者559","下請",null,"工事名559","工事場所559","技術者559",null,"ﾚ",10559,20559,30559,40559,559,560,561,562]
["注文者560","元請",null,"工事名560","工事場所560","技術者560",null,"ﾚ",10560,20560,30560,40560,560,561,562,563]
["注文者561","下請",null,"工事名561","工事場所561","技術者561",null,"ﾚ",10561,20561,30561,40561,561,562,563,564]
["注文者562","元請",null,"工事名562","工事場所562","技術者562",null,"ﾚ",10562,20562,30562,40562,562,563,564,565]
["注文者563","下請",null,"工事名563","工事場所563","技術者563",null,"ﾚ",10563,20563,30563,40563,563,564,565,566]
["注文者564","元請",null,"工事名564","工事場所564","技術者564",null,"ﾚ",10564,20564,30564,40564,564,565,566,567]
["注文者565","下請",null,"工事名565","工事場所565","技術者565",null,"ﾚ",10565,20565,30565,40565,565,566,567,568]
["注文者566","元請",null,"工事名566","工事場所566","技術者566",null,"ﾚ",10566,20566,30566,40566,566,567,568,569]
["注文者567","下請",null,"工事名567","工事場所567","技術者567",null,"ﾚ",10567,20567,30567,40567,567,568,569,570]
["注文者568","元請",null,"工事名568","工事場所568","技術者568",null,"ﾚ",10568,20568,30568,40568,568,569,570,571]
["注文者569","下請",null,"工事名569","工事場所569","技術者569",null,"ﾚ",10569,20569,30569,40569,569,570,571,572]
["注文者570","元請",null,"工事名570","工事場所570","技術者570",null,"ﾚ",10570,20570,30570,40570,570,571,572,573]
["注文者571","下請",null,"工事名571","工事場所571","技術者571",null,"ﾚ",10571,20571,30571,40571,571,572,573,574]
["注文者572","元請",null,"工事名572","工事場所572","技術者572",null,"ﾚ",10572,20572,30572,40572,572,573,574,575]
["注文者573","下請",null,"工事名573","工事場所573","技術者573",null,"ﾚ",10573,20573,30573,40573,573,574,575,576]
["注文者574","元請",null,"工事名574","工事場所574","技術者574",null,"ﾚ",10574,20574,30574,40574,574,575,576,577]
["注文者575","下請",null,"工事名575","工事場所575","技術者575",null,"ﾚ",10575,20575,30575,40575,575,576,577,578]
["注文者576","元請",null,"工事名576","工事場所576","技術者576",null,"ﾚ",10576,20576,30576,40576,576,577,578,579]
["注文者577","下請",null,"工事名577","工事場所577","技術者577",null,"ﾚ",10577,20577,30577,40577,577,578,579,580]
["注文者578","元請",null,"工事名578","工事場所578","技術者578",null,"ﾚ",10578,20578,30578,40578,578,579,580,581]
["注文者579","下請",null,"工事名579","工事場所579","技術者579",null,"ﾚ",10579,20579,30579,40579,579,580,581,582]
["注文者580","元請",null,"工事名580","工事場所580","技術者580",null,"ﾚ",10580,20580,30580,40580,580,581,582,583]
["注文者581","下請",null,"工事名581","工事場所581","技術者581",null,"ﾚ",10581,20581,30581,40581,581,582,583,584]
["注文者582","元請",null,"工事名582","工事場所582","技術者582",null,"ﾚ",10582,20582,30582,40582,582,583,584,585]
["注文者583","下請",null,"工事名583","工事場所583","技術者583",null,"ﾚ",10583,20583,30583,40583,583,584,585,586]
["注文者584","元請",null,"工事名584","工事場所584","技術者584",null,"ﾚ",10584,20584,30584,40584,584,585,586,587]
["注文者585","下請",null,"工事名585","工事場所585","技術者585",null,"ﾚ",10585,20585,30585,40585,585,586,587,588]
["注文者586","元請",null,"工事名586","工事場所586","技術者586",null,"ﾚ",10586,20586,30586,40586,586,587,588,589]
["注文者587","下請",null,"工事名587","工事場所587","技術者587",null,"ﾚ",10587,20587,30587,40587,587,588,589,590]
["注文者588","元請",null,"工事名588","工事場所588","技術者588",null,"ﾚ",10588,20588,30588,40588,588,589,590,591]
["注文者589","下請",null,"工事名589","工事場所589","技術者589",null,"ﾚ",10589,20589,30589,40589,589,590,591,592]
["注文者590","元請",null,"工事名590","工事場所590","技術者590",null,"ﾚ",10590,20590,30590,40590,590,591,592,593]
["注文者591","下請",null,"工事名591","工事場所591","技術者591",null,"ﾚ",10591,20591,30591,40591,591,592,593,594]
["注文者592","元請",null,"工事名592","工事場所592","技術者592",null,"ﾚ",10592,20592,30592,40592,592,593,594,595]
["注文者593","下請",null,"工事名593","工事場所593","技術者593",null,"ﾚ",10593,20593,30593,40593,593,594,595,596]
["注文者594","元請",null,"工事名594","工事場所594","技術者594",null,"ﾚ",10594,20594,30594,40594,594,595,596,597]
["注文者595","下請",null,"工事名595","工事場所595","技術者595",null,"ﾚ",10595,20595,30595,40595,595,596,597,598]
["注文者596","元請",null,"工事名596","工事場所596","技術者596",null,"ﾚ",10596,20596,30596,40596,596,597,598,599]
["注文者597","下請",null,"工事名597","工事場所597","技術者597",null,"ﾚ",10597,20597,30597,40597,597,598,599,600]
["注文者598","元請",null,"工事名598","工事場所598","技術者598",null,"ﾚ",10598,20598,30598,40598,598,599,600,601]
["注文者599","下請",null,"工事名599","工事場所599","技術者599",null,"ﾚ",10599,20599,30599,40599,599,600,601,602]
["注文者600","元請",null,"工事名600","工事場所600","技術者600",null,"ﾚ",10600,20600,30600,40600,600,601,602,603]
["注文者601","下請",null,"工事名601","工事場所601","技術者601",null,"ﾚ",10601,20601,30601,40601,601,602,603,604]
["注文者602","元請",null,"工事名602","工事場所602","技術者602",null,"ﾚ",10602,20602,30602,40602,602,603,604,605]
["注文者603","下請",null,"工事名603","工事場所603","技術者603",null,"ﾚ",10603,20603,30603,40603,603,604,605,606]
["注文者604","元請",null,"工事名604","工事場所604","技術者604",null,"ﾚ",10604,20604,30604,40604,604,605,606,607]
["注文者605","下請",null,"工事名605","工事場所605","技術者605",null,"ﾚ",10605,20605,30605,40605,605,606,607,608]
["注文者606","元請",null,"工事名606","工事場所606","技術者606",null,"ﾚ",10606,20606,30606,40606,606,607,608,609]
["注文者607","下請",null,"工事名607","工事場所607","技術者607",null,"ﾚ",10607,20607,30607,40607,607,608,609,610]
["注文者608","元請",null,"工事名608","工事場所608","技術者608",null,"ﾚ",10608,20608,30608,40608,608,609,610,611]
["注文者609","下請",null,"工事名609","工事場所609","技術者609",null,"ﾚ",10609,20609,30609,40609,609,610,611,612]
["注文者610","元請",null,"工事名610","工事場所610","技術者610",null,"ﾚ",10610,20610,30610,40610,610,611,612,613]
["注文者611","下請",null,"工事名611","工事場所611","技術者611",null,"ﾚ",10611,20611,30611,40611,611,612,613,614]
["注文者612","元請",null,"工事名612","工事場所612","技術者612",null,"ﾚ",10612,20612,30612,40612,612,613,614,615]
["注文者613","下請",null,"工事名613","工事場所613","技術者613",null,"ﾚ",10613,20613,30613,40613,613,614,615,616]
["注文者614","元請",null,"工事名614","工事場所614","技術者614",null,"ﾚ",10614,20614,30614,40614,614,615,616,617]
["注文者615","下請",null,"工事名615","工事場所615","技術者615",null,"ﾚ",10615,20615,30615,40615,615,616,617,618]
["注文者616","元請",null,"工事名616","工事場所616","技術者616",null,"ﾚ",10616,20616,30616,40616,616,617,618,619]
["注文者617","下請",null,"工事名617","工事場所617","技術者617",null,"ﾚ",10617,20617,30617,40617,617,618,619,620]
["注文者618","元請",null,"工事名618","工事場所618","技術者618",null,"ﾚ",10618,20618,30618,40618,618,619,620,621]
["注文者619","下請",null,"工事名619","工事場所619","技術者619",null,"ﾚ",10619,20619,30619,40619,619,620,621,622]
["注文者620","元請",null,"工事名620","工事場所620","技術者620",null,"ﾚ",10620,20620,30620,40620,620,621,622,623]
["注文者621","下請",null,"工事名621","工事場所621","技術者621",null,"ﾚ",10621,20621,30621,40621,621,622,623,624]
["注文者622","元請",null,"工事名622","工事場所622","技術者622",null,"ﾚ",10622,20622,30622,40622,622,623,624,625]
["注文者623","下請",null,"工事名623","工事場所623","技術者623",null,"ﾚ",10623,20623,30623,40623,623,624,625,626]
["注文者624","元請",null,"工事名624","工事場所624","技術者624",null,"ﾚ",10624,20624,30624,40624,624,625,626,627]
["注文者625","下請",null,"工事名625","工事場所625","技術者625",null,"ﾚ",10625,20625,30625,40625,625,626,627,628]
["注文者626","元請",null,"工事名626","工事場所626","技術者626",null,"ﾚ",10626,20626,30626,40626,626,627,628,629]
["注文者627","下請",null,"工事名627","工事場所627","技術者627",null,"ﾚ",10627,20627,30627,40627,627,628,629,630]
["注文者628","元請",null,"工事名628","工事場所628","技術者628",null,"ﾚ",10628,20628,30628,40628,628,629,630,631]
["注文者629","下請",null,"工事名629","工事場所629","技術者629",null,"ﾚ",10629,20629,30629,40629,629,630,631,632]
["注文者630","元請",null,"工事名630","工事場所630","技術者630",null,"ﾚ",10630,20630,30630,40630,630,631,632,633]
["注文者631","下請",null,"工事名631","工事場所631","技術者631",null,"ﾚ",10631,20631,30631,40631,631,632,633,634]
["注文者632","元請",null,"工事名632","工事場所632","技術者632",null,"ﾚ",10632,20632,30632,40632,632,633,634,635]
["注文者633","下請",null,"工事名633","工事場所633","技術者633",null,"ﾚ",10633,20633,30633,40633,633,634,635,636]
["注文者634","元請",null,"工事名634","工事場所634","技術者634",null,"ﾚ",10634,20634,30634,40634,634,635,636,637]
["注文者635","下請",null,"工事名635","工事場所635","技術者635",null,"ﾚ",10635,20635,30635,40635,635,636,637,638]
["注文者636","元請",null,"工事名636","工事場所636","技術者636",null,"ﾚ",10636,20636,30636,40636,636,637,638,639]
["注文者637","下請",null,"工事名637","工事場所637","技術者637",null,"ﾚ",10637,20637,30637,40637,637,638,639,640]
["注文者638","元請",null,"工事名638","工事場所638","技術者638",null,"ﾚ",10638,20638,30638,40638,638,639,640,641]
["注文者639","下請",null,"工事名639","工事場所639","技術者639",null,"ﾚ",10639,20639,30639,40639,639,640,641,642]
["注文者640","元請",null,"工事名640","工事場所640","技術者640",null,"ﾚ",10640,20640,30640,40640,640,641,642,643]
["注文者641","下請",null,"工事名641","工事場所641","技術者641",null,"ﾚ",10641,20641,30641,40641,641,642,643,644]
["注文者642","元請",null,"工事名642","工事場所642","技術者642",null,"ﾚ",10642,20642,30642,40642,642,643,644,645]
["注文者643","下請",null,"工事名643","工事場所643","技術者643",null,"ﾚ",10643,20643,30643,40643,643,644,645,646]
["注文者644","元請",null,"工事名644","工事場所644","技術者644",null,"ﾚ",10644,20644,30644,40644,644,645,646,647]
["注文者645","下請",null,"工事名645","工事場所645","技術者645",null,"ﾚ",10645,20645,30645,40645,645,646,647,648]
["注文者646","元請",null,"工事名646","工事場所646","技術者646",null,"ﾚ",10646,20646,30646,40646,646,647,648,649]
["注文者647","下請",null,"工事名647","工事場所647","技術者647",null,"ﾚ",10647,20647,30647,40647,647,648,649,650]
["注文者648","元請",null,"工事名648","工事場所648","技術者648",null,"ﾚ",10648,20648,30648,40648,648,649,650,651]
["注文者649","下請",null,"工事名649","工事場所649","技術者649",null,"ﾚ",10649,20649,30649,40649,649,650,651,652]
["注文者650","元請",null,"工事名650","工事場所650","技術者650",null,"ﾚ",10650,20650,30650,40650,650,651,652,653]
["注文者651","下請","JV","工事名651","工事場所651","技術者651","ﾚ",null,10651,20651,30651,40651,651,652,653,654]
["注文者652","元請","JV","工事名652","工事場所652","技術者652","ﾚ",null,10652,20652,30652,40652,652,653,654,655]
["注文者653","下請","JV","工事名653","工事場所653","技術者653","ﾚ",null,10653,20653,30653,40653,653,654,655,656]
["注文者654","元請","JV","工事名654","工事場所654","技術者654","ﾚ",null,10654,20654,30654,40654,654,655,656,657]
["注文者655","下請","JV","工事名655","工事場所655","技術者655","ﾚ",null,10655,20655,30655,40655,655,656,657,658]
["注文者656","元請","JV","工事名656","工事場所656","技術者656","ﾚ",null,10656,20656,30656,40656,656,657,658,659]
["注文者657","下請","JV","工事名657","工事場所657","技術者657","ﾚ",null,10657,20657,30657,40657,657,658,659,660]
["注文者658","元請","JV","工事名658","工事場所658","技術者658","ﾚ",null,10658,20658,30658,40658,658,659,660,661]
["注文者659","下請","JV","工事名659","工事場所659","技術者659","ﾚ",null,10659,20659,30659,40659,659,660,661,662]
["注文者660","元請","JV","工事名660","工事場所660","技術者660","ﾚ",null,10660,20660,30660,40660,660,661,662,663]
["注文者661","下請","JV","工事名661","工事場所661","技術者661","ﾚ",null,10661,20661,30661,40661,661,662,663,664]
["注文者662","元請","JV","工事名662","工事場所662","技術者662","ﾚ",null,10662,20662,30662,40662,662,663,664,665]
["注文者663","下請","JV","工事名663","工事場所663","技術者663","ﾚ",null,10663,20663,30663,40663,663,664,665,666]
["注文者664","元請","JV","工事名664","工事場所664","技術者664","ﾚ",null,10664,20664,30664,40664,664,665,666,667]
["注文者665","下請","JV","工事名665","工事場所665","技術者665","ﾚ",null,10665,20665,30665,40665,665,666,667,668]
["注文者666","元請","JV","工事名666","工事場所666","技術者666","ﾚ",null,10666,20666,30666,40666,666,667,668,669]
["注文者667","下請","JV","工事名667","工事場所667","技術者667","ﾚ",null,10667,20667,30667,40667,667,668,669,670]
["注文者668","元請","JV","工事名668","工事場所668","技術者668","ﾚ",null,10668,20668,30668,40668,668,669,670,671]
["注文者669","下請","JV","工事名669","工事場所669","技術者669","ﾚ",null,10669,20669,30669,40669,669,670,671,672]
["注文者670","元請","JV","工事名670","工事場所670","技術者670","ﾚ",null,10670,20670,30670,40670,670,671,672,673]
["注文者671","下請","JV","工事名671","工事場所671","技術者671","ﾚ",null,10671,20671,30671,40671,671,672,673,674]
["注文者672","元請","JV","工事名672","工事場所672","技術者672","ﾚ",null,10672,20672,30672,40672,672,673,674,675]
["注文者673","下請","JV","工事名673","工事場所673","技術者673","ﾚ",null,10673,20673,30673,40673,673,674,675,676]
["注文者674","元請","JV","工事名674","工事場所674","技術者674","ﾚ",null,10674,20674,30674,40674,674,675,676,677]
["注文者675","下請","JV","工事名675","工事場所675","技術者675","ﾚ",null,10675,20675,30675,40675,675,676,677,678]
["注文者676","元請","JV","工事名676","工事場所676","技術者676","ﾚ",null,10676,20676,30676,40676,676,677,678,679]
["注文者677","下請","JV","工事名677","工事場所677","技術者677","ﾚ",null,10677,20677,30677,40677,677,678,679,680]
["注文者678","元請","JV","工事名678","工事場所678","技術者678","ﾚ",null,10678,20678,30678,40678,678,679,680,681]
["注文者679","下請","JV","工事名679","工事場所679","技術者679","ﾚ",null,10679,20679,30679,40679,679,680,681,682]
["注文者680","元請","JV","工事名680","工事場所680","技術者680","ﾚ",null,10680,20680,30680,40680,680,681,682,683]
["注文者681","下請","JV","工事名681","工事場所681","技術者681","ﾚ",null,10681,20681,30681,40681,681,682,683,684]
["注文者682","元請","JV","工事名682","工事場所682","技術者682","ﾚ",null,10682,20682,30682,40682,682,683,684,685]
["注文者683","下請","JV","工事名683","工事場所683","技術者683","ﾚ",null,10683,20683,30683,40683,683,684,685,686]
["注文者684","元請","JV","工事名684","工事場所684","技術者684","ﾚ",null,10684,20684,30684,40684,684,685,686,687]
["注文者685","下請","JV","工事名685","工事場所685","技術者685","ﾚ",null,10685,20685,30685,40685,685,686,687,688]
["注文者686","元請","JV","工事名686","工事場所686","技術者686","ﾚ",null,10686,20686,30686,40686,686,687,688,689]
["注文者687","下請","JV","工事名687","工事場所687","技術者687","ﾚ",null,10687,20687,30687,40687,687,688,689,690]
["注文者688","元請","JV","工事名688","工事場所688","技術者688","ﾚ",null,10688,20688,30688,40688,688,689,690,691]
["注文者689","下請","JV","工事名689","工事場所689","技術者689","ﾚ",null,10689,20689,30689,40689,689,690,691,692]
["注文者690","元請","JV","工事名690","工事場所690","技術者690","ﾚ",null,10690,20690,30690,40690,690,691,692,693]
["注文者691","下請","JV","工事名691","工事場所691","技術者691","ﾚ",null,10691,20691,30691,40691,691,692,693,694]
["注文者692","元請","JV","工事名692","工事場所692","技術者692","ﾚ",null,10692,20692,30692,40692,692,693,694,695]
["注文者693","下請","JV","工事名693","工事場所693","技術者693","ﾚ",null,10693,20693,30693,40693,693,694,695,696]
["注文者694","元請","JV","工事名694","工事場所694","技術者694","ﾚ",null,10694,20694,30694,40694,694,695,696,697]
["注文者695","下請","JV","工事名695","工事場所695","技術者695","ﾚ",null,10695,20695,30695,40695,695,696,697,698]
["注文者696","元請","JV","工事名696","工事場所696","技術者696","ﾚ",null,10696,20696,30696,40696,696,697,698,699]
["注文者697","下請","JV","工事名697","工事場所697","技術者697","ﾚ",null,10697,20697,30697,40697,697,698,699,700]
["注文者698","元請","JV","工事名698","工事場所698","技術者698","ﾚ",null,10698,20698,30698,40698,698,699,700,701]
["注文者699","下請","JV","工事名699","工事場所699","技術者699","ﾚ",null,10699,20699,30699,40699,699,700,701,702]
["注文者700","元請","JV","工事名700","工事場所700","技術者700","ﾚ",null,10700,20700,30700,40700,700,701,702,703]
["注文者701","下請","JV","工事名701","工事場所701","技術者701","ﾚ",null,10701,20701,30701,40701,701,702,703,704]
["注文者702","元請","JV","工事名702","工事場所702","技術者702","ﾚ",null,10702,20702,30702,40702,702,703,704,705]
["注文者703","下請","JV","工事名703","工事場所703","技術者703","ﾚ",null,10703,20703,30703,40703,703,704,705,706]
["注文者704","元請","JV","工事名704","工事場所704","技術者704","ﾚ",null,10704,20704,30704,40704,704,705,706,707]
["注文者705","下請","JV","工事名705","工事場所705","技術者705","ﾚ",null,10705,20705,30705,40705,705,706,707,708]
["注文者706","元請","JV","工事名706","工事場所706","技術者706","ﾚ",null,10706,20706,30706,40706,706,707,708,709]
["注文者707","下請","JV","工事名707","工事場所707","技術者707","ﾚ",null,10707,20707,30707,40707,707,708,709,710]
["注文者708","元請","JV","工事名708","工事場所708","技術者708","ﾚ",null,10708,20708,30708,40708,708,709,710,711]
["注文者709","下請","JV","工事名709","工事場所709","技術者709","ﾚ",null,10709,20709,30709,40709,709,710,711,712]
["注文者710","元請","JV","工事名710","工事場所710","技術者710","ﾚ",null,10710,20710,30710,40710,710,711,712,713]
["注文者711","下請","JV","工事名711","工事場所711","技術者711","ﾚ",null,10711,20711,30711,40711,711,712,713,714]
["注文者712","元請","JV","工事名712","工事場所712","技術者712","ﾚ",null,10712,20712,30712,40712,712,713,714,715]
["注文者713","下請","JV","工事名713","工事場所713","技術者713","ﾚ",null,10713,20713,30713,40713,713,714,715,716]
["注文者714","元請","JV","工事名714","工事場所714","技術者714","ﾚ",null,10714,20714,30714,40714,714,715,716,717]
["注文者715","下請","JV","工事名715","工事場所715","技術者715","ﾚ",null,10715,20715,30715,40715,715,716,717,718]
["注文者716","元請","JV","工事名716","工事場所716","技術者716","ﾚ",null,10716,20716,30716,40716,716,717,718,719]
["注文者717","下請","JV","工事名717","工事場所717","技術者717","ﾚ",null,10717,20717,30717,40717,717,718,719,720]
["注文者718","元請","JV","工事名718","工事場所718","技術者718","ﾚ",null,10718,20718,30718,40718,718,719,720,721]
["注文者719","下請","JV","工事名719","工事場所719","技術者719","ﾚ",null,10719,20719,30719,40719,719,720,721,722]
["注文者720","元請","JV","工事名720","工事場所720","技術者720","ﾚ",null,10720,20720,30720,40720,720,721,722,723]
["注文者721","下請","JV","工事名721","工事場所721","技術者721","ﾚ",null,10721,20721,30721,40721,721,722,723,724]
["注文者722","元請","JV","工事名722","工事場所722","技術者722","ﾚ",null,10722,20722,30722,40722,722,723,724,725]
["注文者723","下請","JV","工事名723","工事場所723","技術者723","ﾚ",null,10723,20723,30723,40723,723,724,725,726]
["注文者724","元請","JV","工事名724","工事場所724","技術者724","ﾚ",null,10724,20724,30724,40724,724,725,726,727]
["注文者725","下請","JV","工事名725","工事場所725","技術者725","ﾚ",null,10725,20725,30725,40725,725,726,727,728]
["注文者726","元請","JV","工事名726","工事場所726","技術者726","ﾚ",null,10726,20726,30726,40726,726,727,728,729]
["注文者727","下請","JV","工事名727","工事場所727","技術者727","ﾚ",null,10727,20727,30727,40727,727,728,729,730]
["注文者728","元請","JV","工事名728","工事場所728","技術者728","ﾚ",null,10728,20728,30728,40728,728,729,730,731]
["注文者729","下請","JV","工事名729","工事場所729","技術者729","ﾚ",null,10729,20729,30729,40729,729,730,731,732]
["注文者730","元請","JV","工事名730","工事場所730","技術者730","ﾚ",null,10730,20730,30730,40730,730,731,732,733]
["注文者731","下請","JV","工事名731","工事場所731","技術者731","ﾚ",null,10731,20731,30731,40731,731,732,733,734]
["注文者732","元請","JV","工事名732","工事場所732","技術者732","ﾚ",null,10732,20732,30732,40732,732,733,734,735]
["注文者733","下請","JV","工事名733","工事場所733","技術者733","ﾚ",null,10733,20733,30733,40733,733,734,735,736]
["注文者734","元請","JV","工事名734","工事場所734","技術者734","ﾚ",null,10734,20734,30734,40734,734,735,736,737]
["注文者735","下請","JV","工事名735","工事場所735","技術者735","ﾚ",null,10735,20735,30735,40735,735,736,737,738]
["注文者736","元請","JV","工事名736","工事場所736","技術者736","ﾚ",null,10736,20736,30736,40736,736,737,738,739]
["注文者737","下請","JV","工事名737","工事場所737","技術者737","ﾚ",null,10737,20737,30737,40737,737,738,739,740]
["注文者738","元請","JV","工事名738","工事場所738","技術者738","ﾚ",null,10738,20738,30738,40738,738,739,740,741]
["注文者739","下請","JV","工事名739","工事場所739","技術者739","ﾚ",null,10739,20739,30739,40739,739,740,741,742]
["注文者740","元請","JV","工事名740","工事場所740","技術者740","ﾚ",null,10740,20740,30740,40740,740,741,742,743]
["注文者741","下請","JV","工事名741","工事場所741","技術者741","ﾚ",null,10741,20741,30741,40741,741,742,743,744]
["注文者742","元請","JV","工事名742","工事場所742","技術者742","ﾚ",null,10742,20742,30742,40742,742,743,744,745]
["注文者743","下請","JV","工事名743","工事場所743","技術者743","ﾚ",null,10743,20743,30743,40743,743,744,745,746]
["注文者744","元請","JV","工事名744","工事場所744","技術者744","ﾚ",null,10744,20744,30744,40744,744,745,746,747]
["注文者745","下請","JV","工事名745","工事場所745","技術者745","ﾚ",null,10745,20745,30745,40745,745,746,747,748]
["注文者746","元請","JV","工事名746","工事場所746","技術者746","ﾚ",null,10746,20746,30746,40746,746,747,748,749]
["注文者747","下請","JV","工事名747","工事場所747","技術者747","ﾚ",null,10747,20747,30747,40747,747,748,749,750]
["注文者748","元請","JV","工事名748","工事場所748","技術者748","ﾚ",null,10748,20748,30748,40748,748,749,750,751]
["注文者749","下請","JV","工事名749","工事場所749","技術者749","ﾚ",null,10749,20749,30749,40749,749,750,751,752]
["注文者750","元請","JV","工事名750","工事場所750","技術者750","ﾚ",null,10750,20750,30750,40750,750,751,752,753]
["注文者751","下請","JV","工事名751","工事場所751","技術者751","ﾚ",null,10751,20751,30751,40751,751,752,753,754]
["注文者752","元請","JV","工事名752","工事場所752","技術者752","ﾚ",null,10752,20752,30752,40752,752,753,754,755]
["注文者753","下請","JV","工事名753","工事場所753","技術者753","ﾚ",null,10753,20753,30753,40753,753,754,755,756]
["注文者754","元請","JV","工事名754","工事場所754","技術者754","ﾚ",null,10754,20754,30754,40754,754,755,756,757]
["注文者755","下請","JV","工事名755","工事場所755","技術者755","ﾚ",null,10755,20755,30755,40755,755,756,757,758]
["注文者756","元請","JV","工事名756","工事場所756","技術者756","ﾚ",null,10756,20756,30756,40756,756,757,758,759]
["注文者757","下請","JV","工事名757","工事場所757","技術者757","ﾚ",null,10757,20757,30757,40757,757,758,759,760]
["注文者758","元請","JV","工事名758","工事場所758","技術者758","ﾚ",null,10758,20758,30758,40758,758,759,760,761]
["注文者759","下請","JV","工事名759","工事場所759","技術者759","ﾚ",null,10759,20759,30759,40759,759,760,761,762]
["注文者760","元請","JV","工事名760","工事場所760","技術者760","ﾚ",null,10760,20760,30760,40760,760,761,762,763]
["注文者761","下請","JV","工事名761","工事場所761","技術者761","ﾚ",null,10761,20761,30761,40761,761,762,763,764]
["注文者762","元請","JV","工事名762","工事場所762","技術者762","ﾚ",null,10762,20762,30762,40762,762,763,764,765]
["注文者763","下請","JV","工事名763","工事場所763","技術者763","ﾚ",null,10763,20763,30763,40763,763,764,765,766]
["注文者764","元請","JV","工事名764","工事場所764","技術者764","ﾚ",null,10764,20764,30764,40764,764,765,766,767]
["注文者765","下請","JV","工事名765","工事場所765","技術者765","ﾚ",null,10765,20765,30765,40765,765,766,767,768]
["注文者766","元請","JV","工事名766","工事場所766","技術者766","ﾚ",null,10766,20766,30766,40766,766,767,768,769]
["注文者767","下請","JV","工事名767","工事場所767","技術者767","ﾚ",null,10767,20767,30767,40767,767,768,769,770]
["注文者768","元請","JV","工事名768","工事場所768","技術者768","ﾚ",null,10768,20768,30768,40768,768,769,770,771]
["注文者769","下請","JV","工事名769","工事場所769","技術者769","ﾚ",null,10769,20769,30769,40769,769,770,771,772]
["注文者770","元請","JV","工事名770","工事場所770","技術者770","ﾚ",null,10770,20770,30770,40770,770,771,772,773]
["注文者771","下請","JV","工事名771","工事場所771","技術者771","ﾚ",null,10771,20771,30771,40771,771,772,773,774]
["注文者772","元請","JV","工事名772","工事場所772","技術者772","ﾚ",null,10772,20772,30772,40772,772,773,774,775]
["注文者773","下請","JV","工事名773","工事場所773","技術者773","ﾚ",null,10773,20773,30773,40773,773,774,775,776]
["注文者774","元請","JV","工事名774","工事場所774","技術者774","ﾚ",null,10774,20774,30774,40774,774,775,776,777]
["注文者775","下請","JV","工事名775","工事場所775","技術者775","ﾚ",null,10775,20775,30775,40775,775,776,777,778]
["注文者776","元請","JV","工事名776","工事場所776","技術者776","ﾚ",null,10776,20776,30776,40776,776,777,778,779]
["注文者777","下請","JV","工事名777","工事場所777","技術者777","ﾚ",null,10777,20777,30777,40777,777,778,779,780]
["注文者778","元請","JV","工事名778","工事場所778","技術者778","ﾚ",null,10778,20778,30778,40778,778,779,780,781]
["注文者779","下請","JV","工事名779","工事場所779","技術者779","ﾚ",null,10779,20779,30779,40779,779,780,781,782]
["注文者780","元請","JV","工事名780","工事場所780","技術者780","ﾚ",null,10780,20780,30780,40780,780,781,782,783]
["注文者781","下請","JV","工事名781","工事場所781","技術者781","ﾚ",null,10781,20781,30781,40781,781,782,783,784]
["注文者782","元請","JV","工事名782","工事場所782","技術者782","ﾚ",null,10782,20782,30782,40782,782,783,784,785]
["注文者783","下請","JV","工事名783","工事場所783","技術者783","ﾚ",null,10783,20783,30783,40783,783,784,785,786]
["注文者784","元請","JV","工事名784","工事場所784","技術者784","ﾚ",null,10784,20784,30784,40784,784,785,786,787]
["注文者785","下請","JV","工事名785","工事場所785","技術者785","ﾚ",null,10785,20785,30785,40785,785,786,787,788]
["注文者786","元請","JV","工事名786","工事場所786","技術者786","ﾚ",null,10786,20786,30786,40786,786,787,788,789]
["注文者787","下請","JV","工事名787","工事場所787","技術者787","ﾚ",null,10787,20787,30787,40787,787,788,789,790]
["注文者788","元請","JV","工事名788","工事場所788","技術者788","ﾚ",null,10788,20788,30788,40788,788,789,790,791]
["注文者789","下請","JV","工事名789","工事場所789","技術者789","ﾚ",null,10789,20789,30789,40789,789,790,791,792]
["注文者790","元請","JV","工事名790","工事場所790","技術者790","ﾚ",null,10790,20790,30790,40790,790,791,792,793]
["注文者791","下請","JV","工事名791","工事場所791","技術者791","ﾚ",null,10791,20791,30791,40791,791,792,793,794]
["注文者792","元請","JV","工事名792","工事場所792","技術者792","ﾚ",null,10792,20792,30792,40792,792,793,794,795]
["注文者793","下請","JV","工事名793","工事場所793","技術者793","ﾚ",null,10793,20793,30793,40793,793,794,795,796]
["注文者794","元請","JV","工事名794","工事場所794","技術者794","ﾚ",null,10794,20794,30794,40794,794,795,796,797]
["注文者795","下請","JV","工事名795","工事場所795","技術者795","ﾚ",null,10795,20795,30795,40795,795,796,797,798]
["注文者796","元請","JV","工事名796","工事場所796","技術者796","ﾚ",null,10796,20796,30796,40796,796,797,798,799]
["注文者797","下請","JV","工事名797","工事場所797","技術者797","ﾚ",null,10797,20797,30797,40797,797,798,799,800]
["注文者798","元請","JV","工事名798","工事場所798","技術者798","ﾚ",null,10798,20798,30798,40798,798,799,800,801]
["注文者799","下請","JV","工事名799","工事場所799","技術者799","ﾚ",null,10799,20799,30799,40799,799,800,801,802]
["注文者800","元請","JV","工事名800","工事場所800","技術者800","ﾚ",null,10800,20800,30800,40800,800,801,802,803]
["注文者801","下請","JV","工事名801","工事場所801","技術者801","ﾚ",null,10801,20801,30801,40801,801,802,803,804]
["注文者802","元請","JV","工事名802","工事場所802","技術者802","ﾚ",null,10802,20802,30802,40802,802,803,804,805]
["注文者803","下請","JV","工事名803","工事場所803","技術者803","ﾚ",null,10803,20803,30803,40803,803,804,805,806]
["注文者804","元請","JV","工事名804","工事場所804","技術者804","ﾚ",null,10804,20804,30804,40804,804,805,806,807]
["注文者805","下請","JV","工事名805","工事場所805","技術者805","ﾚ",null,10805,20805,30805,40805,805,806,807,808]
["注文者806","元請","JV","工事名806","工事場所806","技術者806","ﾚ",null,10806,20806,30806,40806,806,807,808,809]
["注文者807","下請","JV","工事名807","工事場所807","技術者807","ﾚ",null,10807,20807,30807,40807,807,808,809,810]
["注文者808","元請","JV","工事名808","工事場所808","技術者808","ﾚ",null,10808,20808,30808,40808,808,809,810,811]
["注文者809","下請","JV","工事名809","工事場所809","技術者809","ﾚ",null,10809,20809,30809,40809,809,810,811,812]
["注文者810","元請","JV","工事名810","工事場所810","技術者810","ﾚ",null,10810,20810,30810,40810,810,811,812,813]
["注文者811","下請","JV","工事名811","工事場所811","技術者811","ﾚ",null,10811,20811,30811,40811,811,812,813,814]
["注文者812","元請","JV","工事名812","工事場所812","技術者812","ﾚ",null,10812,20812,30812,40812,812,813,814,815]
["注文者813","下請","JV","工事名813","工事場所813","技術者813","ﾚ",null,10813,20813,30813,40813,813,814,815,816]
["注文者814","元請","JV","工事名814","工事場所814","技術者814","ﾚ",null,10814,20814,30814,40814,814,815,816,817]
["注文者815","下請","JV","工事名815","工事場所815","技術者815","ﾚ",null,10815,20815,30815,40815,815,816,817,818]
["注文者816","元請","JV","工事名816","工事場所816","技術者816","ﾚ",null,10816,20816,30816,40816,816,817,818,819]
["注文者817","下請","JV","工事名817","工事場所817","技術者817","ﾚ",null,10817,20817,30817,40817,817,818,819,820]
["注文者818","元請","JV","工事名818","工事場所818","技術者818","ﾚ",null,10818,20818,30818,40818,818,819,820,821]
["注文者819","下請","JV","工事名819","工事場所819","技術者819","ﾚ",null,10819,20819,30819,40819,819,820,821,822]
["注文者820","元請","JV","工事名820","工事場所820","技術者820","ﾚ",null,10820,20820,30820,40820,820,821,822,823]
["注文者821","下請","JV","工事名821","工事場所821","技術者821","ﾚ",null,10821,20821,30821,40821,821,822,823,824]
["注文者822","元請","JV","工事名822","工事場所822","技術者822","ﾚ",null,10822,20822,30822,40822,822,823,824,825]
["注文者823","下請","JV","工事名823","工事場所823","技術者823","ﾚ",null,10823,20823,30823,40823,823,824,825,826]
["注文者824","元請","JV","工事名824","工事場所824","技術者824","ﾚ",null,10824,20824,30824,40824,824,825,826,827]
["注文者825","下請","JV","工事名825","工事場所825","技術者825","ﾚ",null,10825,20825,30825,40825,825,826,827,828]
["注文者826","元請","JV","工事名826","工事場所826","技術者826","ﾚ",null,10826,20826,30826,40826,826,827,828,829]
["注文者827","下請","JV","工事名827","工事場所827","技術者827","ﾚ",null,10827,20827,30827,40827,827,828,829,830]
["注文者828","元請","JV","工事名828","工事場所828","技術者828","ﾚ",null,10828,20828,30828,40828,828,829,830,831]
["注文者829","下請","JV","工事名829","工事場所829","技術者829","ﾚ",null,10829,20829,30829,40829,829,830,831,832]
["注文者830","元請","JV","工事名830","工事場所830","技術者830","ﾚ",null,10830,20830,30830,40830,830,831,832,833]
["注文者831","下請","JV","工事名831","工事場所831","技術者831","ﾚ",null,10831,20831,30831,40831,831,832,833,834]
["注文者832","元請","JV","工事名832","工事場所832","技術者832","ﾚ",null,10832,20832,30832,40832,832,833,834,835]
["注文者833","下請","JV","工事名833","工事場所833","技術者833","ﾚ",null,10833,20833,30833,40833,833,834,835,836]
["注文者834","元請","JV","工事名834","工事場所834","技術者834","ﾚ",null,10834,20834,30834,40834,834,835,836,837]
["注文者835","下請","JV","工事名835","工事場所835","技術者835","ﾚ",null,10835,20835,30835,40835,835,836,837,838]
["注文者836","元請","JV","工事名836","工事場所836","技術者836","ﾚ",null,10836,20836,30836,40836,836,837,838,839]
["注文者837","下請","JV","工事名837","工事場所837","技術者837","ﾚ",null,10837,20837,30837,40837,837,838,839,840]
["注文者838","元請","JV","工事名838","工事場所838","技術者838","ﾚ",null,10838,20838,30838,40838,838,839,840,841]
["注文者839","下請","JV","工事名839","工事場所839","技術者839","ﾚ",null,10839,20839,30839,40839,839,840,841,842]
["注文者840","元請","JV","工事名840","工事場所840","技術者840","ﾚ",null,10840,20840,30840,40840,840,841,842,843]
["注文者841","下請","JV","工事名841","工事場所841","技術者841","ﾚ",null,10841,20841,30841,40841,841,842,843,844]
["注文者842","元請","JV","工事名842","工事場所842","技術者842","ﾚ",null,10842,20842,30842,40842,842,843,844,845]
["注文者843","下請","JV","工事名843","工事場所843","技術者843","ﾚ",null,10843,20843,30843,40843,843,844,845,846]
["注文者844","元請","JV","工事名844","工事場所844","技術者844","ﾚ",null,10844,20844,30844,40844,844,845,846,847]
["注文者845","下請","JV","工事名845","工事場所845","技術者845","ﾚ",null,10845,20845,30845,40845,845,846,847,848]
["注文者846","元請","JV","工事名846","工事場所846","技術者846","ﾚ",null,10846,20846,30846,40846,846,847,848,849]
["注文者847","下請","JV","工事名847","工事場所847","技術者847","ﾚ",null,10847,20847,30847,40847,847,848,849,850]
["注文者848","元請","JV","工事名848","工事場所848","技術者848","ﾚ",null,10848,20848,30848,40848,848,849,850,851]
["注文者849","下請","JV","工事名849","工事場所849","技術者849","ﾚ",null,10849,20849,30849,40849,849,850,851,852]
["注文者850","元請","JV","工事名850","工事場所850","技術者850","ﾚ",null,10850,20850,30850,40850,850,851,852,853]
["注文者851","下請","JV","工事名851","工事場所851","技術者851","ﾚ",null,10851,20851,30851,40851,851,852,853,854]
["注文者852","元請","JV","工事名852","工事場所852","技術者852","ﾚ",null,10852,20852,30852,40852,852,853,854,855]
["注文者853","下請","JV","工事名853","工事場所853","技術者853","ﾚ",null,10853,20853,30853,40853,853,854,855,856]
["注文者854","元請","JV","工事名854","工事場所854","技術者854","ﾚ",null,10854,20854,30854,40854,854,855,856,857]
["注文者855","下請","JV","工事名855","工事場所855","技術者855","ﾚ",null,10855,20855,30855,40855,855,856,857,858]
["注文者856","元請","JV","工事名856","工事場所856","技術者856","ﾚ",null,10856,20856,30856,40856,856,857,858,859]
["注文者857","下請","JV","工事名857","工事場所857","技術者857","ﾚ",null,10857,20857,30857,40857,857,858,859,860]
["注文者858","元請","JV","工事名858","工事場所858","技術者858","ﾚ",null,10858,20858,30858,40858,858,859,860,861]
["注文者859","下請","JV","工事名859","工事場所859","技術者859","ﾚ",null,10859,20859,30859,40859,859,860,861,862]
["注文者860","元請","JV","工事名860","工事場所860","技術者860","ﾚ",null,10860,20860,30860,40860,860,861,862,863]
["注文者861","下請","JV","工事名861","工事場所861","技術者861","ﾚ",null,10861,20861,30861,40861,861,862,863,864]
["注文者862","元請","JV","工事名862","工事場所862","技術者862","ﾚ",null,10862,20862,30862,40862,862,863,864,865]
["注文者863","下請","JV","工事名863","工事場所863","技術者863","ﾚ",null,10863,20863,30863,40863,863,864,865,866]
["注文者864","元請","JV","工事名864","工事場所864","技術者864","ﾚ",null,10864,20864,30864,40864,864,865,866,867]
["注文者865","下請","JV","工事名865","工事場所865","技術者865","ﾚ",null,10865,20865,30865,40865,865,866,867,868]
["注文者866","元請","JV","工事名866","工事場所866","技術者866","ﾚ",null,10866,20866,30866,40866,866,867,868,869]
["注文者867","下請","JV","工事名867","工事場所867","技術者867","ﾚ",null,10867,20867,30867,40867,867,868,869,870]
["注文者868","元請","JV","工事名868","工事場所868","技術者868","ﾚ",null,10868,20868,30868,40868,868,869,870,871]
["注文者869","下請","JV","工事名869","工事場所869","技術者869","ﾚ",null,10869,20869,30869,40869,869,870,871,872]
["注文者870","元請","JV","工事名870","工事場所870","技術者870","ﾚ",null,10870,20870,30870,40870,870,871,872,873]
["注文者871","下請","JV","工事名871","工事場所871","技術者871","ﾚ",null,10871,20871,30871,40871,871,872,873,874]
["注文者872","元請","JV","工事名872","工事場所872","技術者872","ﾚ",null,10872,20872,30872,40872,872,873,874,875]
["注文者873","下請","JV","工事名873","工事場所873","技術者873","ﾚ",null,10873,20873,30873,40873,873,874,875,876]
["注文者874","元請","JV","工事名874","工事場所874","技術者874","ﾚ",null,10874,20874,30874,40874,874,875,876,877]
["注文者875","下請","JV","工事名875","工事場所875","技術者875","ﾚ",null,10875,20875,30875,40875,875,876,877,878]
["注文者876","元請","JV","工事名876","工事場所876","技術者876","ﾚ",null,10876,20876,30876,40876,876,877,878,879]
["注文者877","下請","JV","工事名877","工事場所877","技術者877","ﾚ",null,10877,20877,30877,40877,877,878,879,880]
["注文者878","元請","JV","工事名878","工事場所878","技術者878","ﾚ",null,10878,20878,30878,40878,878,879,880,881]
["注文者879","下請","JV","工事名879","工事場所879","技術者879","ﾚ",null,10879,20879,30879,40879,879,880,881,882]
["注文者880","元請","JV","工事名880","工事場所880","技術者880","ﾚ",null,10880,20880,30880,40880,880,881,882,883]
["注文者881","下請","JV","工事名881","工事場所881","技術者881","ﾚ",null,10881,20881,30881,40881,881,882,883,884]
["注文者882","元請","JV","工事名882","工事場所882","技術者882","ﾚ",null,10882,20882,30882,40882,882,883,884,885]
["注文者883","下請","JV","工事名883","工事場所883","技術者883","ﾚ",null,10883,20883,30883,40883,883,884,885,886]
["注文者884","元請","JV","工事名884","工事場所884","技術者884","ﾚ",null,10884,20884,30884,40884,884,885,886,887]
["注文者885","下請","JV","工事名885","工事場所885","技術者885","ﾚ",null,10885,20885,30885,40885,885,886,887,888]
["注文者886","元請","JV","工事名886","工事場所886","技術者886","ﾚ",null,10886,20886,30886,40886,886,887,888,889]
["注文者887","下請","JV","工事名887","工事場所887","技術者887","ﾚ",null,10887,20887,30887,40887,887,888,889,890]
["注文者888","元請","JV","工事名888","工事場所888","技術者888","ﾚ",null,10888,20888,30888,40888,888,889,890,891]
["注文者889","下請","JV","工事名889","工事場所889","技術者889","ﾚ",null,10889,20889,30889,40889,889,890,891,892]
["注文者890","元請","JV","工事名890","工事場所890","技術者890","ﾚ",null,10890,20890,30890,40890,890,891,892,893]
["注文者891","下請","JV","工事名891","工事場所891","技術者891","ﾚ",null,10891,20891,30891,40891,891,892,893,894]
["注文者892","元請","JV","工事名892","工事場所892","技術者892","ﾚ",null,10892,20892,30892,40892,892,893,894,895]
["注文者893","下請","JV","工事名893","工事場所893","技術者893","ﾚ",null,10893,20893,30893,40893,893,894,895,896]
["注文者894","元請","JV","工事名894","工事場所894","技術者894","ﾚ",null,10894,20894,30894,40894,894,895,896,897]
["注文者895","下請","JV","工事名895","工事場所895","技術者895","ﾚ",null,10895,20895,30895,40895,895,896,897,898]
["注文者896","元請","JV","工事名896","工事場所896","技術者896","ﾚ",null,10896,20896,30896,40896,896,897,898,899]
["注文者897","下請","JV","工事名897","工事場所897","技術者897","ﾚ",null,10897,20897,30897,40897,897,898,899,900]
["注文者898","元請","JV","工事名898","工事場所898","技術者898","ﾚ",null,10898,20898,30898,40898,898,899,900,901]
["注文者899","下請","JV","工事名899","工事場所899","技術者899","ﾚ",null,10899,20899,30899,40899,899,900,901,902]
["注文者900","元請","JV","工事名900","工事場所900","技術者900","ﾚ",null,10900,20900,30900,40900,900,901,902,903]
["注文者901","下請","JV","工事名901","工事場所901","技術者901","ﾚ",null,10901,20901,30901,40901,901,902,903,904]
["注文者902","元請","JV","工事名902","工事場所902","技術者902","ﾚ",null,10902,20902,30902,40902,902,903,904,905]
["注文者903","下請","JV","工事名903","工事場所903","技術者903","ﾚ",null,10903,20903,30903,40903,903,904,905,906]
["注文者904","元請","JV","工事名904","工事場所904","技術者904","ﾚ",null,10904,20904,30904,40904,904,905,906,907]
["注文者905","下請","JV","工事名905","工事場所905","技術者905","ﾚ",null,10905,20905,30905,40905,905,906,907,908]
["注文者906","元請","JV","工事名906","工事場所906","技術者906","ﾚ",null,10906,20906,30906,40906,906,907,908,909]
["注文者907","下請","JV","工事名907","工事場所907","技術者907","ﾚ",null,10907,20907,30907,40907,907,908,909,910]
["注文者908","元請","JV","工事名908","工事場所908","技術者908","ﾚ",null,10908,20908,30908,40908,908,909,910,911]
["注文者909","下請","JV","工事名909","工事場所909","技術者909","ﾚ",null,10909,20909,30909,40909,909,910,911,912]
["注文者910","元請","JV","工事名910","工事場所910","技術者910","ﾚ",null,10910,20910,30910,40910,910,911,912,913]
["注文者911","下請","JV","工事名911","工事場所911","技術者911","ﾚ",null,10911,20911,30911,40911,911,912,913,914]
["注文者912","元請","JV","工事名912","工事場所912","技術者912","ﾚ",null,10912,20912,30912,40912,912,913,914,915]
["注文者913","下請","JV","工事名913","工事場所913","技術者913","ﾚ",null,10913,20913,30913,40913,913,914,915,916]
["注文者914","元請","JV","工事名914","工事場所914","技術者914","ﾚ",null,10914,20914,30914,40914,914,915,916,917]
["注文者915","下請","JV","工事名915","工事場所915","技術者915","ﾚ",null,10915,20915,30915,40915,915,916,917,918]
["注文者916","元請","JV","工事名916","工事場所916","技術者916","ﾚ",null,10916,20916,30916,40916,916,917,918,919]
["注文者917","下請","JV","工事名917","工事場所917","技術者917","ﾚ",null,10917,20917,30917,40917,917,918,919,920]
["注文者918","元請","JV","工事名918","工事場所918","技術者918","ﾚ",null,10918,20918,30918,40918,918,919,920,921]
["注文者919","下請","JV","工事名919","工事場所919","技術者919","ﾚ",null,10919,20919,30919,40919,919,920,921,922]
["注文者920","元請","JV","工事名920","工事場所920","技術者920","ﾚ",null,10920,20920,30920,40920,920,921,922,923]
["注文者921","下請","JV","工事名921","工事場所921","技術者921","ﾚ",null,10921,20921,30921,40921,921,922,923,924]
["注文者922","元請","JV","工事名922","工事場所922","技術者922","ﾚ",null,10922,20922,30922,40922,922,923,924,925]
["注文者923","下請","JV","工事名923","工事場所923","技術者923","ﾚ",null,10923,20923,30923,40923,923,924,925,926]
["注文者924","元請","JV","工事名924","工事場所924","技術者924","ﾚ",null,10924,20924,30924,40924,924,925,926,927]
["注文者925","下請","JV","工事名925","工事場所925","技術者925","ﾚ",null,10925,20925,30925,40925,925,926,927,928]
["注文者926","元請","JV","工事名926","工事場所926","技術者926","ﾚ",null,10926,20926,30926,40926,926,927,928,929]
["注文者927","下請","JV","工事名927","工事場所927","技術者927","ﾚ",null,10927,20927,30927,40927,927,928,929,930]
["注文者928","元請","JV","工事名928","工事場所928","技術者928","ﾚ",null,10928,20928,30928,40928,928,929,930,931]
["注文者929","下請","JV","工事名929","工事場所929","技術者929","ﾚ",null,10929,20929,30929,40929,929,930,931,932]
["注文者930","元請","JV","工事名930","工事場所930","技術者930","ﾚ",null,10930,20930,30930,40930,930,931,932,933]
["注文者931","下請","JV","工事名931","工事場所931","技術者931","ﾚ",null,10931,20931,30931,40931,931,932,933,934]
["注文者932","元請","JV","工事名932","工事場所932","技術者932","ﾚ",null,10932,20932,30932,40932,932,933,934,935]
["注文者933","下請","JV","工事名933","工事場所933","技術者933","ﾚ",null,10933,20933,30933,40933,933,934,935,936]
["注文者934","元請","JV","工事名934","工事場所934","技術者934","ﾚ",null,10934,20934,30934,40934,934,935,936,937]
["注文者935","下請","JV","工事名935","工事場所935","技術者935","ﾚ",null,10935,20935,30935,40935,935,936,937,938]
["注文者936","元請","JV","工事名936","工事場所936","技術者936","ﾚ",null,10936,20936,30936,40936,936,937,938,939]
["注文者937","下請","JV","工事名937","工事場所937","技術者937","ﾚ",null,10937,20937,30937,40937,937,938,939,940]
["注文者938","元請","JV","工事名938","工事場所938","技術者938","ﾚ",null,10938,20938,30938,40938,938,939,940,941]
["注文者939","下請","JV","工事名939","工事場所939","技術者939","ﾚ",null,10939,20939,30939,40939,939,940,941,942]
["注文者940","元請","JV","工事名940","工事場所940","技術者940","ﾚ",null,10940,20940,30940,40940,940,941,942,943]
["注文者941","下請","JV","工事名941","工事場所941","技術者941","ﾚ",null,10941,20941,30941,40941,941,942,943,944]
["注文者942","元請","JV","工事名942","工事場所942","技術者942","ﾚ",null,10942,20942,30942,40942,942,943,944,945]
["注文者943","下請","JV","工事名943","工事場所943","技術者943","ﾚ",null,10943,20943,30943,40943,943,944,945,946]
["注文者944","元請","JV","工事名944","工事場所944","技術者944","ﾚ",null,10944,20944,30944,40944,944,945,946,947]
["注文者945","下請","JV","工事名945","工事場所945","技術者945","ﾚ",null,10945,20945,30945,40945,945,946,947,948]
["注文者946","元請","JV","工事名946","工事場所946","技術者946","ﾚ",null,10946,20946,30946,40946,946,947,948,949]
["注文者947","下請","JV","工事名947","工事場所947","技術者947","ﾚ",null,10947,20947,30947,40947,947,948,949,950]
["注文者948","元請","JV","工事名948","工事場所948","技術者948","ﾚ",null,10948,20948,30948,40948,948,949,950,951]
["注文者949","下請","JV","工事名949","工事場所949","技術者949","ﾚ",null,10949,20949,30949,40949,949,950,951,952]
["注文者950","元請","JV","工事名950","工事場所950","技術者950","ﾚ",null,10950,20950,30950,40950,950,951,952,953]
["注文者951","下請","JV","工事名951","工事場所951","技術者951","ﾚ",null,10951,20951,30951,40951,951,952,953,954]
["注文者952","元請","JV","工事名952","工事場所952","技術者952","ﾚ",null,10952,20952,30952,40952,952,953,954,955]
["注文者953","下請","JV","工事名953","工事場所953","技術者953","ﾚ",null,10953,20953,30953,40953,953,954,955,956]
["注文者954","元請","JV","工事名954","工事場所954","技術者954","ﾚ",null,10954,20954,30954,40954,954,955,956,957]
["注文者955","下請","JV","工事名955","工事場所955","技術者955","ﾚ",null,10955,20955,30955,40955,955,956,957,958]
["注文者956","元請","JV","工事名956","工事場所956","技術者956","ﾚ",null,10956,20956,30956,40956,956,957,958,959]
["注文者957","下請","JV","工事名957","工事場所957","技術者957","ﾚ",null,10957,20957,30957,40957,957,958,959,960]
["注文者958","元請","JV","工事名958","工事場所958","技術者958","ﾚ",null,10958,20958,30958,40958,958,959,960,961]
["注文者959","下請","JV","工事名959","工事場所959","技術者959","ﾚ",null,10959,20959,30959,40959,959,960,961,962]
["注文者960","元請","JV","工事名960","工事場所960","技術者960","ﾚ",null,10960,20960,30960,40960,960,961,962,963]
["注文者961","下請","JV","工事名961","工事場所961","技術者961","ﾚ",null,10961,20961,30961,40961,961,962,963,964]
["注文者962","元請","JV","工事名962","工事場所962","技術者962","ﾚ",null,10962,20962,30962,40962,962,963,964,965]
["注文者963","下請","JV","工事名963","工事場所963","技術者963","ﾚ",null,10963,20963,30963,40963,963,964,965,966]
["注文者964","元請","JV","工事名964","工事場所964","技術者964","ﾚ",null,10964,20964,30964,40964,964,965,966,967]
["注文者965","下請","JV","工事名965","工事場所965","技術者965","ﾚ",null,10965,20965,30965,40965,965,966,967,968]
["注文者966","元請","JV","工事名966","工事場所966","技術者966","ﾚ",null,10966,20966,30966,40966,966,967,968,969]
["注文者967","下請","JV","工事名967","工事場所967","技術者967","ﾚ",null,10967,20967,30967,40967,967,968,969,970]
["注文者968","元請","JV","工事名968","工事場所968","技術者968","ﾚ",null,10968,20968,30968,40968,968,969,970,971]
["注文者969","下請","JV","工事名969","工事場所969","技術者969","ﾚ",null,10969,20969,30969,40969,969,970,971,972]
["注文者970","元請","JV","工事名970","工事場所970","技術者970","ﾚ",null,10970,20970,30970,40970,970,971,972,973]
["注文者971","下請","JV","工事名971","工事場所971","技術者971","ﾚ",null,10971,20971,30971,40971,971,972,973,974]
["注文者972","元請","JV","工事名972","工事場所972","技術者972","ﾚ",null,10972,20972,30972,40972,972,973,974,975]
["注文者973","下請","JV","工事名973","工事場所973","技術者973","ﾚ",null,10973,20973,30973,40973,973,974,975,976]
["注文者974","元請","JV","工事名974","工事場所974","技術者974","ﾚ",null,10974,20974,30974,40974,974,975,976,977]
["注文者975","下請","JV","工事名975","工事場所975","技術者975","ﾚ",null,10975,20975,30975,40975,975,976,977,978]
["注文者976","元請","JV","工事名976","工事場所976","技術者976","ﾚ",null,10976,20976,30976,40976,976,977,978,979]
["注文者977","下請","JV","工事名977","工事場所977","技術者977","ﾚ",null,10977,20977,30977,40977,977,978,979,980]
["注文者978","元請","JV","工事名978","工事場所978","技術者978","ﾚ",null,10978,20978,30978,40978,978,979,980,981]
["注文者979","下請","JV","工事名979","工事場所979","技術者979","ﾚ",null,10979,20979,30979,40979,979,980,981,982]
["注文者980","元請","JV","工事名980","工事場所980","技術者980","ﾚ",null,10980,20980,30980,40980,980,981,982,983]
["注文者981","下請","JV","工事名981","工事場所981","技術者981","ﾚ",null,10981,20981,30981,40981,981,982,983,984]
["注文者982","元請","JV","工事名982","工事場所982","技術者982","ﾚ",null,10982,20982,30982,40982,982,983,984,985]
["注文者983","下請","JV","工事名983","工事場所983","技術者983","ﾚ",null,10983,20983,30983,40983,983,984,985,986]
["注文者984","元請","JV","工事名984","工事場所984","技術者984","ﾚ",null,10984,20984,30984,40984,984,985,986,987]
["注文者985","下請","JV","工事名985","工事場所985","技術者985","ﾚ",null,10985,20985,30985,40985,985,986,987,988]
["注文者986","元請","JV","工事名986","工事場所986","技術者986","ﾚ",null,10986,20986,30986,40986,986,987,988,989]
["注文者987","下請","JV","工事名987","工事場所987","技術者987","ﾚ",null,10987,20987,30987,40987,987,988,989,990]
["注文者988","元請","JV","工事名988","工事場所988","技術者988","ﾚ",null,10988,20988,30988,40988,988,989,990,991]
["注文者989","下請","JV","工事名989","工事場所989","技術者989","ﾚ",null,10989,20989,30989,40989,989,990,991,992]
["注文者990","元請","JV","工事名990","工事場所990","技術者990","ﾚ",null,10990,20990,30990,40990,990,991,992,993]
["注文者991","下請","JV","工事名991","工事場所991","技術者991","ﾚ",null,10991,20991,30991,40991,991,992,993,994]
["注文者992","元請","JV","工事名992","工事場所992","技術者992","ﾚ",null,10992,20992,30992,40992,992,993,994,995]
["注文者993","下請","JV","工事名993","工事場所993","技術者993","ﾚ",null,10993,20993,30993,40993,993,994,995,996]
["注文者994","元請","JV","工事名994","工事場所994","技術者994","ﾚ",null,10994,20994,30994,40994,994,995,996,997]
["注文者995","下請","JV","工事名995","工事場所995","技術者995","ﾚ",null,10995,20995,30995,40995,995,996,997,998]
["注文者996","元請","JV","工事名996","工事場所996","技術者996","ﾚ",null,10996,20996,30996,40996,996,997,998,999]
["注文者997","下請","JV","工事名997","工事場所997","技術者997","ﾚ",null,10997,20997,30997,40997,997,998,999,1000]
["注文者998","元請","JV","工事名998","工事場所998","技術者998","ﾚ",null,10998,20998,30998,40998,998,999,1000,1001]
["注文者999","下請","JV","工事名999","工事場所999","技術者999","ﾚ",null,10999,20999,30999,40999,999,1000,1001,1002]
["注文者1000","元請","JV","工事名1000","工事場所1000","技術者1000","ﾚ",null,11000,21000,31000,41000,1000,1001,1002,1003]
["注文者1001","下請","JV","工事名1001","工事場所1001","技術者1001","ﾚ",null,11001,21001,31001,41001,1001,1002,1003,1004]
["注文者1002","元請","JV","工事名1002","工事場所1002","技術者1002","ﾚ",null,11002,21002,31002,41002,1002,1003,1004,1005]
["注文者1003","下請","JV","工事名1003","工事場所1003","技術者1003","ﾚ",null,11003,21003,31003,41003,1003,1004,1005,1006]
["注文者1004","元請","JV","工事名1004","工事場所1004","技術者1004","ﾚ",null,11004,21004,31004,41004,1004,1005,1006,1007]
["注文者1005","下請","JV","工事名1005","工事場所1005","技術者1005","ﾚ",null,11005,21005,31005,41005,1005,1006,1007,1008]
["注文者1006","元請","JV","工事名1006","工事場所1006","技術者1006","ﾚ",null,11006,21006,31006,41006,1006,1007,1008,1009]
["注文者1007","下請","JV","工事名1007","工事場所1007","技術者1007","ﾚ",null,11007,21007,31007,41007,1007,1008,1009,1010]
["注文者1008","元請","JV","工事名1008","工事場所1008","技術者1008","ﾚ",null,11008,21008,31008,41008,1008,1009,1010,1011]
["注文者1009","下請","JV","工事名1009","工事場所1009","技術者1009","ﾚ",null,11009,21009,31009,41009,1009,1010,1011,1012]
["注文者1010","元請","JV","工事名1010","工事場所1010","技術者1010","ﾚ",null,11010,21010,31010,41010,1010,1011,1012,1013]
["注文者1011","下請","JV","工事名1011","工事場所1011","技術者1011","ﾚ",null,11011,21011,31011,41011,1011,1012,1013,1014]
["注文者1012","元請","JV","工事名1012","工事場所1012","技術者1012","ﾚ",null,11012,21012,31012,41012,1012,1013,1014,1015]
["注文者1013","下請","JV","工事名1013","工事場所1013","技術者1013","ﾚ",null,11013,21013,31013,41013,1013,1014,1015,1016]
["注文者1014","元請","JV","工事名1014","工事場所1014","技術者1014","ﾚ",null,11014,21014,31014,41014,1014,1015,1016,1017]
["注文者1015","下請","JV","工事名1015","工事場所1015","技術者1015","ﾚ",null,11015,21015,31015,41015,1015,1016,1017,1018]
["注文者1016","元請","JV","工事名1016","工事場所1016","技術者1016","ﾚ",null,11016,21016,31016,41016,1016,1017,1018,1019]
["注文者1017","下請","JV","工事名1017","工事場所1017","技術者1017","ﾚ",null,11017,21017,31017,41017,1017,1018,1019,1020]
["注文者1018","元請","JV","工事名1018","工事場所1018","技術者1018","ﾚ",null,11018,21018,31018,41018,1018,1019,1020,1021]
["注文者1019","下請","JV","工事名1019","工事場所1019","技術者1019","ﾚ",null,11019,21019,31019,41019,1019,1020,1021,1022]
["注文者1020","元請","JV","工事名1020","工事場所1020","技術者1020","ﾚ",null,11020,21020,31020,41020,1020,1021,1022,1023]
["注文者1021","下請","JV","工事名1021","工事場所1021","技術者1021","ﾚ",null,11021,21021,31021,41021,1021,1022,1023,1024]
["注文者1022","元請","JV","工事名1022","工事場所1022","技術者1022","ﾚ",null,11022,21022,31022,41022,1022,1023,1024,1025]
["注文者1023","下請","JV","工事名1023","工事場所1023","技術者1023","ﾚ",null,11023,21023,31023,41023,1023,1024,1025,1026]
["注文者1024","元請","JV","工事名1024","工事場所1024","技術者1024","ﾚ",null,11024,21024,31024,41024,1024,1025,1026,1027]
["注文者1025","下請","JV","工事名1025","工事場所1025","技術者1025","ﾚ",null,11025,21025,31025,41025,1025,1026,1027,1028]
["注文者1026","元請","JV","工事名1026","工事場所1026","技術者1026","ﾚ",null,11026,21026,31026,41026,1026,1027,1028,1029]
["注文者1027","下請","JV","工事名1027","工事場所1027","技術者1027","ﾚ",null,11027,21027,31027,41027,1027,1028,1029,1030]
["注文者1028","元請","JV","工事名1028","工事場所1028","技術者1028","ﾚ",null,11028,21028,31028,41028,1028,1029,1030,1031]
["注文者1029","下請","JV","工事名1029","工事場所1029","技術者1029","ﾚ",null,11029,21029,31029,41029,1029,1030,1031,1032]
["注文者1030","元請","JV","工事名1030","工事場所1030","技術者1030","ﾚ",null,11030,21030,31030,41030,1030,1031,1032,1033]
["注文者1031","下請","JV","工事名1031","工事場所1031","技術者1031","ﾚ",null,11031,21031,31031,41031,1031,1032,1033,1034]
["注文者1032","元請","JV","工事名1032","工事場所1032","技術者1032","ﾚ",null,11032,21032,31032,41032,1032,1033,1034,1035]
["注文者1033","下請","JV","工事名1033","工事場所1033","技術者1033","ﾚ",null,11033,21033,31033,41033,1033,1034,1035,1036]
["注文者1034","元請","JV","工事名1034","工事場所1034","技術者1034","ﾚ",null,11034,21034,31034,41034,1034,1035,1036,1037]
["注文者1035","下請","JV","工事名1035","工事場所1035","技術者1035","ﾚ",null,11035,21035,31035,41035,1035,1036,1037,1038]
["注文者1036","元請","JV","工事名1036","工事場所1036","技術者1036","ﾚ",null,11036,21036,31036,41036,1036,1037,1038,1039]
["注文者1037","下請","JV","工事名1037","工事場所1037","技術者1037","ﾚ",null,11037,21037,31037,41037,1037,1038,1039,1040]
["注文者1038","元請","JV","工事名1038","工事場所1038","技術者1038","ﾚ",null,11038,21038,31038,41038,1038,1039,1040,1041]
["注文者1039","下請","JV","工事名1039","工事場所1039","技術者1039","ﾚ",null,11039,21039,31039,41039,1039,1040,1041,1042]
["注文者1040","元請","JV","工事名1040","工事場所1040","技術者1040","ﾚ",null,11040,21040,31040,41040,1040,1041,1042,1043]
["注文者1041","下請","JV","工事名1041","工事場所1041","技術者1041","ﾚ",null,11041,21041,31041,41041,1041,1042,1043,1044]
["注文者1042","元請","JV","工事名1042","工事場所1042","技術者1042","ﾚ",null,11042,21042,31042,41042,1042,1043,1044,1045]
["注文者1043","下請","JV","工事名1043","工事場所1043","技術者1043","ﾚ",null,11043,21043,31043,41043,1043,1044,1045,1046]
["注文者1044","元請","JV","工事名1044","工事場所1044","技術者1044","ﾚ",null,11044,21044,31044,41044,1044,1045,1046,1047]
["注文者1045","下請","JV","工事名1045","工事場所1045","技術者1045","ﾚ",null,11045,21045,31045,41045,1045,1046,1047,1048]
["注文者1046","元請","JV","工事名1046","工事場所1046","技術者1046","ﾚ",null,11046,21046,31046,41046,1046,1047,1048,1049]
["注文者1047","下請","JV","工事名1047","工事場所1047","技術者1047","ﾚ",null,11047,21047,31047,41047,1047,1048,1049,1050]
["注文者1048","元請","JV","工事名1048","工事場所1048","技術者1048","ﾚ",null,11048,21048,31048,41048,1048,1049,1050,1051]
["注文者1049","下請","JV","工事名1049","工事場所1049","技術者1049","ﾚ",null,11049,21049,31049,41049,1049,1050,1051,1052]
["注文者1050","元請","JV","工事名1050","工事場所1050","技術者1050","ﾚ",null,11050,21050,31050,41050,1050,1051,1052,1053]
["注文者1051","下請","JV","工事名1051","工事場所1051","技術者1051","ﾚ",null,11051,21051,31051,41051,1051,1052,1053,1054]
["注文者1052","元請","JV","工事名1052","工事場所1052","技術者1052","ﾚ",null,11052,21052,31052,41052,1052,1053,1054,1055]
["注文者1053","下請","JV","工事名1053","工事場所1053","技術者1053","ﾚ",null,11053,21053,31053,41053,1053,1054,1055,1056]
["注文者1054","元請","JV","工事名1054","工事場所1054","技術者1054","ﾚ",null,11054,21054,31054,41054,1054,1055,1056,1057]
["注文者1055","下請","JV","工事名1055","工事場所1055","技術者1055","ﾚ",null,11055,21055,31055,41055,1055,1056,1057,1058]
["注文者1056","元請","JV","工事名1056","工事場所1056","技術者1056","ﾚ",null,11056,21056,31056,41056,1056,1057,1058,1059]
["注文者1057","下請","JV","工事名1057","工事場所1057","技術者1057","ﾚ",null,11057,21057,31057,41057,1057,1058,1059,1060]
["注文者1058","元請","JV","工事名1058","工事場所1058","技術者1058","ﾚ",null,11058,21058,31058,41058,1058,1059,1060,1061]
["注文者1059","下請","JV","工事名1059","工事場所1059","技術者1059","ﾚ",null,11059,21059,31059,41059,1059,1060,1061,1062]
["注文者1060","元請","JV","工事名1060","工事場所1060","技術者1060","ﾚ",null,11060,21060,31060,41060,1060,1061,1062,1063]
["注文者1061","下請","JV","工事名1061","工事場所1061","技術者1061","ﾚ",null,11061,21061,31061,41061,1061,1062,1063,1064]
["注文者1062","元請","JV","工事名1062","工事場所1062","技術者1062","ﾚ",null,11062,21062,31062,41062,1062,1063,1064,1065]
["注文者1063","下請","JV","工事名1063","工事場所1063","技術者1063","ﾚ",null,11063,21063,31063,41063,1063,1064,1065,1066]
["注文者1064","元請","JV","工事名1064","工事場所1064","技術者1064","ﾚ",null,11064,21064,31064,41064,1064,1065,1066,1067]
["注文者1065","下請","JV","工事名1065","工事場所1065","技術者1065","ﾚ",null,11065,21065,31065,41065,1065,1066,1067,1068]
["注文者1066","元請","JV","工事名1066","工事場所1066","技術者1066","ﾚ",null,11066,21066,31066,41066,1066,1067,1068,1069]
["注文者1067","下請","JV","工事名1067","工事場所1067","技術者1067","ﾚ",null,11067,21067,31067,41067,1067,1068,1069,1070]
["注文者1068","元請","JV","工事名1068","工事場所1068","技術者1068","ﾚ",null,11068,21068,31068,41068,1068,1069,1070,1071]
["注文者1069","下請","JV","工事名1069","工事場所1069","技術者1069","ﾚ",null,11069,21069,31069,41069,1069,1070,1071,1072]
["注文者1070","元請","JV","工事名1070","工事場所1070","技術者1070","ﾚ",null,11070,21070,31070,41070,1070,1071,1072,1073]
["注文者1071","下請","JV","工事名1071","工事場所1071","技術者1071","ﾚ",null,11071,21071,31071,41071,1071,1072,1073,1074]
["注文者1072","元請","JV","工事名1072","工事場所1072","技術者1072","ﾚ",null,11072,21072,31072,41072,1072,1073,1074,1075]
["注文者1073","下請","JV","工事名1073","工事場所1073","技術者1073","ﾚ",null,11073,21073,31073,41073,1073,1074,1075,1076]
["注文者1074","元請","JV","工事名1074","工事場所1074","技術者1074","ﾚ",null,11074,21074,31074,41074,1074,1075,1076,1077]
["注文者1075","下請","JV","工事名1075","工事場所1075","技術者1075","ﾚ",null,11075,21075,31075,41075,1075,1076,1077,1078]
["注文者1076","元請","JV","工事名1076","工事場所1076","技術者1076","ﾚ",null,11076,21076,31076,41076,1076,1077,1078,1079]
["注文者1077","下請","JV","工事名1077","工事場所1077","技術者1077","ﾚ",null,11077,21077,31077,41077,1077,1078,1079,1080]
["注文者1078","元請","JV","工事名1078","工事場所1078","技術者1078","ﾚ",null,11078,21078,31078,41078,1078,1079,1080,1081]
["注文者1079","下請","JV","工事名1079","工事場所1079","技術者1079","ﾚ",null,11079,21079,31079,41079,1079,1080,1081,1082]
["注文者1080","元請","JV","工事名1080","工事場所1080","技術者1080","ﾚ",null,11080,21080,31080,41080,1080,1081,1082,1083]
["注文者1081","下請","JV","工事名1081","工事場所1081","技術者1081","ﾚ",null,11081,21081,31081,41081,1081,1082,1083,1084]
["注文者1082","元請","JV","工事名1082","工事場所1082","技術者1082","ﾚ",null,11082,21082,31082,41082,1082,1083,1084,1085]
["注文者1083","下請","JV","工事名1083","工事場所1083","技術者1083","ﾚ",null,11083,21083,31083,41083,1083,1084,1085,1086]
["注文者1084","元請","JV","工事名1084","工事場所1084","技術者1084","ﾚ",null,11084,21084,31084,41084,1084,1085,1086,1087]
["注文者1085","下請","JV","工事名1085","工事場所1085","技術者1085","ﾚ",null,11085,21085,31085,41085,1085,1086,1087,1088]
["注文者1086","元請","JV","工事名1086","工事場所1086","技術者1086","ﾚ",null,11086,21086,31086,41086,1086,1087,1088,1089]
["注文者1087","下請","JV","工事名1087","工事場所1087","技術者1087","ﾚ",null,11087,21087,31087,41087,1087,1088,1089,1090]
["注文者1088","元請","JV","工事名1088","工事場所1088","技術者1088","ﾚ",null,11088,21088,31088,41088,1088,1089,1090,1091]
["注文者1089","下請","JV","工事名1089","工事場所1089","技術者1089","ﾚ",null,11089,21089,31089,41089,1089,1090,1091,1092]
["注文者1090","元請","JV","工事名1090","工事場所1090","技術者1090","ﾚ",null,11090,21090,31090,41090,1090,1091,1092,1093]
["注文者1091","下請","JV","工事名1091","工事場所1091","技術者1091","ﾚ",null,11091,21091,31091,41091,1091,1092,1093,1094]
["注文者1092","元請","JV","工事名1092","工事場所1092","技術者1092","ﾚ",null,11092,21092,31092,41092,1092,1093,1094,1095]
["注文者1093","下請","JV","工事名1093","工事場所1093","技術者1093","ﾚ",null,11093,21093,31093,41093,1093,1094,1095,1096]
["注文者1094","元請","JV","工事名1094","工事場所1094","技術者1094","ﾚ",null,11094,21094,31094,41094,1094,1095,1096,1097]
["注文者1095","下請","JV","工事名1095","工事場所1095","技術者1095","ﾚ",null,11095,21095,31095,41095,1095,1096,1097,1098]
["注文者1096","元請","JV","工事名1096","工事場所1096","技術者1096","ﾚ",null,11096,21096,31096,41096,1096,1097,1098,1099]
["注文者1097","下請","JV","工事名1097","工事場所1097","技術者1097","ﾚ",null,11097,21097,31097,41097,1097,1098,1099,1100]
["注文者1098","元請","JV","工事名1098","工事場所1098","技術者1098","ﾚ",null,11098,21098,31098,41098,1098,1099,1100,1101]
["注文者1099","下請","JV","工事名1099","工事場所1099","技術者1099","ﾚ",null,11099,21099,31099,41099,1099,1100,1101,1102]
["注文者1100","元請","JV","工事名1100","工事場所1100","技術者1100","ﾚ",null,11100,21100,31100,41100,1100,1101,1102,1103]
["注文者1101","下請","JV","工事名1101","工事場所1101","技術者1101","ﾚ",null,11101,21101,31101,41101,1101,1102,1103,1104]
["注文者1102","元請","JV","工事名1102","工事場所1102","技術者1102","ﾚ",null,11102,21102,31102,41102,1102,1103,1104,1105]
["注文者1103","下請","JV","工事名1103","工事場所1103","技術者1103","ﾚ",null,11103,21103,31103,41103,1103,1104,1105,1106]
["注文者1104","元請","JV","工事名1104","工事場所1104","技術者1104","ﾚ",null,11104,21104,31104,41104,1104,1105,1106,1107]
["注文者1105","下請","JV","工事名1105","工事場所1105","技術者1105","ﾚ",null,11105,21105,31105,41105,1105,1106,1107,1108]
["注文者1106","元請","JV","工事名1106","工事場所1106","技術者1106","ﾚ",null,11106,21106,31106,41106,1106,1107,1108,1109]
["注文者1107","下請","JV","工事名1107","工事場所1107","技術者1107","ﾚ",null,11107,21107,31107,41107,1107,1108,1109,1110]
["注文者1108","元請","JV","工事名1108","工事場所1108","技術者1108","ﾚ",null,11108,21108,31108,41108,1108,1109,1110,1111]
["注文者1109","下請","JV","工事名1109","工事場所1109","技術者1109","ﾚ",null,11109,21109,31109,41109,1109,1110,1111,1112]
["注文者1110","元請","JV","工事名1110","工事場所1110","技術者1110","ﾚ",null,11110,21110,31110,41110,1110,1111,1112,1113]
["注文者1111","下請","JV","工事名1111","工事場所1111","技術者1111","ﾚ",null,11111,21111,31111,41111,1111,1112,1113,1114]
["注文者1112","元請","JV","工事名1112","工事場所1112","技術者1112","ﾚ",null,11112,21112,31112,41112,1112,1113,1114,1115]
["注文者1113","下請","JV","工事名1113","工事場所1113","技術者1113","ﾚ",null,11113,21113,31113,41113,1113,1114,1115,1116]
["注文者1114","元請","JV","工事名1114","工事場所1114","技術者1114","ﾚ",null,11114,21114,31114,41114,1114,1115,1116,1117]
["注文者1115","下請","JV","工事名1115","工事場所1115","技術者1115","ﾚ",null,11115,21115,31115,41115,1115,1116,1117,1118]
["注文者1116","元請","JV","工事名1116","工事場所1116","技術者1116","ﾚ",null,11116,21116,31116,41116,1116,1117,1118,1119]
["注文者1117","下請","JV","工事名1117","工事場所1117","技術者1117","ﾚ",null,11117,21117,31117,41117,1117,1118,1119,1120]
["注文者1118","元請","JV","工事名1118","工事場所1118","技術者1118","ﾚ",null,11118,21118,31118,41118,1118,1119,1120,1121]
["注文者1119","下請","JV","工事名1119","工事場所1119","技術者1119","ﾚ",null,11119,21119,31119,41119,1119,1120,1121,1122]
["注文者1120","元請","JV","工事名1120","工事場所1120","技術者1120","ﾚ",null,11120,21120,31120,41120,1120,1121,1122,1123]
["注文者1121","下請","JV","工事名1121","工事場所1121","技術者1121","ﾚ",null,11121,21121,31121,41121,1121,1122,1123,1124]
["注文者1122","元請","JV","工事名1122","工事場所1122","技術者1122","ﾚ",null,11122,21122,31122,41122,1122,1123,1124,1125]
["注文者1123","下請","JV","工事名1123","工事場所1123","技術者1123","ﾚ",null,11123,21123,31123,41123,1123,1124,1125,1126]
["注文者1124","元請","JV","工事名1124","工事場所1124","技術者1124","ﾚ",null,11124,21124,31124,41124,1124,1125,1126,1127]
["注文者1125","下請","JV","工事名1125","工事場所1125","技術者1125","ﾚ",null,11125,21125,31125,41125,1125,1126,1127,1128]
["注文者1126","元請","JV","工事名1126","工事場所1126","技術者1126","ﾚ",null,11126,21126,31126,41126,1126,1127,1128,1129]
["注文者1127","下請","JV","工事名1127","工事場所1127","技術者1127","ﾚ",null,11127,21127,31127,41127,1127,1128,1129,1130]
["注文者1128","元請","JV","工事名1128","工事場所1128","技術者1128","ﾚ",null,11128,21128,31128,41128,1128,1129,1130,1131]
["注文者1129","下請","JV","工事名1129","工事場所1129","技術者1129","ﾚ",null,11129,21129,31129,41129,1129,1130,1131,1132]
["注文者1130","元請","JV","工事名1130","工事場所1130","技術者1130","ﾚ",null,11130,21130,31130,41130,1130,1131,1132,1133]
["注文者1131","下請","JV","工事名1131","工事場所1131","技術者1131","ﾚ",null,11131,21131,31131,41131,1131,1132,1133,1134]
["注文者1132","元請","JV","工事名1132","工事場所1132","技術者1132","ﾚ",null,11132,21132,31132,41132,1132,1133,1134,1135]
["注文者1133","下請","JV","工事名1133","工事場所1133","技術者1133","ﾚ",null,11133,21133,31133,41133,1133,1134,1135,1136]
["注文者1134","元請","JV","工事名1134","工事場所1134","技術者1134","ﾚ",null,11134,21134,31134,41134,1134,1135,1136,1137]
["注文者1135","下請","JV","工事名1135","工事場所1135","技術者1135","ﾚ",null,11135,21135,31135,41135,1135,1136,1137,1138]
["注文者1136","元請","JV","工事名1136","工事場所1136","技術者1136","ﾚ",null,11136,21136,31136,41136,1136,1137,1138,1139]
["注文者1137","下請","JV","工事名1137","工事場所1137","技術者1137","ﾚ",null,11137,21137,31137,41137,1137,1138,1139,1140]
["注文者1138","元請","JV","工事名1138","工事場所1138","技術者1138","ﾚ",null,11138,21138,31138,41138,1138,1139,1140,1141]
["注文者1139","下請","JV","工事名1139","工事場所1139","技術者1139","ﾚ",null,11139,21139,31139,41139,1139,1140,1141,1142]
["注文者1140","元請","JV","工事名1140","工事場所1140","技術者1140","ﾚ",null,11140,21140,31140,41140,1140,1141,1142,1143]
["注文者1141","下請","JV","工事名1141","工事場所1141","技術者1141","ﾚ",null,11141,21141,31141,41141,1141,1142,1143,1144]
["注文者1142","元請","JV","工事名1142","工事場所1142","技術者1142","ﾚ",null,11142,21142,31142,41142,1142,1143,1144,1145]
["注文者1143","下請","JV","工事名1143","工事場所1143","技術者1143","ﾚ",null,11143,21143,31143,41143,1143,1144,1145,1146]
["注文者1144","元請","JV","工事名1144","工事場所1144","技術者1144","ﾚ",null,11144,21144,31144,41144,1144,1145,1146,1147]
["注文者1145","下請","JV","工事名1145","工事場所1145","技術者1145","ﾚ",null,11145,21145,31145,41145,1145,1146,1147,1148]
["注文者1146","元請","JV","工事名1146","工事場所1146","技術者1146","ﾚ",null,11146,21146,31146,41146,1146,1147,1148,1149]
["注文者1147","下請","JV","工事名1147","工事場所1147","技術者1147","ﾚ",null,11147,21147,31147,41147,1147,1148,1149,1150]
["注文者1148","元請","JV","工事名1148","工事場所1148","技術者1148","ﾚ",null,11148,21148,31148,41148,1148,1149,1150,1151]
["注文者1149","下請","JV","工事名1149","工事場所1149","技術者1149","ﾚ",null,11149,21149,31149,41149,1149,1150,1151,1152]
["注文者1150","元請","JV","工事名1150","工事場所1150","技術者1150","ﾚ",null,11150,21150,31150,41150,1150,1151,1152,1153]
["注文者1151","下請","JV","工事名1151","工事場所1151","技術者1151","ﾚ",null,11151,21151,31151,41151,1151,1152,1153,1154]
["注文者1152","元請","JV","工事名1152","工事場所1152","技術者1152","ﾚ",null,11152,21152,31152,41152,1152,1153,1154,1155]
["注文者1153","下請","JV","工事名1153","工事場所1153","技術者1153","ﾚ",null,11153,21153,31153,41153,1153,1154,1155,1156]
["注文者1154","元請","JV","工事名1154","工事場所1154","技術者1154","ﾚ",null,11154,21154,31154,41154,1154,1155,1156,1157]
["注文者1155","下請","JV","工事名1155","工事場所1155","技術者1155","ﾚ",null,11155,21155,31155,41155,1155,1156,1157,1158]
["注文者1156","元請","JV","工事名1156","工事場所1156","技術者1156","ﾚ",null,11156,21156,31156,41156,1156,1157,1158,1159]
["注文者1157","下請","JV","工事名1157","工事場所1157","技術者1157","ﾚ",null,11157,21157,31157,41157,1157,1158,1159,1160]
["注文者1158","元請","JV","工事名1158","工事場所1158","技術者1158","ﾚ",null,11158,21158,31158,41158,1158,1159,1160,1161]
["注文者1159","下請","JV","工事名1159","工事場所1159","技術者1159","ﾚ",null,11159,21159,31159,41159,1159,1160,1161,1162]
["注文者1160","元請","JV","工事名1160","工事場所1160","技術者1160","ﾚ",null,11160,21160,31160,41160,1160,1161,1162,1163]
["注文者1161","下請","JV","工事名1161","工事場所1161","技術者1161","ﾚ",null,11161,21161,31161,41161,1161,1162,1163,1164]
["注文者1162","元請","JV","工事名1162","工事場所1162","技術者1162","ﾚ",null,11162,21162,31162,41162,1162,1163,1164,1165]
["注文者1163","下請","JV","工事名1163","工事場所1163","技術者1163","ﾚ",null,11163,21163,31163,41163,1163,1164,1165,1166]
["注文者1164","元請","JV","工事名1164","工事場所1164","技術者1164","ﾚ",null,11164,21164,31164,41164,1164,1165,1166,1167]
["注文者1165","下請","JV","工事名1165","工事場所1165","技術者1165","ﾚ",null,11165,21165,31165,41165,1165,1166,1167,1168]
["注文者1166","元請","JV","工事名1166","工事場所1166","技術者1166","ﾚ",null,11166,21166,31166,41166,1166,1167,1168,1169]
["注文者1167","下請","JV","工事名1167","工事場所1167","技術者1167","ﾚ",null,11167,21167,31167,41167,1167,1168,1169,1170]
["注文者1168","元請","JV","工事名1168","工事場所1168","技術者1168","ﾚ",null,11168,21168,31168,41168,1168,1169,1170,1171]
["注文者1169","下請","JV","工事名1169","工事場所1169","技術者1169","ﾚ",null,11169,21169,31169,41169,1169,1170,1171,1172]
["注文者1170","元請","JV","工事名1170","工事場所1170","技術者1170","ﾚ",null,11170,21170,31170,41170,1170,1171,1172,1173]
["注文者1171","下請","JV","工事名1171","工事場所1171","技術者1171","ﾚ",null,11171,21171,31171,41171,1171,1172,1173,1174]
["注文者1172","元請","JV","工事名1172","工事場所1172","技術者1172","ﾚ",null,11172,21172,31172,41172,1172,1173,1174,1175]
["注文者1173","下請","JV","工事名1173","工事場所1173","技術者1173","ﾚ",null,11173,21173,31173,41173,1173,1174,1175,1176]
["注文者1174","元請","JV","工事名1174","工事場所1174","技術者1174","ﾚ",null,11174,21174,31174,41174,1174,1175,1176,1177]
["注文者1175","下請","JV","工事名1175","工事場所1175","技術者1175","ﾚ",null,11175,21175,31175,41175,1175,1176,1177,1178]
["注文者1176","元請","JV","工事名1176","工事場所1176","技術者1176","ﾚ",null,11176,21176,31176,41176,1176,1177,1178,1179]
["注文者1177","下請","JV","工事名1177","工事場所1177","技術者1177","ﾚ",null,11177,21177,31177,41177,1177,1178,1179,1180]
["注文者1178","元請","JV","工事名1178","工事場所1178","技術者1178","ﾚ",null,11178,21178,31178,41178,1178,1179,1180,1181]
["注文者1179","下請","JV","工事名1179","工事場所1179","技術者1179","ﾚ",null,11179,21179,31179,41179,1179,1180,1181,1182]
["注文者1180","元請","JV","工事名1180","工事場所1180","技術者1180","ﾚ",null,11180,21180,31180,41180,1180,1181,1182,1183]
["注文者1181","下請","JV","工事名1181","工事場所1181","技術者1181","ﾚ",null,11181,21181,31181,41181,1181,1182,1183,1184]
["注文者1182","元請","JV","工事名1182","工事場所1182","技術者1182","ﾚ",null,11182,21182,31182,41182,1182,1183,1184,1185]
["注文者1183","下請","JV","工事名1183","工事場所1183","技術者1183","ﾚ",null,11183,21183,31183,41183,1183,1184,1185,1186]
["注文者1184","元請","JV","工事名1184","工事場所1184","技術者1184","ﾚ",null,11184,21184,31184,41184,1184,1185,1186,1187]
["注文者1185","下請","JV","工事名1185","工事場所1185","技術者1185","ﾚ",null,11185,21185,31185,41185,1185,1186,1187,1188]
["注文者1186","元請","JV","工事名1186","工事場所1186","技術者1186","ﾚ",null,11186,21186,31186,41186,1186,1187,1188,1189]
["注文者1187","下請","JV","工事名1187","工事場所1187","技術者1187","ﾚ",null,11187,21187,31187,41187,1187,1188,1189,1190]
["注文者1188","元請","JV","工事名1188","工事場所1188","技術者1188","ﾚ",null,11188,21188,31188,41188,1188,1189,1190,1191]
["注文者1189","下請","JV","工事名1189","工事場所1189","技術者1189","ﾚ",null,11189,21189,31189,41189,1189,1190,1191,1192]
["注文者1190","元請","JV","工事名1190","工事場所1190","技術者1190","ﾚ",null,11190,21190,31190,41190,1190,1191,1192,1193]
["注文者1191","下請","JV","工事名1191","工事場所1191","技術者1191","ﾚ",null,11191,21191,31191,41191,1191,1192,1193,1194]
["注文者1192","元請","JV","工事名1192","工事場所1192","技術者1192","ﾚ",null,11192,21192,31192,41192,1192,1193,1194,1195]
["注文者1193","下請","JV","工事名1193","工事場所1193","技術者1193","ﾚ",null,11193,21193,31193,41193,1193,1194,1195,1196]
["注文者1194","元請","JV","工事名1194","工事場所1194","技術者1194","ﾚ",null,11194,21194,31194,41194,1194,1195,1196,1197]
["注文者1195","下請","JV","工事名1195","工事場所1195","技術者1195","ﾚ",null,11195,21195,31195,41195,1195,1196,1197,1198]
["注文者1196","元請","JV","工事名1196","工事場所1196","技術者1196","ﾚ",null,11196,21196,31196,41196,1196,1197,1198,1199]
["注文者1197","下請","JV","工事名1197","工事場所1197","技術者1197","ﾚ",null,11197,21197,31197,41197,1197,1198,1199,1200]
["注文者1198","元請","JV","工事名1198","工事場所1198","技術者1198","ﾚ",null,11198,21198,31198,41198,1198,1199,1200,1201]
["注文者1199","下請","JV","工事名1199","工事場所1199","技術者1199","ﾚ",null,11199,21199,31199,41199,1199,1200,1201,1202]
["注文者1200","元請","JV","工事名1200","工事場所1200","技術者1200","ﾚ",null,11200,21200,31200,41200,1200,1201,1202,1203]
["注文者1201","下請","JV","工事名1201","工事場所1201","技術者1201","ﾚ",null,11201,21201,31201,41201,1201,1202,1203,1204]
["注文者1202","元請","JV","工事名1202","工事場所1202","技術者1202","ﾚ",null,11202,21202,31202,41202,1202,1203,1204,1205]
["注文者1203","下請","JV","工事名1203","工事場所1203","技術者1203","ﾚ",null,11203,21203,31203,41203,1203,1204,1205,1206]
["注文者1204","元請","JV","工事名1204","工事場所1204","技術者1204","ﾚ",null,11204,21204,31204,41204,1204,1205,1206,1207]
["注文者1205","下請","JV","工事名1205","工事場所1205","技術者1205","ﾚ",null,11205,21205,31205,41205,1205,1206,1207,1208]
["注文者1206","元請","JV","工事名1206","工事場所1206","技術者1206","ﾚ",null,11206,21206,31206,41206,1206,1207,1208,1209]
["注文者1207","下請","JV","工事名1207","工事場所1207","技術者1207","ﾚ",null,11207,21207,31207,41207,1207,1208,1209,1210]
["注文者1208","元請","JV","工事名1208","工事場所1208","技術者1208","ﾚ",null,11208,21208,31208,41208,1208,1209,1210,1211]
["注文者1209","下請","JV","工事名1209","工事場所1209","技術者1209","ﾚ",null,11209,21209,31209,41209,1209,1210,1211,1212]
["注文者1210","元請","JV","工事名1210","工事場所1210","技術者1210","ﾚ",null,11210,21210,31210,41210,1210,1211,1212,1213]
["注文者1211","下請","JV","工事名1211","工事場所1211","技術者1211","ﾚ",null,11211,21211,31211,41211,1211,1212,1213,1214]
["注文者1212","元請","JV","工事名1212","工事場所1212","技術者1212","ﾚ",null,11212,21212,31212,41212,1212,1213,1214,1215]
["注文者1213","下請","JV","工事名1213","工事場所1213","技術者1213","ﾚ",null,11213,21213,31213,41213,1213,1214,1215,1216]
["注文者1214","元請","JV","工事名1214","工事場所1214","技術者1214","ﾚ",null,11214,21214,31214,41214,1214,1215,1216,1217]
["注文者1215","下請","JV","工事名1215","工事場所1215","技術者1215","ﾚ",null,11215,21215,31215,41215,1215,1216,1217,1218]
["注文者1216","元請","JV","工事名1216","工事場所1216","技術者1216","ﾚ",null,11216,21216,31216,41216,1216,1217,1218,1219]
["注文者1217","下請","JV","工事名1217","工事場所1217","技術者1217","ﾚ",null,11217,21217,31217,41217,1217,1218,1219,1220]
["注文者1218","元請","JV","工事名1218","工事場所1218","技術者1218","ﾚ",null,11218,21218,31218,41218,1218,1219,1220,1221]
["注文者1219","下請","JV","工事名1219","工事場所1219","技術者1219","ﾚ",null,11219,21219,31219,41219,1219,1220,1221,1222]
["注文者1220","元請","JV","工事名1220","工事場所1220","技術者1220","ﾚ",null,11220,21220,31220,41220,1220,1221,1222,1223]
["注文者1221","下請","JV","工事名1221","工事場所1221","技術者1221","ﾚ",null,11221,21221,31221,41221,1221,1222,1223,1224]
["注文者1222","元請","JV","工事名1222","工事場所1222","技術者1222","ﾚ",null,11222,21222,31222,41222,1222,1223,1224,1225]
["注文者1223","下請","JV","工事名1223","工事場所1223","技術者1223","ﾚ",null,11223,21223,31223,41223,1223,1224,1225,1226]
["注文者1224","元請","JV","工事名1224","工事場所1224","技術者1224","ﾚ",null,11224,21224,31224,41224,1224,1225,1226,1227]
["注文者1225","下請","JV","工事名1225","工事場所1225","技術者1225","ﾚ",null,11225,21225,31225,41225,1225,1226,1227,1228]
["注文者1226","元請","JV","工事名1226","工事場所1226","技術者1226","ﾚ",null,11226,21226,31226,41226,1226,1227,1228,1229]
["注文者1227","下請","JV","工事名1227","工事場所1227","技術者1227","ﾚ",null,11227,21227,31227,41227,1227,1228,1229,1230]
["注文者1228","元請","JV","工事名1228","工事場所1228","技術者1228","ﾚ",null,11228,21228,31228,41228,1228,1229,1230,1231]
["注文者1229","下請","JV","工事名1229","工事場所1229","技術者1229","ﾚ",null,11229,21229,31229,41229,1229,1230,1231,1232]
["注文者1230","元請","JV","工事名1230","工事場所1230","技術者1230","ﾚ",null,11230,21230,31230,41230,1230,1231,1232,1233]
["注文者1231","下請","JV","工事名1231","工事場所1231","技術者1231","ﾚ",null,11231,21231,31231,41231,1231,1232,1233,1234]
["注文者1232","元請","JV","工事名1232","工事場所1232","技術者1232","ﾚ",null,11232,21232,31232,41232,1232,1233,1234,1235]
["注文者1233","下請","JV","工事名1233","工事場所1233","技術者1233","ﾚ",null,11233,21233,31233,41233,1233,1234,1235,1236]
["注文者1234","元請","JV","工事名1234","工事場所1234","技術者1234","ﾚ",null,11234,21234,31234,41234,1234,1235,1236,1237]
["注文者1235","下請","JV","工事名1235","工事場所1235","技術者1235","ﾚ",null,11235,21235,31235,41235,1235,1236,1237,1238]
["注文者1236","元請","JV","工事名1236","工事場所1236","技術者1236","ﾚ",null,11236,21236,31236,41236,1236,1237,1238,1239]
["注文者1237","下請","JV","工事名1237","工事場所1237","技術者1237","ﾚ",null,11237,21237,31237,41237,1237,1238,1239,1240]
["注文者1238","元請","JV","工事名1238","工事場所1238","技術者1238","ﾚ",null,11238,21238,31238,41238,1238,1239,1240,1241]
["注文者1239","下請","JV","工事名1239","工事場所1239","技術者1239","ﾚ",null,11239,21239,31239,41239,1239,1240,1241,1242]
["注文者1240","元請","JV","工事名1240","工事場所1240","技術者1240","ﾚ",null,11240,21240,31240,41240,1240,1241,1242,1243]
["注文者1241","下請","JV","工事名1241","工事場所1241","技術者1241","ﾚ",null,11241,21241,31241,41241,1241,1242,1243,1244]
["注文者1242","元請","JV","工事名1242","工事場所1242","技術者1242","ﾚ",null,11242,21242,31242,41242,1242,1243,1244,1245]
["注文者1243","下請","JV","工事名1243","工事場所1243","技術者1243","ﾚ",null,11243,21243,31243,41243,1243,1244,1245,1246]
["注文者1244","元請","JV","工事名1244","工事場所1244","技術者1244","ﾚ",null,11244,21244,31244,41244,1244,1245,1246,1247]
["注文者1245","下請","JV","工事名1245","工事場所1245","技術者1245","ﾚ",null,11245,21245,31245,41245,1245,1246,1247,1248]
["注文者1246","元請","JV","工事名1246","工事場所1246","技術者1246","ﾚ",null,11246,21246,31246,41246,1246,1247,1248,1249]
["注文者1247","下請","JV","工事名1247","工事場所1247","技術者1247","ﾚ",null,11247,21247,31247,41247,1247,1248,1249,1250]
["注文者1248","元請","JV","工事名1248","工事場所1248","技術者1248","ﾚ",null,11248,21248,31248,41248,1248,1249,1250,1251]
["注文者1249","下請","JV","工事名1249","工事場所1249","技術者1249","ﾚ",null,11249,21249,31249,41249,1249,1250,1251,1252]
["注文者1250","元請","JV","工事名1250","工事場所1250","技術者1250","ﾚ",null,11250,21250,31250,41250,1250,1251,1252,1253]
["注文者1251","下請","JV","工事名1251","工事場所1251","技術者1251","ﾚ",null,11251,21251,31251,41251,1251,1252,1253,1254]
["注文者1252","元請","JV","工事名1252","工事場所1252","技術者1252","ﾚ",null,11252,21252,31252,41252,1252,1253,1254,1255]
["注文者1253","下請","JV","工事名1253","工事場所1253","技術者1253","ﾚ",null,11253,21253,31253,41253,1253,1254,1255,1256]
["注文者1254","元請","JV","工事名1254","工事場所1254","技術者1254","ﾚ",null,11254,21254,31254,41254,1254,1255,1256,1257]
["注文者1255","下請","JV","工事名1255","工事場所1255","技術者1255","ﾚ",null,11255,21255,31255,41255,1255,1256,1257,1258]
["注文者1256","元請","JV","工事名1256","工事場所1256","技術者1256","ﾚ",null,11256,21256,31256,41256,1256,1257,1258,1259]
["注文者1257","下請","JV","工事名1257","工事場所1257","技術者1257","ﾚ",null,11257,21257,31257,41257,1257,1258,1259,1260]
["注文者1258","元請","JV","工事名1258","工事場所1258","技術者1258","ﾚ",null,11258,21258,31258,41258,1258,1259,1260,1261]
["注文者1259","下請","JV","工事名1259","工事場所1259","技術者1259","ﾚ",null,11259,21259,31259,41259,1259,1260,1261,1262]
["注文者1260","元請","JV","工事名1260","工事場所1260","技術者1260","ﾚ",null,11260,21260,31260,41260,1260,1261,1262,1263]
["注文者1261","下請","JV","工事名1261","工事場所1261","技術者1261","ﾚ",null,11261,21261,31261,41261,1261,1262,1263,1264]
["注文者1262","元請","JV","工事名1262","工事場所1262","技術者1262","ﾚ",null,11262,21262,31262,41262,1262,1263,1264,1265]
["注文者1263","下請","JV","工事名1263","工事場所1263","技術者1263","ﾚ",null,11263,21263,31263,41263,1263,1264,1265,1266]
["注文者1264","元請","JV","工事名1264","工事場所1264","技術者1264","ﾚ",null,11264,21264,31264,41264,1264,1265,1266,1267]
["注文者1265","下請","JV","工事名1265","工事場所1265","技術者1265","ﾚ",null,11265,21265,31265,41265,1265,1266,1267,1268]
["注文者1266","元請","JV","工事名1266","工事場所1266","技術者1266","ﾚ",null,11266,21266,31266,41266,1266,1267,1268,1269]
["注文者1267","下請","JV","工事名1267","工事場所1267","技術者1267","ﾚ",null,11267,21267,31267,41267,1267,1268,1269,1270]
["注文者1268","元請","JV","工事名1268","工事場所1268","技術者1268","ﾚ",null,11268,21268,31268,41268,1268,1269,1270,1271]
["注文者1269","下請","JV","工事名1269","工事場所1269","技術者1269","ﾚ",null,11269,21269,31269,41269,1269,1270,1271,1272]
["注文者1270","元請","JV","工事名1270","工事場所1270","技術者1270","ﾚ",null,11270,21270,31270,41270,1270,1271,1272,1273]
["注文者1271","下請","JV","工事名1271","工事場所1271","技術者1271","ﾚ",null,11271,21271,31271,41271,1271,1272,1273,1274]
["注文者1272","元請","JV","工事名1272","工事場所1272","技術者1272","ﾚ",null,11272,21272,31272,41272,1272,1273,1274,1275]
["注文者1273","下請","JV","工事名1273","工事場所1273","技術者1273","ﾚ",null,11273,21273,31273,41273,1273,1274,1275,1276]
["注文者1274","元請","JV","工事名1274","工事場所1274","技術者1274","ﾚ",null,11274,21274,31274,41274,1274,1275,1276,1277]
["注文者1275","下請","JV","工事名1275","工事場所1275","技術者1275","ﾚ",null,11275,21275,31275,41275,1275,1276,1277,1278]
["注文者1276","元請","JV","工事名1276","工事場所1276","技術者1276","ﾚ",null,11276,21276,31276,41276,1276,1277,1278,1279]
["注文者1277","下請","JV","工事名1277","工事場所1277","技術者1277","ﾚ",null,11277,21277,31277,41277,1277,1278,1279,1280]
["注文者1278","元請","JV","工事名1278","工事場所1278","技術者1278","ﾚ",null,11278,21278,31278,41278,1278,1279,1280,1281]
["注文者1279","下請","JV","工事名1279","工事場所1279","技術者1279","ﾚ",null,11279,21279,31279,41279,1279,1280,1281,1282]
["注文者1280","元請","JV","工事名1280","工事場所1280","技術者1280","ﾚ",null,11280,21280,31280,41280,1280,1281,1282,1283]
["注文者1281","下請","JV","工事名1281","工事場所1281","技術者1281","ﾚ",null,11281,21281,31281,41281,1281,1282,1283,1284]
["注文者1282","元請","JV","工事名1282","工事場所1282","技術者1282","ﾚ",null,11282,21282,31282,41282,1282,1283,1284,1285]
["注文者1283","下請","JV","工事名1283","工事場所1283","技術者1283","ﾚ",null,11283,21283,31283,41283,1283,1284,1285,1286]
["注文者1284","元請","JV","工事名1284","工事場所1284","技術者1284","ﾚ",null,11284,21284,31284,41284,1284,1285,1286,1287]
["注文者1285","下請","JV","工事名1285","工事場所1285","技術者1285","ﾚ",null,11285,21285,31285,41285,1285,1286,1287,1288]
["注文者1286","元請","JV","工事名1286","工事場所1286","技術者1286","ﾚ",null,11286,21286,31286,41286,1286,1287,1288,1289]
["注文者1287","下請","JV","工事名1287","工事場所1287","技術者1287","ﾚ",null,11287,21287,31287,41287,1287,1288,1289,1290]
["注文者1288","元請","JV","工事名1288","工事場所1288","技術者1288","ﾚ",null,11288,21288,31288,41288,1288,1289,1290,1291]
["注文者1289","下請","JV","工事名1289","工事場所1289","技術者1289","ﾚ",null,11289,21289,31289,41289,1289,1290,1291,1292]
["注文者1290","元請","JV","工事名1290","工事場所1290","技術者1290","ﾚ",null,11290,21290,31290,41290,1290,1291,1292,1293]
["注文者1291","下請","JV","工事名1291","工事場所1291","技術者1291","ﾚ",null,11291,21291,31291,41291,1291,1292,1293,1294]
["注文者1292","元請","JV","工事名1292","工事場所1292","技術者1292","ﾚ",null,11292,21292,31292,41292,1292,1293,1294,1295]
["注文者1293","下請","JV","工事名1293","工事場所1293","技術者1293","ﾚ",null,11293,21293,31293,41293,1293,1294,1295,1296]
["注文者1294","元請","JV","工事名1294","工事場所1294","技術者1294","ﾚ",null,11294,21294,31294,41294,1294,1295,1296,1297]
["注文者1295","下請","JV","工事名1295","工事場所1295","技術者1295","ﾚ",null,11295,21295,31295,41295,1295,1296,1297,1298]
["注文者1296","元請","JV","工事名1296","工事場所1296","技術者1296","ﾚ",null,11296,21296,31296,41296,1296,1297,1298,1299]
["注文者1297","下請","JV","工事名1297","工事場所1297","技術者1297","ﾚ",null,11297,21297,31297,41297,1297,1298,1299,1300]
["注文者1298","元請","JV","工事名1298","工事場所1298","技術者1298","ﾚ",null,11298,21298,31298,41298,1298,1299,1300,1301]
["注文者1299","下請","JV","工事名1299","工事場所1299","技術者1299","ﾚ",null,11299,21299,31299,41299,1299,1300,1301,1302]
["注文者1300","元請","JV","工事名1300","工事場所1300","技術者1300","ﾚ",null,11300,21300,31300,41300,1300,1301,1302,1303]

{"sheet":"③取り込みと並べ替え","index":6,"n_rows":1304,"n_cols":18,"rows_kept":1304,"cut":false,"hidden":false,"merged":[[1161,0,1173,0],[1174,0,1186,0],[1187,0,1199,0],[1200,0,1212,0],[1135,0,1147,0],[1278,0,1290,0],[1291,0,1303,0],[1213,0,1225,0],[1226,0,1238,0],[1239,0,1251,0],[1252,0,1264,0],[1265,0,1277,0],[1018,0,1030,0],[1031,0,1043,0],[1044,0,1056,0],[1148,0,1160,0],[1057,0,1069,0],[1070,0,1082,0],[1083,0,1095,0],[1096,0,1108,0],[1109,0,1121,0],[1122,0,1134,0],[979,0,991,0],[992,0,1004,0],[1005,0,1017,0],[706,0,718,0],[719,0,731,0],[732,0,744,0],[745,0,757,0],[758,0,770,0],[771,0,783,0],[784,0,796,0],[797,0,809,0],[810,0,822,0],[823,0,835,0],[836,0,848,0],[849,0,861,0],[862,0,874,0],[875,0,887,0],[888,0,900,0],[901,0,913,0],[914,0,926,0],[927,0,939,0],[940,0,952,0],[953,0,965,0],[966,0,978,0],[667,0,679,0],[680,0,692,0],[693,0,705,0],[394,0,406,0],[407,0,419,0],[420,0,432,0],[433,0,445,0],[446,0,458,0],[459,0,471,0],[472,0,484,0],[485,0,497,0],[498,0,510,0],[511,0,523,0],[524,0,536,0],[537,0,549,0],[550,0,562,0],[563,0,575,0],[576,0,588,0],[589,0,601,0],[602,0,614,0],[615,0,627,0],[628,0,640,0],[641,0,653,0],[654,0,666,0],[355,0,367,0],[368,0,380,0],[381,0,393,0],[82,0,94,0],[95,0,107,0],[108,0,120,0],[121,0,133,0],[134,0,146,0],[147,0,159,0],[160,0,172,0],[173,0,185,0],[186,0,198,0],[199,0,211,0],[212,0,224,0],[225,0,237,0],[238,0,250,0],[251,0,263,0],[264,0,276,0],[277,0,289,0],[290,0,302,0],[303,0,315,0],[316,0,328,0],[329,0,341,0],[342,0,354,0],[17,0,29,0],[30,0,42,0],[43,0,55,0],[56,0,68,0],[69,0,81,0],[0,2,0,14],[2,10,2,13],[2,14,2,15],[2,16,2,17],[2,7,2,9],[4,0,16,0],[2,3,3,3],[2,5,3,5],[2,6,3,6],[2,4,3,4],[2,2,3,2]]}
[null,null,"・前ページで工事データの入力が完了したら、下のどちらかのボタンをクリックしてデータを取り込みます。\n・取り込みができたら、次のページ「④工事経歴書の作成」に移ってください。"]
[]
[null,null,"注文者","下請又は\n元請","JV","工事名","工事場所","技術者",null,null,"請負代金",null,null,null,"着工",null,"完成"]
[null,null,null,null,null,null,null,"氏名","主任","監理","請負代金","請負代金\n（上段）","うち","うち\n（上段）","年","月","年","月"]
[1,1]
[null,2]
[null,3]
[null,4]
[null,5]
[null,6]
[null,7]
[null,8]
[null,9]
[null,10]
[null,11]
[null,12]
[null,13]
[1,14]
[null,15]
[null,16]
[null,17]
[null,18]
[null,19]
[null,20]
[null,21]
[null,22]
[null,23]
[null,24]
[null,25]
[null,26]
[1,27]
[null,28]
[null,29]
[null,30]
[null,31]
[null,32]
[null,33]
[null,34]
[null,35]
[null,36]
[null,37]
[null,38]
[null,39]
[1,40]
[null,41]
[null,42]
[null,43]
[null,44]
[null,45]
[null,46]
[null,47]
[null,48]
[null,49]
[null,50]
[null,51]
[null,52]
[1,53]
[null,54]
[null,55]
[null,56]
[null,57]
[null,58]
[null,59]
[null,60]
[null,61]
[null,62]
[null,63]
[null,64]
[null,65]
[1,66]
[null,67]
[null,68]
[null,69]
[null,70]
[null,71]
[null,72]
[null,73]
[null,74]
[null,75]
[null,76]
[null,77]
[null,78]
[1,79]
[null,80]
[null,81]
[null,82]
[null,83]
[null,84]
[null,85]
[null,86]
[null,87]
[null,88]
[null,89]
[null,90]
[null,91]
[1,92]
[null,93]
[null,94]
[null,95]
[null,96]
[null,97]
[null,98]
[null,99]
[null,100]
[null,101]
[null,102]
[null,103]
[null,104]
[1,105]
[null,106]
[null,107]
[null,108]
[null,109]
[null,110]
[null,111]
[null,112]
[null,113]
[null,114]
[null,115]
[null,116]
[null,117]
[1,118]
[null,119]
[null,120]
[null,121]
[null,122]
[null,123]
[null,124]
[null,125]
[null,126]
[null,127]
[null,128]
[null,129]
[null,130]
[2,131]
[null,132]
[null,133]
[null,134]
[null,135]
[null,136]
[null,137]
[null,138]
[null,139]
[null,140]
[null,141]
[null,142]
[null,143]
[2,144]
[null,145]
[null,146]
[null,147]
[null,148]
[null,149]
[null,150]
[null,151]
[null,152]
[null,153]
[null,154]
[null,155]
[null,156]
[2,157]
[null,158]
[null,159]
[null,160]
[null,161]
[null,162]
[null,163]
[null,164]
[null,165]
[null,166]
[null,167]
[null,168]
[null,169]
[2,170]
[null,171]
[null,172]
[null,173]
[null,174]
[null,175]
[null,176]
[null,177]
[null,178]
[null,179]
[null,180]
[null,181]
[null,182]
[2,183]
[null,184]
[null,185]
[null,186]
[null,187]
[null,188]
[null,189]
[null,190]
[null,191]
[null,192]
[null,193]
[null,194]
[null,195]
[2,196]
[null,197]
[null,198]
[null,199]
[null,200]
[null,201]
[null,202]
[null,203]
[null,204]
[null,205]
[null,206]
[null,207]
[null,208]
[2,209]
[null,210]
[null,211]
[null,212]
[null,213]
[null,214]
[null,215]
[null,216]
[null,217]
[null,218]
[null,219]
[null,220]
[null,221]
[2,222]
[null,223]
[null,224]
[null,225]
[null,226]
[null,227]
[null,228]
[null,229]
[null,230]
[null,231]
[null,232]
[null,233]
[null,234]
[2,235]
[null,236]
[null,237]
[null,238]
[null,239]
[null,240]
[null,241]
[null,242]
[null,243]
[null,244]
[null,245]
[null,246]
[null,247]
[2,248]
[null,249]
[null,250]
[null,251]
[null,252]
[null,253]
[null,254]
[null,255]
[null,256]
[null,257]
[null,258]
[null,259]
[null,260]
[3,261]
[null,262]
[null,263]
[null,264]
[null,265]
[null,266]
[null,267]
[null,268]
[null,269]
[null,270]
[null,271]
[null,272]
[null,273]
[3,274]
[null,275]
[null,276]
[null,277]
[null,278]
[null,279]
[null,280]
[null,281]
[null,282]
[null,283]
[null,284]
[null,285]
[null,286]
[3,287]
[null,288]
[null,289]
[null,290]
[null,291]
[null,292]
[null,293]
[null,294]
[null,295]
[null,296]
[null,297]
[null,298]
[null,299]
[3,300]
[null,301]
[null,302]
[null,303]
[null,304]
[null,305]
[null,306]
[null,307]
[null,308]
[null,309]
[null,310]
[null,311]
[null,312]
[3,313]
[null,314]
[null,315]
[null,316]
[null,317]
[null,318]
[null,319]
[null,320]
[null,321]
[null,322]
[null,323]
[null,324]
[null,325]
[3,326]
[null,327]
[null,328]
[null,329]
[null,330]
[null,331]
[null,332]
[null,333]
[null,334]
[null,335]
[null,336]
[null,337]
[null,338]
[3,339]
[null,340]
[null,341]
[null,342]
[null,343]
[null,344]
[null,345]
[null,346]
[null,347]
[null,348]
[null,349]
[null,350]
[null,351]
[3,352]
[null,353]
[null,354]
[null,355]
[null,356]
[null,357]
[null,358]
[null,359]
[null,360]
[null,361]
[null,362]
[null,363]
[null,364]
[3,365]
[null,366]
[null,367]
[null,368]
[null,369]
[null,370]
[null,371]
[null,372]
[null,373]
[null,374]
[null,375]
[null,376]
[null,377]
[3,378]
[null,379]
[null,380]
[null,381]
[null,382]
[null,383]
[null,384]
[null,385]
[null,386]
[null,387]
[null,388]
[null,389]
[null,390]
[4,391]
[null,392]
[null,393]
[null,394]
[null,395]
[null,396]
[null,397]
[null,398]
[null,399]
[null,400]
[null,401]
[null,402]
[null,403]
[4,404]
[null,405]
[null,406]
[null,407]
[null,408]
[null,409]
[null,410]
[null,411]
[null,412]
[null,413]
[null,414]
[null,415]
[null,416]
[4,417]
[null,418]
[null,419]
[null,420]
[null,421]
[null,422]
[null,423]
[null,424]
[null,425]
[null,426]
[null,427]
[null,428]
[null,429]
[4,430]
[null,431]
[null,432]
[null,433]
[null,434]
[null,435]
[null,436]
[null,437]
[null,438]
[null,439]
[null,440]
[null,441]
[null,442]
[4,443]
[null,444]
[null,445]
[null,446]
[null,447]
[null,448]
[null,449]
[null,450]
[null,451]
[null,452]
[null,453]
[null,454]
[null,455]
[4,456]
[null,457]
[null,458]
[null,459]
[null,460]
[null,461]
[null,462]
[null,463]
[null,464]
[null,465]
[null,466]
[null,467]
[null,468]
[4,469]
[null,470]
[null,471]
[null,472]
[null,473]
[null,474]
[null,475]
[null,476]
[null,477]
[null,478]
[null,479]
[null,480]
[null,481]
[4,482]
[null,483]
[null,484]
[null,485]
[null,486]
[null,487]
[null,488]
[null,489]
[null,490]
[null,491]
[null,492]
[null,493]
[null,494]
[4,495]
[null,496]
[null,497]
[null,498]
[null,499]
[null,500]
[null,501]
[null,502]
[null,503]
[null,504]
[null,505]
[null,506]
[null,507]
[4,508]
[null,509]
[null,510]
[null,511]
[null,512]
[null,513]
[null,514]
[null,515]
[null,516]
[null,517]
[null,518]
[null,519]
[null,520]
[5,521]
[null,522]
[null,523]
[null,524]
[null,525]
[null,526]
[null,527]
[null,528]
[null,529]
[null,530]
[null,531]
[null,532]
[null,533]
[5,534]
[null,535]
[null,536]
[null,537]
[null,538]
[null,539]
[null,540]
[null,541]
[null,542]
[null,543]
[null,544]
[null,545]
[null,546]
[5,547]
[null,548]
[null,549]
[null,550]
[null,551]
[null,552]
[null,553]
[null,554]
[null,555]
[null,556]
[null,557]
[null,558]
[null,559]
[5,560]
[null,561]
[null,562]
[null,563]
[null,564]
[null,565]
[null,566]
[null,567]
[null,568]
[null,569]
[null,570]
[null,571]
[null,572]
[5,573]
[null,574]
[null,575]
[null,576]
[null,577]
[null,578]
[null,579]
[null,580]
[null,581]
[null,582]
[null,583]
[null,584]
[null,585]
[5,586]
[null,587]
[null,588]
[null,589]
[null,590]
[null,591]
[null,592]
[null,593]
[null,594]
[null,595]
[null,596]
[null,597]
[null,598]
[5,599]
[null,600]
[null,601]
[null,602]
[null,603]
[null,604]
[null,605]
[null,606]
[null,607]
[null,608]
[null,609]
[null,610]
[null,611]
[5,612]
[null,613]
[null,614]
[null,615]
[null,616]
[null,617]
[null,618]
[null,619]
[null,620]
[null,621]
[null,622]
[null,623]
[null,624]
[5,625]
[null,626]
[null,627]
[null,628]
[null,629]
[null,630]
[null,631]
[null,632]
[null,633]
[null,634]
[null,635]
[null,636]
[null,637]
[5,638]
[null,639]
[null,640]
[null,641]
[null,642]
[null,643]
[null,644]
[null,645]
[null,646]
[null,647]
[null,648]
[null,649]
[null,650]
[6,651]
[null,652]
[null,653]
[null,654]
[null,655]
[null,656]
[null,657]
[null,658]
[null,659]
[null,660]
[null,661]
[null,662]
[null,663]
[6,664]
[null,665]
[null,666]
[null,667]
[null,668]
[null,669]
[null,670]
[null,671]
[null,672]
[null,673]
[null,674]
[null,675]
[null,676]
[6,677]
[null,678]
[null,679]
[null,680]
[null,681]
[null,682]
[null,683]
[null,684]
[null,685]
[null,686]
[null,687]
[null,688]
[null,689]
[6,690]
[null,691]
[null,692]
[null,693]
[null,694]
[null,695]
[null,696]
[null,697]
[null,698]
[null,699]
[null,700]
[null,701]
[null,702]
[6,703]
[null,704]
[null,705]
[null,706]
[null,707]
[null,708]
[null,709]
[null,710]
[null,711]
[null,712]
[null,713]
[null,714]
[null,715]
[6,716]
[null,717]
[null,718]
[null,719]
[null,720]
[null,721]
[null,722]
[null,723]
[null,724]
[null,725]
[null,726]
[null,727]
[null,728]
[6,729]
[null,730]
[null,731]
[null,732]
[null,733]
[null,734]
[null,735]
[null,736]
[null,737]
[null,738]
[null,739]
[null,740]
[null,741]
[6,742]
[null,743]
[null,744]
[null,745]
[null,746]
[null,747]
[null,748]
[null,749]
[null,750]
[null,751]
[null,752]
[null,753]
[null,754]
[6,755]
[null,756]
[null,757]
[null,758]
[null,759]
[null,760]
[null,761]
[null,762]
[null,763]
[null,764]
[null,765]
[null,766]
[null,767]
[6,768]
[null,769]
[null,770]
[null,771]
[null,772]
[null,773]
[null,774]
[null,775]
[null,776]
[null,777]
[null,778]
[null,779]
[null,780]
[7,781]
[null,782]
[null,783]
[null,784]
[null,785]
[null,786]
[null,787]
[null,788]
[null,789]
[null,790]
[null,791]
[null,792]
[null,793]
[7,794]
[null,795]
[null,796]
[null,797]
[null,798]
[null,799]
[null,800]
[null,801]
[null,802]
[null,803]
[null,804]
[null,805]
[null,806]
[7,807]
[null,808]
[null,809]
[null,810]
[null,811]
[null,812]
[null,813]
[null,814]
[null,815]
[null,816]
[null,817]
[null,818]
[null,819]
[7,820]
[null,821]
[null,822]
[null,823]
[null,824]
[null,825]
[null,826]
[null,827]
[null,828]
[null,829]
[null,830]
[null,831]
[null,832]
[7,833]
[null,834]
[null,835]
[null,836]
[null,837]
[null,838]
[null,839]
[null,840]
[null,841]
[null,842]
[null,843]
[null,844]
[null,845]
[7,846]
[null,847]
[null,848]
[null,849]
[null,850]
[null,851]
[null,852]
[null,853]
[null,854]
[null,855]
[null,856]
[null,857]
[null,858]
[7,859]
[null,860]
[null,861]
[null,862]
[null,863]
[null,864]
[null,865]
[null,866]
[null,867]
[null,868]
[null,869]
[null,870]
[null,871]
[7,872]
[null,873]
[null,874]
[null,875]
[null,876]
[null,877]
[null,878]
[null,879]
[null,880]
[null,881]
[null,882]
[null,883]
[null,884]
[7,885]
[null,886]
[null,887]
[null,888]
[null,889]
[null,890]
[null,891]
[null,892]
[null,893]
[null,894]
[null,895]
[null,896]
[null,897]
[7,898]
[null,899]
[null,900]
[null,901]
[null,902]
[null,903]
[null,904]
[null,905]
[null,906]
[null,907]
[null,908]
[null,909]
[null,910]
[8,911]
[null,912]
[null,913]
[null,914]
[null,915]
[null,916]
[null,917]
[null,918]
[null,919]
[null,920]
[null,921]
[null,922]
[null,923]
[8,924]
[null,925]
[null,926]
[null,927]
[null,928]
[null,929]
[null,930]
[null,931]
[null,932]
[null,933]
[null,934]
[null,935]
[null,936]
[8,937]
[null,938]
[null,939]
[null,940]
[null,941]
[null,942]
[null,943]
[null,944]
[null,945]
[null,946]
[null,947]
[null,948]
[null,949]
[8,950]
[null,951]
[null,952]
[null,953]
[null,954]
[null,955]
[null,956]
[null,957]
[null,958]
[null,959]
[null,960]
[null,961]
[null,962]
[8,963]
[null,964]
[null,965]
[null,966]
[null,967]
[null,968]
[null,969]
[null,970]
[null,971]
[null,972]
[null,973]
[null,974]
[null,975]
[8,976]
[null,977]
[null,978]
[null,979]
[null,980]
[null,981]
[null,982]
[null,983]
[null,984]
[null,985]
[null,986]
[null,987]
[null,988]
[8,989]
[null,990]
[null,991]
[null,992]
[null,993]
[null,994]
[null,995]
[null,996]
[null,997]
[null,998]
[null,999]
[null,1000]
[null,1001]
[8,1002]
[null,1003]
[null,1004]
[null,1005]
[null,1006]
[null,1007]
[null,1008]
[null,1009]
[null,1010]
[null,1011]
[null,1012]
[null,1013]
[null,1014]
[8,1015]
[null,1016]
[null,1017]
[null,1018]
[null,1019]
[null,1020]
[null,1021]
[null,1022]
[null,1023]
[null,1024]
[null,1025]
[null,1026]
[null,1027]
[8,1028]
[null,1029]
[null,1030]
[null,1031]
[null,1032]
[null,1033]
[null,1034]
[null,1035]
[null,1036]
[null,1037]
[null,1038]
[null,1039]
[null,1040]
[9,1041]
[null,1042]
[null,1043]
[null,1044]
[null,1045]
[null,1046]
[null,1047]
[null,1048]
[null,1049]
[null,1050]
[null,1051]
[null,1052]
[null,1053]
[9,1054]
[null,1055]
[null,1056]
[null,1057]
[null,1058]
[null,1059]
[null,1060]
[null,1061]
[null,1062]
[null,1063]
[null,1064]
[null,1065]
[null,1066]
[9,1067]
[null,1068]
[null,1069]
[null,1070]
[null,1071]
[null,1072]
[null,1073]
[null,1074]
[null,1075]
[null,1076]
[null,1077]
[null,1078]
[null,1079]
[9,1080]
[null,1081]
[null,1082]
[null,1083]
[null,1084]
[null,1085]
[null,1086]
[null,1087]
[null,1088]
[null,1089]
[null,1090]
[null,1091]
[null,1092]
[9,1093]
[null,1094]
[null,1095]
[null,1096]
[null,1097]
[null,1098]
[null,1099]
[null,1100]
[null,1101]
[null,1102]
[null,1103]
[null,1104]
[null,1105]
[9,1106]
[null,1107]
[null,1108]
[null,1109]
[null,1110]
[null,1111]
[null,1112]
[null,1113]
[null,1114]
[null,1115]
[null,1116]
[null,1117]
[null,1118]
[9,1119]
[null,1120]
[null,1121]
[null,1122]
[null,1123]
[null,1124]
[null,1125]
[null,1126]
[null,1127]
[null,1128]
[null,1129]
[null,1130]
[null,1131]
[9,1132]
[null,1133]
[null,1134]
[null,1135]
[null,1136]
[null,1137]
[null,1138]
[null,1139]
[null,1140]
[null,1141]
[null,1142]
[null,1143]
[null,1144]
[9,1145]
[null,1146]
[null,1147]
[null,1148]
[null,1149]
[null,1150]
[null,1151]
[null,1152]
[null,1153]
[null,1154]
[null,1155]
[null,1156]
[null,1157]
[9,1158]
[null,1159]
[null,1160]
[null,1161]
[null,1162]
[null,1163]
[null,1164]
[null,1165]
[null,1166]
[null,1167]
[null,1168]
[null,1169]
[null,1170]
[10,1171]
[null,1172]
[null,1173]
[null,1174]
[null,1175]
[null,1176]
[null,1177]
[null,1178]
[null,1179]
[null,1180]
[null,1181]
[null,1182]
[null,1183]
[10,1184]
[null,1185]
[null,1186]
[null,1187]
[null,1188]
[null,1189]
[null,1190]
[null,1191]
[null,1192]
[null,1193]
[null,1194]
[null,1195]
[null,1196]
[10,1197]
[null,1198]
[null,1199]
[null,1200]
[null,1201]
[null,1202]
[null,1203]
[null,1204]
[null,1205]
[null,1206]
[null,1207]
[null,1208]
[null,1209]
[10,1210]
[null,1211]
[null,1212]
[null,1213]
[null,1214]
[null,1215]
[null,1216]
[null,1217]
[null,1218]
[null,1219]
[null,1220]
[null,1221]
[null,1222]
[10,1223]
[null,1224]
[null,1225]
[null,1226]
[null,1227]
[null,1228]
[null,1229]
[null,1230]
[null,1231]
[null,1232]
[null,1233]
[null,1234]
[null,1235]
[10,1236]
[null,1237]
[null,1238]
[null,1239]
[null,1240]
[null,1241]
[null,1242]
[null,1243]
[null,1244]
[null,1245]
[null,1246]
[null,1247]
[null,1248]
[10,1249]
[null,1250]
[null,1251]
[null,1252]
[null,1253]
[null,1254]
[null,1255]
[null,1256]
[null,1257]
[null,1258]
[null,1259]
[null,1260]
[null,1261]
[10,1262]
[null,1263]
[null,1264]
[null,1265]
[null,1266]
[null,1267]
[null,1268]
[null,1269]
[null,1270]
[null,1271]
[null,1272]
[null,1273]
[null,1274]
[10,1275]
[null,1276]
[null,1277]
[null,1278]
[null,1279]
[null,1280]
[null,1281]
[null,1282]
[null,1283]
[null,1284]
[null,1285]
[null,1286]
[null,1287]
[10,1288]
[null,1289]
[null,1290]
[null,1291]
[null,1292]
[null,1293]
[null,1294]
[null,1295]
[null,1296]
[null,1297]
[null,1298]
[null,1299]
[null,1300]

{"sheet":"④工事経歴書の作成","index":7,"n_rows":396,"n_cols":18,"rows_kept":396,"cut":false,"hidden":false,"merged":[[1,0,1,1],[82,0,94,0],[2,6,3,6],[56,0,68,0],[2,3,3,3],[0,2,0,17],[2,10,2,13],[2,14,2,15],[2,16,2,17],[2,2,3,2],[2,5,3,5],[2,7,2,9],[2,4,3,4],[121,0,133,0],[108,0,120,0],[4,0,16,0],[17,0,29,0],[30,0,42,0],[69,0,81,0],[95,0,107,0],[43,0,55,0]]}
[null,null,"　　↓最初に1～130のボタンをクリックしてください。元請金額順、下請金額順に130件のデータを取り込みます。\n　　↓次に、編集加工できる工事経歴書の作成ボタンをクリックしてください。\n　　　　工事経歴書が１０枚作成されますので、自由に編集加工、保存、印刷してください。\n　　↓１１枚以上になる場合は、131～260のボタンをクリックし、上記の作業を繰り返します。\n　　↓これを繰り返すと、最大1300件（100枚）の工事経歴書ができあがります。　　　　　"]
["初めに→\n\n\n次に→"]
[null,null,"注文者","下請\n又は\n元請","JV","工事名","工事場所","技術者",null,null,"請負代金",null,null,null,"着工",null,"完成"]
[null,null,null,null,null,null,null,"氏名","主任","監理","請負代金","請負代金\n（上段）","うち","うち\n（上段）","年","月","年","月"]
[1,1]
[null,2]
[null,3]
[null,4]
[null,5]
[null,6]
[null,7]
[null,8]
[null,9]
[null,10]
[null,11]
[null,12]
[null,13]
[2,14]
[null,15]
[null,16]
[null,17]
[null,18]
[null,19]
[null,20]
[null,21]
[null,22]
[null,23]
[null,24]
[null,25]
[null,26]
[3,27]
[null,28]
[null,29]
[null,30]
[null,31]
[null,32]
[null,33]
[null,34]
[null,35]
[null,36]
[null,37]
[null,38]
[null,39]
[4,40]
[null,41]
[null,42]
[null,43]
[null,44]
[null,45]
[null,46]
[null,47]
[null,48]
[null,49]
[null,50]
[null,51]
[null,52]
[5,53]
[null,54]
[null,55]
[null,56]
[null,57]
[null,58]
[null,59]
[null,60]
[null,61]
[null,62]
[null,63]
[null,64]
[null,65]
[6,66]
[null,67]
[null,68]
[null,69]
[null,70]
[null,71]
[null,72]
[null,73]
[null,74]
[null,75]
[null,76]
[null,77]
[null,78]
[7,79]
[null,80]
[null,81]
[null,82]
[null,83]
[null,84]
[null,85]
[null,86]
[null,87]
[null,88]
[null,89]
[null,90]
[null,91]
[8,92]
[null,93]
[null,94]
[null,95]
[null,96]
[null,97]
[null,98]
[null,99]
[null,100]
[null,101]
[null,102]
[null,103]
[null,104]
[9,105]
[null,106]
[null,107]
[null,108]
[null,109]
[null,110]
[null,111]
[null,112]
[null,113]
[null,114]
[null,115]
[null,116]
[null,117]
[10,118]
[null,119]
[null,120]
[null,121]
[null,122]
[null,123]
[null,124]
[null,125]
[null,126]
[null,127]
[null,128]
[null,129]
[null,130]
[]
[]
[]
[null,{"$f":"+B5","v":1},{"$f":"+C5","v":0},0,0,0,0,0,0,0,0,0,0,0,0,0,0,0]
[]
[null,{"$f":"+B6","v":2},0,0,0,0,0,0,0,0,0,0,0,0,0,0,0,{"$f":"+R6","v":0}]
[]
[null,{"$f":"+B7","v":3},0,0,0,0,0,0,0,0,0,0,0,0,0,0,0,{"$f":"+R7","v":0}]
[]
[null,{"$f":"+B8","v":4},0,0,0,0,0,0,0,0,0,0,0,0,0,0,0,{"$f":"+R8","v":0}]
[]
[null,{"$f":"+B9","v":5},0,0,0,0,0,0,0,0,0,0,0,0,0,0,0,{"$f":"+R9","v":0}]
[]
[null,{"$f":"+B10","v":6},0,0,0,0,0,0,0,0,0,0,0,0,0,0,0,{"$f":"+R10","v":0}]
[]
[null,{"$f":"+B11","v":7},0,0,0,0,0,0,0,0,0,0,0,0,0,0,0,{"$f":"+R11","v":0}]
[]
[null,{"$f":"+B12","v":8},0,0,0,0,0,0,0,0,0,0,0,0,0,0,0,{"$f":"+R12","v":0}]
[]
[null,{"$f":"+B13","v":9},0,0,0,0,0,0,0,0,0,0,0,0,0,0,0,{"$f":"+R13","v":0}]
[]
[null,{"$f":"+B14","v":10},0,0,0,0,0,0,0,0,0,0,0,0,0,0,0,{"$f":"+R14","v":0}]
[]
[null,{"$f":"+B15","v":11},0,0,0,0,0,0,0,0,0,0,0,0,0,0,0,{"$f":"+R15","v":0}]
[]
[null,{"$f":"+B16","v":12},0,0,0,0,0,0,0,0,0,0,0,0,0,0,0,{"$f":"+R16","v":0}]
[]
[null,{"$f":"+B17","v":13},0,0,0,0,0,0,0,0,0,0,0,0,0,0,0,{"$f":"+R17","v":0}]
[]
[null,{"$f":"+B18","v":14},0,0,0,0,0,0,0,0,0,0,0,0,0,0,0,{"$f":"+R18","v":0}]
[]
[null,{"$f":"+B19","v":15},0,0,0,0,0,0,0,0,0,0,0,0,0,0,0,{"$f":"+R19","v":0}]
[]
[null,{"$f":"+B20","v":16},0,0,0,0,0,0,0,0,0,0,0,0,0,0,0,{"$f":"+R20","v":0}]
[]
[null,{"$f":"+B21","v":17},0,0,0,0,0,0,0,0,0,0,0,0,0,0,0,{"$f":"+R21","v":0}]
[]
[null,{"$f":"+B22","v":18},0,0,0,0,0,0,0,0,0,0,0,0,0,0,0,{"$f":"+R22","v":0}]
[]
[null,{"$f":"+B23","v":19},0,0,0,0,0,0,0,0,0,0,0,0,0,0,0,{"$f":"+R23","v":0}]
[]
[null,{"$f":"+B24","v":20},0,0,0,0,0,0,0,0,0,0,0,0,0,0,0,{"$f":"+R24","v":0}]
[]
[null,{"$f":"+B25","v":21},0,0,0,0,0,0,0,0,0,0,0,0,0,0,0,{"$f":"+R25","v":0}]
[]
[null,{"$f":"+B26","v":22},0,0,0,0,0,0,0,0,0,0,0,0,0,0,0,{"$f":"+R26","v":0}]
[]
[null,{"$f":"+B27","v":23},0,0,0,0,0,0,0,0,0,0,0,0,0,0,0,{"$f":"+R27","v":0}]
[]
[null,{"$f":"+B28","v":24},0,0,0,0,0,0,0,0,0,0,0,0,0,0,0,{"$f":"+R28","v":0}]
[]
[null,{"$f":"+B29","v":25},0,0,0,0,0,0,0,0,0,0,0,0,0,0,0,{"$f":"+R29","v":0}]
[]
[null,{"$f":"+B30","v":26},0,0,0,0,0,0,0,0,0,0,0,0,0,0,0,{"$f":"+R30","v":0}]
[]
[null,{"$f":"+B31","v":27},0,0,0,0,0,0,0,0,0,0,0,0,0,0,0,{"$f":"+R31","v":0}]
[]
[null,{"$f":"+B32","v":28},0,0,0,0,0,0,0,0,0,0,0,0,0,0,0,{"$f":"+R32","v":0}]
[]
[null,{"$f":"+B33","v":29},0,0,0,0,0,0,0,0,0,0,0,0,0,0,0,{"$f":"+R33","v":0}]
[]
[null,{"$f":"+B34","v":30},0,0,0,0,0,0,0,0,0,0,0,0,0,0,0,{"$f":"+R34","v":0}]
[]
[null,{"$f":"+B35","v":31},0,0,0,0,0,0,0,0,0,0,0,0,0,0,0,{"$f":"+R35","v":0}]
[]
[null,{"$f":"+B36","v":32},0,0,0,0,0,0,0,0,0,0,0,0,0,0,0,{"$f":"+R36","v":0}]
[]
[null,{"$f":"+B37","v":33},0,0,0,0,0,0,0,0,0,0,0,0,0,0,0,{"$f":"+R37","v":0}]
[]
[null,{"$f":"+B38","v":34},0,0,0,0,0,0,0,0,0,0,0,0,0,0,0,{"$f":"+R38","v":0}]
[]
[null,{"$f":"+B39","v":35},0,0,0,0,0,0,0,0,0,0,0,0,0,0,0,{"$f":"+R39","v":0}]
[]
[null,{"$f":"+B40","v":36},0,0,0,0,0,0,0,0,0,0,0,0,0,0,0,{"$f":"+R40","v":0}]
[]
[null,{"$f":"+B41","v":37},0,0,0,0,0,0,0,0,0,0,0,0,0,0,0,{"$f":"+R41","v":0}]
[]
[null,{"$f":"+B42","v":38},0,0,0,0,0,0,0,0,0,0,0,0,0,0,0,{"$f":"+R42","v":0}]
[]
[null,{"$f":"+B43","v":39},0,0,0,0,0,0,0,0,0,0,0,0,0,0,0,{"$f":"+R43","v":0}]
[]
[null,{"$f":"+B44","v":40},0,0,0,0,0,0,0,0,0,0,0,0,0,0,0,{"$f":"+R44","v":0}]
[]
[null,{"$f":"+B45","v":41},0,0,0,0,0,0,0,0,0,0,0,0,0,0,0,{"$f":"+R45","v":0}]
[]
[null,{"$f":"+B46","v":42},0,0,0,0,0,0,0,0,0,0,0,0,0,0,0,{"$f":"+R46","v":0}]
[]
[null,{"$f":"+B47","v":43},0,0,0,0,0,0,0,0,0,0,0,0,0,0,0,{"$f":"+R47","v":0}]
[]
[null,{"$f":"+B48","v":44},0,0,0,0,0,0,0,0,0,0,0,0,0,0,0,{"$f":"+R48","v":0}]
[]
[null,{"$f":"+B49","v":45},0,0,0,0,0,0,0,0,0,0,0,0,0,0,0,{"$f":"+R49","v":0}]
[]
[null,{"$f":"+B50","v":46},0,0,0,0,0,0,0,0,0,0,0,0,0,0,0,{"$f":"+R50","v":0}]
[]
[null,{"$f":"+B51","v":47},0,0,0,0,0,0,0,0,0,0,0,0,0,0,0,{"$f":"+R51","v":0}]
[]
[null,{"$f":"+B52","v":48},0,0,0,0,0,0,0,0,0,0,0,0,0,0,0,{"$f":"+R52","v":0}]
[]
[null,{"$f":"+B53","v":49},0,0,0,0,0,0,0,0,0,0,0,0,0,0,0,{"$f":"+R53","v":0}]
[]
[null,{"$f":"+B54","v":50},0,0,0,0,0,0,0,0,0,0,0,0,0,0,0,{"$f":"+R54","v":0}]
[]
[null,{"$f":"+B55","v":51},0,0,0,0,0,0,0,0,0,0,0,0,0,0,0,{"$f":"+R55","v":0}]
[]
[null,{"$f":"+B56","v":52},0,0,0,0,0,0,0,0,0,0,0,0,0,0,0,{"$f":"+R56","v":0}]
[]
[null,{"$f":"+B57","v":53},0,0,0,0,0,0,0,0,0,0,0,0,0,0,0,0]
[]
[null,{"$f":"+B58","v":54},{"$f":"+C58","v":0},0,0,0,0,0,0,0,0,0,0,0,0,0,0,0]
[]
[null,{"$f":"+B59","v":55},0,0,0,0,0,0,0,0,0,0,0,0,0,0,0,{"$f":"+R59","v":0}]
[]
[null,{"$f":"+B60","v":56},0,0,0,0,0,0,0,0,0,0,0,0,0,0,0,{"$f":"+R60","v":0}]
[]
[null,{"$f":"+B61","v":57},0,0,0,0,0,0,0,0,0,0,0,0,0,0,0,{"$f":"+R61","v":0}]
[]
[null,{"$f":"+B62","v":58},0,0,0,0,0,0,0,0,0,0,0,0,0,0,0,{"$f":"+R62","v":0}]
[]
[null,{"$f":"+B63","v":59},0,0,0,0,0,0,0,0,0,0,0,0,0,0,0,{"$f":"+R63","v":0}]
[]
[null,{"$f":"+B64","v":60},0,0,0,0,0,0,0,0,0,0,0,0,0,0,0,{"$f":"+R64","v":0}]
[]
[null,{"$f":"+B65","v":61},0,0,0,0,0,0,0,0,0,0,0,0,0,0,0,{"$f":"+R65","v":0}]
[]
[null,{"$f":"+B66","v":62},0,0,0,0,0,0,0,0,0,0,0,0,0,0,0,{"$f":"+R66","v":0}]
[]
[null,{"$f":"+B67","v":63},0,0,0,0,0,0,0,0,0,0,0,0,0,0,0,{"$f":"+R67","v":0}]
[]
[null,{"$f":"+B68","v":64},0,0,0,0,0,0,0,0,0,0,0,0,0,0,0,{"$f":"+R68","v":0}]
[]
[null,{"$f":"+B69","v":65},0,0,0,0,0,0,0,0,0,0,0,0,0,0,0,{"$f":"+R69","v":0}]
[]
[null,{"$f":"+B70","v":66},0,0,0,0,0,0,0,0,0,0,0,0,0,0,0,{"$f":"+R70","v":0}]
[]
[null,{"$f":"+B71","v":67},0,0,0,0,0,0,0,0,0,0,0,0,0,0,0,{"$f":"+R71","v":0}]
[]
[null,{"$f":"+B72","v":68},0,0,0,0,0,0,0,0,0,0,0,0,0,0,0,{"$f":"+R72","v":0}]
[]
[null,{"$f":"+B73","v":69},0,0,0,0,0,0,0,0,0,0,0,0,0,0,0,{"$f":"+R73","v":0}]
[]
[null,{"$f":"+B74","v":70},0,0,0,0,0,0,0,0,0,0,0,0,0,0,0,0]
[]
[null,{"$f":"+B75","v":71},0,0,0,0,0,0,0,0,0,0,0,0,0,0,0,{"$f":"+R75","v":0}]
[]
[null,{"$f":"+B76","v":72},0,0,0,0,0,0,0,0,0,0,0,0,0,0,0,{"$f":"+R76","v":0}]
[]
[null,{"$f":"+B77","v":73},0,0,0,0,0,0,0,0,0,0,0,0,0,0,0,{"$f":"+R77","v":0}]
[]
[null,{"$f":"+B78","v":74},0,0,0,0,0,0,0,0,0,0,0,0,0,0,0,{"$f":"+R78","v":0}]
[]
[null,{"$f":"+B79","v":75},0,0,0,0,0,0,0,0,0,0,0,0,0,0,0,{"$f":"+R79","v":0}]
[]
[null,{"$f":"+B80","v":76},0,0,0,0,0,0,0,0,0,0,0,0,0,0,0,{"$f":"+R80","v":0}]
[]
[null,{"$f":"+B81","v":77},0,0,0,0,0,0,0,0,0,0,0,0,0,0,0,{"$f":"+R81","v":0}]
[]
[null,{"$f":"+B82","v":78},0,0,0,0,0,0,0,0,0,0,0,0,0,0,0,{"$f":"+R82","v":0}]
[]
[null,{"$f":"+B83","v":79},0,0,0,0,0,0,0,0,0,0,0,0,0,0,0,{"$f":"+R83","v":0}]
[]
[null,{"$f":"+B84","v":80},0,0,0,0,0,0,0,0,0,0,0,0,0,0,0,{"$f":"+R84","v":0}]
[]
[null,{"$f":"+B85","v":81},0,0,0,0,0,0,0,0,0,0,0,0,0,0,0,{"$f":"+R85","v":0}]
[]
[null,{"$f":"+B86","v":82},0,0,0,0,0,0,0,0,0,0,0,0,0,0,0,{"$f":"+R86","v":0}]
[]
[null,{"$f":"+B87","v":83},{"$f":"+C87","v":0},0,0,0,0,0,0,0,0,0,0,0,0,0,0,0]
[]
[null,{"$f":"+B88","v":84},0,0,0,0,0,0,0,0,0,0,0,0,0,0,0,{"$f":"+R88","v":0}]
[]
[null,{"$f":"+B89","v":85},0,0,0,0,0,0,0,0,0,0,0,0,0,0,0,{"$f":"+R89","v":0}]
[]
[null,{"$f":"+B90","v":86},0,0,0,0,0,0,0,0,0,0,0,0,0,0,0,{"$f":"+R90","v":0}]
[]
[null,{"$f":"+B91","v":87},0,0,0,0,0,0,0,0,0,0,0,0,0,0,0,{"$f":"+R91","v":0}]
[]
[null,{"$f":"+B92","v":88},0,0,0,0,0,0,0,0,0,0,0,0,0,0,0,{"$f":"+R92","v":0}]
[]
[null,{"$f":"+B93","v":89},0,0,0,0,0,0,0,0,0,0,0,0,0,0,0,{"$f":"+R93","v":0}]
[]
[null,{"$f":"+B94","v":90},0,0,0,0,0,0,0,0,0,0,0,0,0,0,0,{"$f":"+R94","v":0}]
[]
[null,{"$f":"+B95","v":91},0,0,0,0,0,0,0,0,0,0,0,0,0,0,0,{"$f":"+R95","v":0}]
[]
[null,{"$f":"+B96","v":92},0,0,0,0,0,0,0,0,0,0,0,0,0,0,0,{"$f":"+R96","v":0}]
[]
[null,{"$f":"+B97","v":93},0,0,0,0,0,0,0,0,0,0,0,0,0,0,0,{"$f":"+R97","v":0}]
[]
[null,{"$f":"+B98","v":94},0,0,0,0,0,0,0,0,0,0,0,0,0,0,0,{"$f":"+R98","v":0}]
[]
[null,{"$f":"+B99","v":95},0,0,0,0,0,0,0,0,0,0,0,0,0,0,0,{"$f":"+R99","v":0}]
[]
[null,{"$f":"+B100","v":96},0,0,0,0,0,0,0,0,0,0,0,0,0,0,0,{"$f":"+R100","v":0}]
[]
[null,{"$f":"+B101","v":97},0,0,0,0,0,0,0,0,0,0,0,0,0,0,0,{"$f":"+R101","v":0}]
[]
[null,{"$f":"+B102","v":98},0,0,0,0,0,0,0,0,0,0,0,0,0,0,0,{"$f":"+R102","v":0}]
[]
[null,{"$f":"+B103","v":99},0,0,0,0,0,0,0,0,0,0,0,0,0,0,0,{"$f":"+R103","v":0}]
[]
[null,{"$f":"+B104","v":100},0,0,0,0,0,0,0,0,0,0,0,0,0,0,0,{"$f":"+R104","v":0}]
[]
[null,{"$f":"+B105","v":101},0,0,0,0,0,0,0,0,0,0,0,0,0,0,0,{"$f":"+R105","v":0}]
[]
[null,{"$f":"+B106","v":102},0,0,0,0,0,0,0,0,0,0,0,0,0,0,0,{"$f":"+R106","v":0}]
[]
[null,{"$f":"+B107","v":103},0,0,0,0,0,0,0,0,0,0,0,0,0,0,0,{"$f":"+R107","v":0}]
[]
[null,{"$f":"+B108","v":104},0,0,0,0,0,0,0,0,0,0,0,0,0,0,0,{"$f":"+R108","v":0}]
[]
[null,{"$f":"+B109","v":105},0,0,0,0,0,0,0,0,0,0,0,0,0,0,0,{"$f":"+R109","v":0}]
[]
[null,{"$f":"+B110","v":106},0,0,0,0,0,0,0,0,0,0,0,0,0,0,0,{"$f":"+R110","v":0}]
[]
[null,{"$f":"+B111","v":107},0,0,0,0,0,0,0,0,0,0,0,0,0,0,0,{"$f":"+R111","v":0}]
[]
[null,{"$f":"+B112","v":108},0,0,0,0,0,0,0,0,0,0,0,0,0,0,0,{"$f":"+R112","v":0}]
[]
[null,{"$f":"+B113","v":109},0,0,0,0,0,0,0,0,0,0,0,0,0,0,0,{"$f":"+R113","v":0}]
[]
[null,{"$f":"+B114","v":110},0,0,0,0,0,0,0,0,0,0,0,0,0,0,0,{"$f":"+R114","v":0}]
[]
[null,{"$f":"+B115","v":111},0,0,0,0,0,0,0,0,0,0,0,0,0,0,0,{"$f":"+R115","v":0}]
[]
[null,{"$f":"+B116","v":112},0,0,0,0,0,0,0,0,0,0,0,0,0,0,0,{"$f":"+R116","v":0}]
[]
[null,{"$f":"+B117","v":113},0,0,0,0,0,0,0,0,0,0,0,0,0,0,0,{"$f":"+R117","v":0}]
[]
[null,{"$f":"+B118","v":114},0,0,0,0,0,0,0,0,0,0,0,0,0,0,0,{"$f":"+R118","v":0}]
[]
[null,{"$f":"+B119","v":115},0,0,0,0,0,0,0,0,0,0,0,0,0,0,0,{"$f":"+R119","v":0}]
[]
[null,{"$f":"+B120","v":116},0,0,0,0,0,0,0,0,0,0,0,0,0,0,0,{"$f":"+R120","v":0}]
[]
[null,{"$f":"+B121","v":117},0,0,0,0,0,0,0,0,0,0,0,0,0,0,0,{"$f":"+R121","v":0}]
[]
[null,{"$f":"+B122","v":118},0,0,0,0,0,0,0,0,0,0,0,0,0,0,0,{"$f":"+R122","v":0}]
[]
[null,{"$f":"+B123","v":119},0,0,0,0,0,0,0,0,0,0,0,0,0,0,0,{"$f":"+R123","v":0}]
[]
[null,{"$f":"+B124","v":120},0,0,0,0,0,0,0,0,0,0,0,0,0,0,0,{"$f":"+R124","v":0}]
[]
[null,{"$f":"+B125","v":121},0,0,0,0,0,0,0,0,0,0,0,0,0,0,0,{"$f":"+R125","v":0}]
[]
[null,{"$f":"+B126","v":122},0,0,0,0,0,0,0,0,0,0,0,0,0,0,0,{"$f":"+R126","v":0}]
[]
[null,{"$f":"+B127","v":123},0,0,0,0,0,0,0,0,0,0,0,0,0,0,0,{"$f":"+R127","v":0}]
[]
[null,{"$f":"+B128","v":124},0,0,0,0,0,0,0,0,0,0,0,0,0,0,0,{"$f":"+R128","v":0}]
[]
[null,{"$f":"+B129","v":125},0,0,0,0,0,0,0,0,0,0,0,0,0,0,0,{"$f":"+R129","v":0}]
[]
[null,{"$f":"+B130","v":126},0,0,0,0,0,0,0,0,0,0,0,0,0,0,0,{"$f":"+R130","v":0}]
[]
[null,{"$f":"+B131","v":127},0,0,0,0,0,0,0,0,0,0,0,0,0,0,0,{"$f":"+R131","v":0}]
[]
[null,{"$f":"+B132","v":128},0,0,0,0,0,0,0,0,0,0,0,0,0,0,0,{"$f":"+R132","v":0}]
[]
[null,{"$f":"+B133","v":129},0,0,0,0,0,0,0,0,0,0,0,0,0,0,0,{"$f":"+R133","v":0}]
[]
[null,{"$f":"+B134","v":130},0,0,0,0,0,0,0,0,0,0,0,0,0,0,0,{"$f":"+R134","v":0}]

{"sheet":"1","index":8,"n_rows":53,"n_cols":35,"rows_kept":53,"cut":false,"hidden":false,"merged":[[8,1,12,1],[13,1,14,1],[8,15,8,24],[9,15,12,19],[9,20,10,24],[11,20,12,24],[13,19,14,19],[13,16,14,16],[13,17,14,17],[13,8,14,8],[9,8,9,10],[10,8,10,10],[11,8,12,8],[13,7,14,7],[9,7,12,7],[13,22,14,22],[13,23,14,23],[15,15,16,15],[12,13,12,14],[13,12,14,12],[13,14,14,14],[13,15,14,15],[0,1,0,16],[50,7,50,24],[13,6,14,6],[13,0,14,0],[13,4,14,5],[13,20,14,20],[13,2,14,2],[13,3,14,3],[25,19,26,19],[27,18,28,18],[6,2,6,4],[8,6,12,6],[8,2,12,2],[8,11,8,13],[8,4,12,5],[8,3,12,3],[10,13,10,14],[11,13,11,14],[8,7,8,10],[25,24,26,24],[25,22,26,22],[25,23,26,23],[23,24,24,24],[21,23,22,23],[17,22,18,22],[17,23,18,23],[19,23,20,23],[23,23,24,23],[17,24,18,24],[19,24,20,24],[21,24,22,24],[23,22,24,22],[19,21,20,21],[19,22,20,22],[13,24,14,24],[15,24,16,24],[15,23,16,23],[13,21,14,21],[15,4,16,5],[15,6,16,6],[15,8,16,8],[15,12,16,12],[15,7,16,7],[15,19,16,19],[15,17,16,17],[15,14,16,14],[15,18,16,18],[15,16,16,16],[15,20,16,20],[13,18,14,18],[17,17,18,17],[15,21,16,21],[15,22,16,22],[17,18,18,18],[17,4,18,5],[17,6,18,6],[19,17,20,17],[19,20,20,20],[19,18,20,18],[19,19,20,19],[23,16,24,16],[23,17,24,17],[23,18,24,18],[21,17,22,17],[19,16,20,16],[23,20,24,20],[21,18,22,18],[23,21,24,21],[23,14,24,14],[35,18,36,18],[35,17,36,17],[29,19,30,19],[27,19,28,19],[23,19,24,19],[25,18,26,18],[25,15,26,15],[25,16,26,16],[27,16,28,16],[27,17,28,17],[29,18,30,18],[25,17,26,17],[29,15,30,15],[23,15,24,15],[11,31,11,34],[19,9,20,10],[23,9,24,10],[29,9,30,10],[31,9,32,10],[33,9,34,10],[17,19,18,19],[17,20,18,20],[17,16,18,16],[29,24,30,24],[33,16,34,16],[33,17,34,17],[29,17,30,17],[31,16,32,16],[31,17,32,17],[29,23,30,23],[17,21,18,21],[21,21,22,21],[21,22,22,22],[21,20,22,20],[27,23,28,23],[25,20,26,20],[25,21,26,21],[27,24,28,24],[48,18,49,19],[49,20,49,22],[48,20,48,22],[37,20,38,20],[37,21,38,21],[37,22,38,22],[35,20,36,20],[48,23,49,24],[11,27,11,30],[21,19,22,19],[29,20,30,20],[29,21,30,21],[33,18,34,18],[33,19,34,19],[33,20,34,20],[41,20,41,22],[41,23,42,24],[42,20,42,22],[37,23,38,23],[37,24,38,24],[29,22,30,22],[27,20,28,20],[27,21,28,21],[27,22,28,22],[46,15,46,17],[31,22,32,22],[29,16,30,16],[25,0,26,0],[25,1,26,1],[25,2,26,2],[25,3,26,3],[44,10,46,10],[44,12,46,12],[45,9,46,9],[45,11,46,11],[44,14,46,14],[44,15,44,24],[45,13,46,13],[45,15,45,17],[45,18,46,19],[45,20,45,22],[45,23,46,24],[46,20,46,22],[37,7,38,7],[25,7,26,7],[25,8,26,8],[29,7,30,7],[29,8,30,8],[15,0,16,0],[15,1,16,1],[15,2,16,2],[15,3,16,3],[17,0,18,0],[17,1,18,1],[17,2,18,2],[17,3,18,3],[35,0,36,0],[21,0,22,0],[21,1,22,1],[21,2,22,2],[21,3,22,3],[23,0,24,0],[23,1,24,1],[23,2,24,2],[29,0,30,0],[29,1,30,1],[29,2,30,2],[29,3,30,3],[33,0,34,0],[33,2,34,2],[33,1,34,1],[33,3,34,3],[17,7,18,7],[17,8,18,8],[25,4,26,5],[19,6,20,6],[19,7,20,7],[23,4,24,5],[21,4,22,5],[17,14,18,14],[17,15,18,15],[19,8,20,8],[19,12,20,12],[19,14,20,14],[19,15,20,15],[17,12,18,12],[21,9,22,10],[25,12,26,12],[21,6,22,6],[21,7,22,7],[21,8,22,8],[48,12,49,12],[48,14,49,14],[49,15,49,17],[48,15,48,17],[21,12,22,12],[19,0,20,0],[19,1,20,1],[19,2,20,2],[19,3,20,3],[19,4,20,5],[23,3,24,3],[23,6,24,6],[23,7,24,7],[23,8,24,8],[48,8,49,8],[48,10,49,10],[25,6,26,6],[27,7,28,7],[27,8,28,8],[40,8,42,8],[44,8,46,8],[21,14,22,14],[21,15,22,15],[21,16,22,16],[37,8,38,8],[23,12,24,12],[25,14,26,14],[25,9,26,10],[29,12,30,12],[35,8,36,8],[27,6,28,6],[31,8,32,8],[33,8,34,8],[37,9,38,10],[41,9,42,9],[41,11,42,11],[35,14,36,14],[33,12,34,12],[27,12,28,12],[27,14,28,14],[35,9,36,10],[29,14,30,14],[35,12,36,12],[27,9,28,10],[31,12,32,12],[33,14,34,14],[37,14,38,14],[40,10,42,10],[31,0,32,0],[31,1,32,1],[31,2,32,2],[31,3,32,3],[31,4,32,5],[31,21,32,21],[27,0,28,0],[31,19,32,19],[31,20,32,20],[27,1,28,1],[27,2,28,2],[27,3,28,3],[31,14,32,14],[31,15,32,15],[31,6,32,6],[31,7,32,7],[29,4,30,5],[29,6,30,6],[27,4,28,5],[27,15,28,15],[33,4,34,5],[33,6,34,6],[31,18,32,18],[33,7,34,7],[33,24,34,24],[33,21,34,21],[33,15,34,15],[35,1,36,1],[35,2,36,2],[35,3,36,3],[35,4,36,5],[35,6,36,6],[35,7,36,7],[35,15,36,15],[35,16,36,16],[35,19,36,19],[33,22,34,22],[33,23,34,23],[35,24,36,24],[35,21,36,21],[35,22,36,22],[35,23,36,23],[31,23,32,23],[31,24,32,24],[37,0,38,0],[37,1,38,1],[37,2,38,2],[37,3,38,3],[37,4,38,5],[37,6,38,6],[4,1,4,24],[40,12,42,12],[40,14,42,14],[11,9,12,10],[13,9,14,10],[15,9,16,10],[17,9,18,10],[40,15,40,24],[41,18,42,19],[37,12,38,12],[41,13,42,13],[37,16,38,16],[37,17,38,17],[37,18,38,18],[37,19,38,19],[42,15,42,17],[41,15,41,17],[37,15,38,15]]}
[null,"このシートは編集できません。\n「④工事経歴書の作成」のシートの「編集加工できる工事経歴書の作成」のボタンを押してください。\n自由に編集加工できるシートができあがります。"]
[]
[]
[null,"様式第二号 （第二条、第十三条の二、第十三条の三、第十九条の八関係）",null,null,null,null,null,null,null,null,null,null,null,null,null,null,null,null,null,null,null,null,null,null,"（用紙Ａ4）"]
[null,"工　 事　 経　 歴　 書"]
[]
[null,"（建設工事の種類）",{"$f":"+①業種!D13","v":"土木一式"},null,null,"工事","（　　税込　　・","　　税抜　　）"]
[]
[null,"注　　文　　者","元請\n又は\n下請\nの別","JV\nの\n別","工　　　事　　　名",null,"工事現場の\nある都道府\n県及び市区\n町  村  名","配　置　技　術　者",null,null,null,"請　負　代　金　の　額",null,null,null,"工　　　　期"]
[null,null,null,null,null,null,null,"氏　　名","主任技術者又は監理技術者",null,null,null,null,"うち、",null,"着　工　年　月",null,null,null,null,"　完成又は"]
[null,null,null,null,null,null,null,null,"の別（該当箇所にﾚ印を記載)",null,null,null,null,"　　　・ＰＣ"]
[null,null,null,null,null,null,null,null,"主任技術者","監理技術者",null,null,null,"　　　・法面処理",null,null,null,null,null,null,"　完成予定年月",null,null,null,null,null,null,"全体",null,null,null,"元請"]
[null,null,null,null,null,null,null,null,null,null,null,null,null,"　　　・鋼橋上部",null,null,null,null,null,null,null,null,null,null,null,null,null,"下段","上段","うち、下段","うち、上段","下段","上段","うち、下段","うち、上段"]
[1,{"$f":"VLOOKUP($A14,④工事経歴書の作成!$B$138:$R$396,2,FALSE)","v":0},{"$f":"VLOOKUP($A14,④工事経歴書の作成!$B$138:$R$396,3,FALSE)","v":0},{"$f":"VLOOKUP($A14,④工事経歴書の作成!$B$138:$R$396,4,FALSE)","v":0},{"$f":"VLOOKUP($A14,④工事経歴書の作成!$B$138:$R$396,5,FALSE)","v":0},{"$f":"VLOOKUP($A14,④工事経歴書の作成!$B$138:$R$396,2,FALSE)","v":0},{"$f":"VLOOKUP($A14,④工事経歴書の作成!$B$138:$R$396,6,FALSE)","v":0},{"$f":"VLOOKUP($A14,④工事経歴書の作成!$B$138:$R$396,7,FALSE)","v":0},{"$f":"VLOOKUP($A14,④工事経歴書の作成!$B$138:$R$396,8,FALSE)","v":0},{"$f":"VLOOKUP($A14,④工事経歴書の作成!$B$138:$R$396,9,FALSE)","v":0},{"$f":"VLOOKUP($A14,④工事経歴書の作成!$B$138:$R$396,8,FALSE)","v":0},{"$f":"VLOOKUP($A14,④工事経歴書の作成!$B$138:$R$396,11,FALSE)","v":0},"千円",{"$f":"VLOOKUP($A14,④工事経歴書の作成!$B$138:$R$396,13,FALSE)","v":0},"千円","令和",{"$f":"VLOOKUP($A14,④工事経歴書の作成!$B$138:$R$396,14,FALSE)","v":0},"年",{"$f":"VLOOKUP($A14,④工事経歴書の作成!$B$138:$R$396,15,FALSE)","v":0},"月","令和",{"$f":"VLOOKUP($A14,④工事経歴書の作成!$B$138:$R$396,16,FALSE)","v":0},"年",{"$f":"VLOOKUP($A14,④工事経歴書の作成!$B$138:$R$396,17,FALSE)","v":0},"月",null,null,null,{"$f":"IF(+L14=0,\"\",L14)","v":""},null,{"$f":"+N14","v":0},null,{"$f":"IF(AA15=$AF$12,L14,0)","v":0},null,{"$f":"IF(AA15=$AF$12,N14,0)","v":0}]
[null,null,null,null,null,null,null,null,null,null,null,{"$f":"VLOOKUP($A14,④工事経歴書の作成!$B$138:$R$396,10,FALSE)","v":0},null,{"$f":"VLOOKUP($A14,④工事経歴書の作成!$B$138:$R$396,12,FALSE)","v":0},null,null,null,null,null,null,null,null,null,null,null,null,{"$f":"IF(C14=$C$51,AA13,C14)","v":0},{"$f":"IF(+L15=0,\"\",L15)","v":""},null,{"$f":"+N15","v":0},null,{"$f":"IF(AA15=$AF$12,L15,0)","v":0},null,{"$f":"IF(AA15=$AF$12,N15,0)","v":0}]
[2,{"$f":"VLOOKUP($A16,④工事経歴書の作成!$B$138:$R$396,2,FALSE)","v":0},{"$f":"VLOOKUP($A16,④工事経歴書の作成!$B$138:$R$396,3,FALSE)","v":0},{"$f":"VLOOKUP($A16,④工事経歴書の作成!$B$138:$R$396,4,FALSE)","v":0},{"$f":"VLOOKUP($A16,④工事経歴書の作成!$B$138:$R$396,5,FALSE)","v":0},{"$f":"VLOOKUP($A16,④工事経歴書の作成!$B$138:$R$396,2,FALSE)","v":0},{"$f":"VLOOKUP($A16,④工事経歴書の作成!$B$138:$R$396,6,FALSE)","v":0},{"$f":"VLOOKUP($A16,④工事経歴書の作成!$B$138:$R$396,7,FALSE)","v":0},{"$f":"VLOOKUP($A16,④工事経歴書の作成!$B$138:$R$396,8,FALSE)","v":0},{"$f":"VLOOKUP($A16,④工事経歴書の作成!$B$138:$R$396,9,FALSE)","v":0},{"$f":"VLOOKUP($A16,④工事経歴書の作成!$B$138:$R$396,8,FALSE)","v":0},{"$f":"VLOOKUP($A16,④工事経歴書の作成!$B$138:$R$396,11,FALSE)","v":0},"千円",{"$f":"VLOOKUP($A16,④工事経歴書の作成!$B$138:$R$396,13,FALSE)","v":0},"千円","令和",{"$f":"VLOOKUP($A16,④工事経歴書の作成!$B$138:$R$396,14,FALSE)","v":0},"年",{"$f":"VLOOKUP($A16,④工事経歴書の作成!$B$138:$R$396,15,FALSE)","v":0},"月","令和",{"$f":"VLOOKUP($A16,④工事経歴書の作成!$B$138:$R$396,16,FALSE)","v":0},"年",{"$f":"VLOOKUP($A16,④工事経歴書の作成!$B$138:$R$396,17,FALSE)","v":0},"月",null,null,null,{"$f":"IF(+L16=0,\"\",L16)","v":""},null,{"$f":"+N16","v":0},null,{"$f":"IF(AA17=$AF$12,L16,0)","v":0},null,{"$f":"IF(AA17=$AF$12,N16,0)","v":0}]
[null,null,null,null,null,null,null,null,null,null,null,{"$f":"VLOOKUP($A16,④工事経歴書の作成!$B$138:$R$396,10,FALSE)","v":0},null,{"$f":"VLOOKUP($A16,④工事経歴書の作成!$B$138:$R$396,12,FALSE)","v":0},null,null,null,null,null,null,null,null,null,null,null,null,{"$f":"IF(C16=$C$51,AA15,C16)","v":0},{"$f":"IF(+L17=0,\"\",L17)","v":""},null,{"$f":"+N17","v":0},null,{"$f":"IF(AA17=$AF$12,L17,0)","v":0},null,{"$f":"IF(AA17=$AF$12,N17,0)","v":0}]
[3,{"$f":"VLOOKUP($A18,④工事経歴書の作成!$B$138:$R$396,2,FALSE)","v":0},{"$f":"VLOOKUP($A18,④工事経歴書の作成!$B$138:$R$396,3,FALSE)","v":0},{"$f":"VLOOKUP($A18,④工事経歴書の作成!$B$138:$R$396,4,FALSE)","v":0},{"$f":"VLOOKUP($A18,④工事経歴書の作成!$B$138:$R$396,5,FALSE)","v":0},{"$f":"VLOOKUP($A18,④工事経歴書の作成!$B$138:$R$396,2,FALSE)","v":0},{"$f":"VLOOKUP($A18,④工事経歴書の作成!$B$138:$R$396,6,FALSE)","v":0},{"$f":"VLOOKUP($A18,④工事経歴書の作成!$B$138:$R$396,7,FALSE)","v":0},{"$f":"VLOOKUP($A18,④工事経歴書の作成!$B$138:$R$396,8,FALSE)","v":0},{"$f":"VLOOKUP($A18,④工事経歴書の作成!$B$138:$R$396,9,FALSE)","v":0},{"$f":"VLOOKUP($A18,④工事経歴書の作成!$B$138:$R$396,8,FALSE)","v":0},{"$f":"VLOOKUP($A18,④工事経歴書の作成!$B$138:$R$396,11,FALSE)","v":0},"千円",{"$f":"VLOOKUP($A18,④工事経歴書の作成!$B$138:$R$396,13,FALSE)","v":0},"千円","令和",{"$f":"VLOOKUP($A18,④工事経歴書の作成!$B$138:$R$396,14,FALSE)","v":0},"年",{"$f":"VLOOKUP($A18,④工事経歴書の作成!$B$138:$R$396,15,FALSE)","v":0},"月","令和",{"$f":"VLOOKUP($A18,④工事経歴書の作成!$B$138:$R$396,16,FALSE)","v":0},"年",{"$f":"VLOOKUP($A18,④工事経歴書の作成!$B$138:$R$396,17,FALSE)","v":0},"月",null,null,null,{"$f":"IF(+L18=0,\"\",L18)","v":""},null,{"$f":"+N18","v":0},null,{"$f":"IF(AA19=$AF$12,L18,0)","v":0},null,{"$f":"IF(AA19=$AF$12,N18,0)","v":0}]
[null,null,null,null,null,null,null,null,null,null,null,{"$f":"VLOOKUP($A18,④工事経歴書の作成!$B$138:$R$396,10,FALSE)","v":0},null,{"$f":"VLOOKUP($A18,④工事経歴書の作成!$B$138:$R$396,12,FALSE)","v":0},null,null,null,null,null,null,null,null,null,null,null,null,{"$f":"IF(C18=$C$51,AA17,C18)","v":0},{"$f":"IF(+L19=0,\"\",L19)","v":""},null,{"$f":"+N19","v":0},null,{"$f":"IF(AA19=$AF$12,L19,0)","v":0},null,{"$f":"IF(AA19=$AF$12,N19,0)","v":0}]
[4,{"$f":"VLOOKUP($A20,④工事経歴書の作成!$B$138:$R$396,2,FALSE)","v":0},{"$f":"VLOOKUP($A20,④工事経歴書の作成!$B$138:$R$396,3,FALSE)","v":0},{"$f":"VLOOKUP($A20,④工事経歴書の作成!$B$138:$R$396,4,FALSE)","v":0},{"$f":"VLOOKUP($A20,④工事経歴書の作成!$B$138:$R$396,5,FALSE)","v":0},{"$f":"VLOOKUP($A20,④工事経歴書の作成!$B$138:$R$396,2,FALSE)","v":0},{"$f":"VLOOKUP($A20,④工事経歴書の作成!$B$138:$R$396,6,FALSE)","v":0},{"$f":"VLOOKUP($A20,④工事経歴書の作成!$B$138:$R$396,7,FALSE)","v":0},{"$f":"VLOOKUP($A20,④工事経歴書の作成!$B$138:$R$396,8,FALSE)","v":0},{"$f":"VLOOKUP($A20,④工事経歴書の作成!$B$138:$R$396,9,FALSE)","v":0},{"$f":"VLOOKUP($A20,④工事経歴書の作成!$B$138:$R$396,8,FALSE)","v":0},{"$f":"VLOOKUP($A20,④工事経歴書の作成!$B$138:$R$396,11,FALSE)","v":0},"千円",{"$f":"VLOOKUP($A20,④工事経歴書の作成!$B$138:$R$396,13,FALSE)","v":0},"千円","令和",{"$f":"VLOOKUP($A20,④工事経歴書の作成!$B$138:$R$396,14,FALSE)","v":0},"年",{"$f":"VLOOKUP($A20,④工事経歴書の作成!$B$138:$R$396,15,FALSE)","v":0},"月","令和",{"$f":"VLOOKUP($A20,④工事経歴書の作成!$B$138:$R$396,16,FALSE)","v":0},"年",{"$f":"VLOOKUP($A20,④工事経歴書の作成!$B$138:$R$396,17,FALSE)","v":0},"月",null,null,null,{"$f":"IF(+L20=0,\"\",L20)","v":""},null,{"$f":"+N20","v":0},null,{"$f":"IF(AA21=$AF$12,L20,0)","v":0},null,{"$f":"IF(AA21=$AF$12,N20,0)","v":0}]
[null,null,null,null,null,null,null,null,null,null,null,{"$f":"VLOOKUP($A20,④工事経歴書の作成!$B$138:$R$396,10,FALSE)","v":0},null,{"$f":"VLOOKUP($A20,④工事経歴書の作成!$B$138:$R$396,12,FALSE)","v":0},null,null,null,null,null,null,null,null,null,null,null,null,{"$f":"IF(C20=$C$51,AA19,C20)","v":0},{"$f":"IF(+L21=0,\"\",L21)","v":""},null,{"$f":"+N21","v":0},null,{"$f":"IF(AA21=$AF$12,L21,0)","v":0},null,{"$f":"IF(AA21=$AF$12,N21,0)","v":0}]
[5,{"$f":"VLOOKUP($A22,④工事経歴書の作成!$B$138:$R$396,2,FALSE)","v":0},{"$f":"VLOOKUP($A22,④工事経歴書の作成!$B$138:$R$396,3,FALSE)","v":0},{"$f":"VLOOKUP($A22,④工事経歴書の作成!$B$138:$R$396,4,FALSE)","v":0},{"$f":"VLOOKUP($A22,④工事経歴書の作成!$B$138:$R$396,5,FALSE)","v":0},{"$f":"VLOOKUP($A22,④工事経歴書の作成!$B$138:$R$396,2,FALSE)","v":0},{"$f":"VLOOKUP($A22,④工事経歴書の作成!$B$138:$R$396,6,FALSE)","v":0},{"$f":"VLOOKUP($A22,④工事経歴書の作成!$B$138:$R$396,7,FALSE)","v":0},{"$f":"VLOOKUP($A22,④工事経歴書の作成!$B$138:$R$396,8,FALSE)","v":0},{"$f":"VLOOKUP($A22,④工事経歴書の作成!$B$138:$R$396,9,FALSE)","v":0},{"$f":"VLOOKUP($A22,④工事経歴書の作成!$B$138:$R$396,8,FALSE)","v":0},{"$f":"VLOOKUP($A22,④工事経歴書の作成!$B$138:$R$396,11,FALSE)","v":0},"千円",{"$f":"VLOOKUP($A22,④工事経歴書の作成!$B$138:$R$396,13,FALSE)","v":0},"千円","令和",{"$f":"VLOOKUP($A22,④工事経歴書の作成!$B$138:$R$396,14,FALSE)","v":0},"年",{"$f":"VLOOKUP($A22,④工事経歴書の作成!$B$138:$R$396,15,FALSE)","v":0},"月","令和",{"$f":"VLOOKUP($A22,④工事経歴書の作成!$B$138:$R$396,16,FALSE)","v":0},"年",{"$f":"VLOOKUP($A22,④工事経歴書の作成!$B$138:$R$396,17,FALSE)","v":0},"月",null,null,null,{"$f":"IF(+L22=0,\"\",L22)","v":""},null,{"$f":"+N22","v":0},null,{"$f":"IF(AA23=$AF$12,L22,0)","v":0},null,{"$f":"IF(AA23=$AF$12,N22,0)","v":0}]
[null,null,null,null,null,null,null,null,null,null,null,{"$f":"VLOOKUP($A22,④工事経歴書の作成!$B$138:$R$396,10,FALSE)","v":0},null,{"$f":"VLOOKUP($A22,④工事経歴書の作成!$B$138:$R$396,12,FALSE)","v":0},null,null,null,null,null,null,null,null,null,null,null,null,{"$f":"IF(C22=$C$51,AA21,C22)","v":0},{"$f":"IF(+L23=0,\"\",L23)","v":""},null,{"$f":"+N23","v":0},null,{"$f":"IF(AA23=$AF$12,L23,0)","v":0},null,{"$f":"IF(AA23=$AF$12,N23,0)","v":0}]
[6,{"$f":"VLOOKUP($A24,④工事経歴書の作成!$B$138:$R$396,2,FALSE)","v":0},{"$f":"VLOOKUP($A24,④工事経歴書の作成!$B$138:$R$396,3,FALSE)","v":0},{"$f":"VLOOKUP($A24,④工事経歴書の作成!$B$138:$R$396,4,FALSE)","v":0},{"$f":"VLOOKUP($A24,④工事経歴書の作成!$B$138:$R$396,5,FALSE)","v":0},{"$f":"VLOOKUP($A24,④工事経歴書の作成!$B$138:$R$396,2,FALSE)","v":0},{"$f":"VLOOKUP($A24,④工事経歴書の作成!$B$138:$R$396,6,FALSE)","v":0},{"$f":"VLOOKUP($A24,④工事経歴書の作成!$B$138:$R$396,7,FALSE)","v":0},{"$f":"VLOOKUP($A24,④工事経歴書の作成!$B$138:$R$396,8,FALSE)","v":0},{"$f":"VLOOKUP($A24,④工事経歴書の作成!$B$138:$R$396,9,FALSE)","v":0},{"$f":"VLOOKUP($A24,④工事経歴書の作成!$B$138:$R$396,8,FALSE)","v":0},{"$f":"VLOOKUP($A24,④工事経歴書の作成!$B$138:$R$396,11,FALSE)","v":0},"千円",{"$f":"VLOOKUP($A24,④工事経歴書の作成!$B$138:$R$396,13,FALSE)","v":0},"千円","令和",{"$f":"VLOOKUP($A24,④工事経歴書の作成!$B$138:$R$396,14,FALSE)","v":0},"年",{"$f":"VLOOKUP($A24,④工事経歴書の作成!$B$138:$R$396,15,FALSE)","v":0},"月","令和",{"$f":"VLOOKUP($A24,④工事経歴書の作成!$B$138:$R$396,16,FALSE)","v":0},"年",{"$f":"VLOOKUP($A24,④工事経歴書の作成!$B$138:$R$396,17,FALSE)","v":0},"月",null,null,null,{"$f":"IF(+L24=0,\"\",L24)","v":""},null,{"$f":"+N24","v":0},null,{"$f":"IF(AA25=$AF$12,L24,0)","v":0},null,{"$f":"IF(AA25=$AF$12,N24,0)","v":0}]
[null,null,null,null,null,null,null,null,null,null,null,{"$f":"VLOOKUP($A24,④工事経歴書の作成!$B$138:$R$396,10,FALSE)","v":0},null,{"$f":"VLOOKUP($A24,④工事経歴書の作成!$B$138:$R$396,12,FALSE)","v":0},null,null,null,null,null,null,null,null,null,null,null,null,{"$f":"IF(C24=$C$51,AA23,C24)","v":0},{"$f":"IF(+L25=0,\"\",L25)","v":""},null,{"$f":"+N25","v":0},null,{"$f":"IF(AA25=$AF$12,L25,0)","v":0},null,{"$f":"IF(AA25=$AF$12,N25,0)","v":0}]
[7,{"$f":"VLOOKUP($A26,④工事経歴書の作成!$B$138:$R$396,2,FALSE)","v":0},{"$f":"VLOOKUP($A26,④工事経歴書の作成!$B$138:$R$396,3,FALSE)","v":0},{"$f":"VLOOKUP($A26,④工事経歴書の作成!$B$138:$R$396,4,FALSE)","v":0},{"$f":"VLOOKUP($A26,④工事経歴書の作成!$B$138:$R$396,5,FALSE)","v":0},{"$f":"VLOOKUP($A26,④工事経歴書の作成!$B$138:$R$396,2,FALSE)","v":0},{"$f":"VLOOKUP($A26,④工事経歴書の作成!$B$138:$R$396,6,FALSE)","v":0},{"$f":"VLOOKUP($A26,④工事経歴書の作成!$B$138:$R$396,7,FALSE)","v":0},{"$f":"VLOOKUP($A26,④工事経歴書の作成!$B$138:$R$396,8,FALSE)","v":0},{"$f":"VLOOKUP($A26,④工事経歴書の作成!$B$138:$R$396,9,FALSE)","v":0},{"$f":"VLOOKUP($A26,④工事経歴書の作成!$B$138:$R$396,8,FALSE)","v":0},{"$f":"VLOOKUP($A26,④工事経歴書の作成!$B$138:$R$396,11,FALSE)","v":0},"千円",{"$f":"VLOOKUP($A26,④工事経歴書の作成!$B$138:$R$396,13,FALSE)","v":0},"千円","令和",{"$f":"VLOOKUP($A26,④工事経歴書の作成!$B$138:$R$396,14,FALSE)","v":0},"年",{"$f":"VLOOKUP($A26,④工事経歴書の作成!$B$138:$R$396,15,FALSE)","v":0},"月","令和",{"$f":"VLOOKUP($A26,④工事経歴書の作成!$B$138:$R$396,16,FALSE)","v":0},"年",{"$f":"VLOOKUP($A26,④工事経歴書の作成!$B$138:$R$396,17,FALSE)","v":0},"月",null,null,null,{"$f":"IF(+L26=0,\"\",L26)","v":""},null,{"$f":"+N26","v":0},null,{"$f":"IF(AA27=$AF$12,L26,0)","v":0},null,{"$f":"IF(AA27=$AF$12,N26,0)","v":0}]
[null,null,null,null,null,null,null,null,null,null,null,{"$f":"VLOOKUP($A26,④工事経歴書の作成!$B$138:$R$396,10,FALSE)","v":0},null,{"$f":"VLOOKUP($A26,④工事経歴書の作成!$B$138:$R$396,12,FALSE)","v":0},null,null,null,null,null,null,null,null,null,null,null,null,{"$f":"IF(C26=$C$51,AA25,C26)","v":0},{"$f":"IF(+L27=0,\"\",L27)","v":""},null,{"$f":"+N27","v":0},null,{"$f":"IF(AA27=$AF$12,L27,0)","v":0},null,{"$f":"IF(AA27=$AF$12,N27,0)","v":0}]
[8,{"$f":"VLOOKUP($A28,④工事経歴書の作成!$B$138:$R$396,2,FALSE)","v":0},{"$f":"VLOOKUP($A28,④工事経歴書の作成!$B$138:$R$396,3,FALSE)","v":0},{"$f":"VLOOKUP($A28,④工事経歴書の作成!$B$138:$R$396,4,FALSE)","v":0},{"$f":"VLOOKUP($A28,④工事経歴書の作成!$B$138:$R$396,5,FALSE)","v":0},{"$f":"VLOOKUP($A28,④工事経歴書の作成!$B$138:$R$396,2,FALSE)","v":0},{"$f":"VLOOKUP($A28,④工事経歴書の作成!$B$138:$R$396,6,FALSE)","v":0},{"$f":"VLOOKUP($A28,④工事経歴書の作成!$B$138:$R$396,7,FALSE)","v":0},{"$f":"VLOOKUP($A28,④工事経歴書の作成!$B$138:$R$396,8,FALSE)","v":0},{"$f":"VLOOKUP($A28,④工事経歴書の作成!$B$138:$R$396,9,FALSE)","v":0},{"$f":"VLOOKUP($A28,④工事経歴書の作成!$B$138:$R$396,8,FALSE)","v":0},{"$f":"VLOOKUP($A28,④工事経歴書の作成!$B$138:$R$396,11,FALSE)","v":0},"千円",{"$f":"VLOOKUP($A28,④工事経歴書の作成!$B$138:$R$396,13,FALSE)","v":0},"千円","令和",{"$f":"VLOOKUP($A28,④工事経歴書の作成!$B$138:$R$396,14,FALSE)","v":0},"年",{"$f":"VLOOKUP($A28,④工事経歴書の作成!$B$138:$R$396,15,FALSE)","v":0},"月","令和",{"$f":"VLOOKUP($A28,④工事経歴書の作成!$B$138:$R$396,16,FALSE)","v":0},"年",{"$f":"VLOOKUP($A28,④工事経歴書の作成!$B$138:$R$396,17,FALSE)","v":0},"月",null,null,null,{"$f":"IF(+L28=0,\"\",L28)","v":""},null,{"$f":"+N28","v":0},null,{"$f":"IF(AA29=$AF$12,L28,0)","v":0},null,{"$f":"IF(AA29=$AF$12,N28,0)","v":0}]
[null,null,null,null,null,null,null,null,null,null,null,{"$f":"VLOOKUP($A28,④工事経歴書の作成!$B$138:$R$396,10,FALSE)","v":0},null,{"$f":"VLOOKUP($A28,④工事経歴書の作成!$B$138:$R$396,12,FALSE)","v":0},null,null,null,null,null,null,null,null,null,null,null,null,{"$f":"IF(C28=$C$51,AA27,C28)","v":0},{"$f":"IF(+L29=0,\"\",L29)","v":""},null,{"$f":"+N29","v":0},null,{"$f":"IF(AA29=$AF$12,L29,0)","v":0},null,{"$f":"IF(AA29=$AF$12,N29,0)","v":0}]
[9,{"$f":"VLOOKUP($A30,④工事経歴書の作成!$B$138:$R$396,2,FALSE)","v":0},{"$f":"VLOOKUP($A30,④工事経歴書の作成!$B$138:$R$396,3,FALSE)","v":0},{"$f":"VLOOKUP($A30,④工事経歴書の作成!$B$138:$R$396,4,FALSE)","v":0},{"$f":"VLOOKUP($A30,④工事経歴書の作成!$B$138:$R$396,5,FALSE)","v":0},{"$f":"VLOOKUP($A30,④工事経歴書の作成!$B$138:$R$396,2,FALSE)","v":0},{"$f":"VLOOKUP($A30,④工事経歴書の作成!$B$138:$R$396,6,FALSE)","v":0},{"$f":"VLOOKUP($A30,④工事経歴書の作成!$B$138:$R$396,7,FALSE)","v":0},{"$f":"VLOOKUP($A30,④工事経歴書の作成!$B$138:$R$396,8,FALSE)","v":0},{"$f":"VLOOKUP($A30,④工事経歴書の作成!$B$138:$R$396,9,FALSE)","v":0},{"$f":"VLOOKUP($A30,④工事経歴書の作成!$B$138:$R$396,8,FALSE)","v":0},{"$f":"VLOOKUP($A30,④工事経歴書の作成!$B$138:$R$396,11,FALSE)","v":0},"千円",{"$f":"VLOOKUP($A30,④工事経歴書の作成!$B$138:$R$396,13,FALSE)","v":0},"千円","令和",{"$f":"VLOOKUP($A30,④工事経歴書の作成!$B$138:$R$396,14,FALSE)","v":0},"年",{"$f":"VLOOKUP($A30,④工事経歴書の作成!$B$138:$R$396,15,FALSE)","v":0},"月","令和",{"$f":"VLOOKUP($A30,④工事経歴書の作成!$B$138:$R$396,16,FALSE)","v":0},"年",{"$f":"VLOOKUP($A30,④工事経歴書の作成!$B$138:$R$396,17,FALSE)","v":0},"月",null,null,null,{"$f":"IF(+L30=0,\"\",L30)","v":""},null,{"$f":"+N30","v":0},null,{"$f":"IF(AA31=$AF$12,L30,0)","v":0},null,{"$f":"IF(AA31=$AF$12,N30,0)","v":0}]
[null,null,null,null,null,null,null,null,null,null,null,{"$f":"VLOOKUP($A30,④工事経歴書の作成!$B$138:$R$396,10,FALSE)","v":0},null,{"$f":"VLOOKUP($A30,④工事経歴書の作成!$B$138:$R$396,12,FALSE)","v":0},null,null,null,null,null,null,null,null,null,null,null,null,{"$f":"IF(C30=$C$51,AA29,C30)","v":0},{"$f":"IF(+L31=0,\"\",L31)","v":""},null,{"$f":"+N31","v":0},null,{"$f":"IF(AA31=$AF$12,L31,0)","v":0},null,{"$f":"IF(AA31=$AF$12,N31,0)","v":0}]
[10,{"$f":"VLOOKUP($A32,④工事経歴書の作成!$B$138:$R$396,2,FALSE)","v":0},{"$f":"VLOOKUP($A32,④工事経歴書の作成!$B$138:$R$396,3,FALSE)","v":0},{"$f":"VLOOKUP($A32,④工事経歴書の作成!$B$138:$R$396,4,FALSE)","v":0},{"$f":"VLOOKUP($A32,④工事経歴書の作成!$B$138:$R$396,5,FALSE)","v":0},{"$f":"VLOOKUP($A32,④工事経歴書の作成!$B$138:$R$396,2,FALSE)","v":0},{"$f":"VLOOKUP($A32,④工事経歴書の作成!$B$138:$R$396,6,FALSE)","v":0},{"$f":"VLOOKUP($A32,④工事経歴書の作成!$B$138:$R$396,7,FALSE)","v":0},{"$f":"VLOOKUP($A32,④工事経歴書の作成!$B$138:$R$396,8,FALSE)","v":0},{"$f":"VLOOKUP($A32,④工事経歴書の作成!$B$138:$R$396,9,FALSE)","v":0},{"$f":"VLOOKUP($A32,④工事経歴書の作成!$B$138:$R$396,8,FALSE)","v":0},{"$f":"VLOOKUP($A32,④工事経歴書の作成!$B$138:$R$396,11,FALSE)","v":0},"千円",{"$f":"VLOOKUP($A32,④工事経歴書の作成!$B$138:$R$396,13,FALSE)","v":0},"千円","令和",{"$f":"VLOOKUP($A32,④工事経歴書の作成!$B$138:$R$396,14,FALSE)","v":0},"年",{"$f":"VLOOKUP($A32,④工事経歴書の作成!$B$138:$R$396,15,FALSE)","v":0},"月","令和",{"$f":"VLOOKUP($A32,④工事経歴書の作成!$B$138:$R$396,16,FALSE)","v":0},"年",{"$f":"VLOOKUP($A32,④工事経歴書の作成!$B$138:$R$396,17,FALSE)","v":0},"月",null,null,null,{"$f":"IF(+L32=0,\"\",L32)","v":""},null,{"$f":"+N32","v":0},null,{"$f":"IF(AA33=$AF$12,L32,0)","v":0},null,{"$f":"IF(AA33=$AF$12,N32,0)","v":0}]
[null,null,null,null,null,null,null,null,null,null,null,{"$f":"VLOOKUP($A32,④工事経歴書の作成!$B$138:$R$396,10,FALSE)","v":0},null,{"$f":"VLOOKUP($A32,④工事経歴書の作成!$B$138:$R$396,12,FALSE)","v":0},null,null,null,null,null,null,null,null,null,null,null,null,{"$f":"IF(C32=$C$51,AA31,C32)","v":0},{"$f":"IF(+L33=0,\"\",L33)","v":""},null,{"$f":"+N33","v":0},null,{"$f":"IF(AA33=$AF$12,L33,0)","v":0},null,{"$f":"IF(AA33=$AF$12,N33,0)","v":0}]
[11,{"$f":"VLOOKUP($A34,④工事経歴書の作成!$B$138:$R$396,2,FALSE)","v":0},{"$f":"VLOOKUP($A34,④工事経歴書の作成!$B$138:$R$396,3,FALSE)","v":0},{"$f":"VLOOKUP($A34,④工事経歴書の作成!$B$138:$R$396,4,FALSE)","v":0},{"$f":"VLOOKUP($A34,④工事経歴書の作成!$B$138:$R$396,5,FALSE)","v":0},{"$f":"VLOOKUP($A34,④工事経歴書の作成!$B$138:$R$396,2,FALSE)","v":0},{"$f":"VLOOKUP($A34,④工事経歴書の作成!$B$138:$R$396,6,FALSE)","v":0},{"$f":"VLOOKUP($A34,④工事経歴書の作成!$B$138:$R$396,7,FALSE)","v":0},{"$f":"VLOOKUP($A34,④工事経歴書の作成!$B$138:$R$396,8,FALSE)","v":0},{"$f":"VLOOKUP($A34,④工事経歴書の作成!$B$138:$R$396,9,FALSE)","v":0},{"$f":"VLOOKUP($A34,④工事経歴書の作成!$B$138:$R$396,8,FALSE)","v":0},{"$f":"VLOOKUP($A34,④工事経歴書の作成!$B$138:$R$396,11,FALSE)","v":0},"千円",{"$f":"VLOOKUP($A34,④工事経歴書の作成!$B$138:$R$396,13,FALSE)","v":0},"千円","令和",{"$f":"VLOOKUP($A34,④工事経歴書の作成!$B$138:$R$396,14,FALSE)","v":0},"年",{"$f":"VLOOKUP($A34,④工事経歴書の作成!$B$138:$R$396,15,FALSE)","v":0},"月","令和",{"$f":"VLOOKUP($A34,④工事経歴書の作成!$B$138:$R$396,16,FALSE)","v":0},"年",{"$f":"VLOOKUP($A34,④工事経歴書の作成!$B$138:$R$396,17,FALSE)","v":0},"月",null,null,null,{"$f":"IF(+L34=0,\"\",L34)","v":""},null,{"$f":"+N34","v":0},null,{"$f":"IF(AA35=$AF$12,L34,0)","v":0},null,{"$f":"IF(AA35=$AF$12,N34,0)","v":0}]
[null,null,null,null,null,null,null,null,null,null,null,{"$f":"VLOOKUP($A34,④工事経歴書の作成!$B$138:$R$396,10,FALSE)","v":0},null,{"$f":"VLOOKUP($A34,④工事経歴書の作成!$B$138:$R$396,12,FALSE)","v":0},null,null,null,null,null,null,null,null,null,null,null,null,{"$f":"IF(C34=$C$51,AA33,C34)","v":0},{"$f":"IF(+L35=0,\"\",L35)","v":""},null,{"$f":"+N35","v":0},null,{"$f":"IF(AA35=$AF$12,L35,0)","v":0},null,{"$f":"IF(AA35=$AF$12,N35,0)","v":0}]
[12,{"$f":"VLOOKUP($A36,④工事経歴書の作成!$B$138:$R$396,2,FALSE)","v":0},{"$f":"VLOOKUP($A36,④工事経歴書の作成!$B$138:$R$396,3,FALSE)","v":0},{"$f":"VLOOKUP($A36,④工事経歴書の作成!$B$138:$R$396,4,FALSE)","v":0},{"$f":"VLOOKUP($A36,④工事経歴書の作成!$B$138:$R$396,5,FALSE)","v":0},{"$f":"VLOOKUP($A36,④工事経歴書の作成!$B$138:$R$396,2,FALSE)","v":0},{"$f":"VLOOKUP($A36,④工事経歴書の作成!$B$138:$R$396,6,FALSE)","v":0},{"$f":"VLOOKUP($A36,④工事経歴書の作成!$B$138:$R$396,7,FALSE)","v":0},{"$f":"VLOOKUP($A36,④工事経歴書の作成!$B$138:$R$396,8,FALSE)","v":0},{"$f":"VLOOKUP($A36,④工事経歴書の作成!$B$138:$R$396,9,FALSE)","v":0},{"$f":"VLOOKUP($A36,④工事経歴書の作成!$B$138:$R$396,8,FALSE)","v":0},{"$f":"VLOOKUP($A36,④工事経歴書の作成!$B$138:$R$396,11,FALSE)","v":0},"千円",{"$f":"VLOOKUP($A36,④工事経歴書の作成!$B$138:$R$396,13,FALSE)","v":0},"千円","令和",{"$f":"VLOOKUP($A36,④工事経歴書の作成!$B$138:$R$396,14,FALSE)","v":0},"年",{"$f":"VLOOKUP($A36,④工事経歴書の作成!$B$138:$R$396,15,FALSE)","v":0},"月","令和",{"$f":"VLOOKUP($A36,④工事経歴書の作成!$B$138:$R$396,16,FALSE)","v":0},"年",{"$f":"VLOOKUP($A36,④工事経歴書の作成!$B$138:$R$396,17,FALSE)","v":0},"月",null,null,null,{"$f":"IF(+L36=0,\"\",L36)","v":""},null,{"$f":"+N36","v":0},null,{"$f":"IF(AA37=$AF$12,L36,0)","v":0},null,{"$f":"IF(AA37=$AF$12,N36,0)","v":0}]
[null,null,null,null,null,null,null,null,null,null,null,{"$f":"VLOOKUP($A36,④工事経歴書の作成!$B$138:$R$396,10,FALSE)","v":0},null,{"$f":"VLOOKUP($A36,④工事経歴書の作成!$B$138:$R$396,12,FALSE)","v":0},null,null,null,null,null,null,null,null,null,null,null,null,{"$f":"IF(C36=$C$51,AA35,C36)","v":0},{"$f":"IF(+L37=0,\"\",L37)","v":""},null,{"$f":"+N37","v":0},null,{"$f":"IF(AA37=$AF$12,L37,0)","v":0},null,{"$f":"IF(AA37=$AF$12,N37,0)","v":0}]
[13,{"$f":"VLOOKUP($A38,④工事経歴書の作成!$B$138:$R$396,2,FALSE)","v":0},{"$f":"VLOOKUP($A38,④工事経歴書の作成!$B$138:$R$396,3,FALSE)","v":0},{"$f":"VLOOKUP($A38,④工事経歴書の作成!$B$138:$R$396,4,FALSE)","v":0},{"$f":"VLOOKUP($A38,④工事経歴書の作成!$B$138:$R$396,5,FALSE)","v":0},{"$f":"VLOOKUP($A38,④工事経歴書の作成!$B$138:$R$396,2,FALSE)","v":0},{"$f":"VLOOKUP($A38,④工事経歴書の作成!$B$138:$R$396,6,FALSE)","v":0},{"$f":"VLOOKUP($A38,④工事経歴書の作成!$B$138:$R$396,7,FALSE)","v":0},{"$f":"VLOOKUP($A38,④工事経歴書の作成!$B$138:$R$396,8,FALSE)","v":0},{"$f":"VLOOKUP($A38,④工事経歴書の作成!$B$138:$R$396,9,FALSE)","v":0},{"$f":"VLOOKUP($A38,④工事経歴書の作成!$B$138:$R$396,8,FALSE)","v":0},{"$f":"VLOOKUP($A38,④工事経歴書の作成!$B$138:$R$396,11,FALSE)","v":0},"千円",{"$f":"VLOOKUP($A38,④工事経歴書の作成!$B$138:$R$396,13,FALSE)","v":0},"千円","令和",{"$f":"VLOOKUP($A38,④工事経歴書の作成!$B$138:$R$396,14,FALSE)","v":0},"年",{"$f":"VLOOKUP($A38,④工事経歴書の作成!$B$138:$R$396,15,FALSE)","v":0},"月","令和",{"$f":"VLOOKUP($A38,④工事経歴書の作成!$B$138:$R$396,16,FALSE)","v":0},"年",{"$f":"VLOOKUP($A38,④工事経歴書の作成!$B$138:$R$396,17,FALSE)","v":0},"月",null,null,null,{"$f":"IF(+L38=0,\"\",L38)","v":""},null,{"$f":"+N38","v":0},null,{"$f":"IF(AA39=$AF$12,L38,0)","v":0},null,{"$f":"IF(AA39=$AF$12,N38,0)","v":0}]
[null,null,null,null,null,null,null,null,null,null,null,{"$f":"VLOOKUP($A38,④工事経歴書の作成!$B$138:$R$396,10,FALSE)","v":0},null,{"$f":"VLOOKUP($A38,④工事経歴書の作成!$B$138:$R$396,12,FALSE)","v":0},null,null,null,null,null,null,null,null,null,null,null,null,{"$f":"IF(C38=$C$51,AA37,C38)","v":0},{"$f":"IF(+L39=0,\"\",L39)","v":""},null,{"$f":"+N39","v":0},null,{"$f":"IF(AA39=$AF$12,L39,0)","v":0},null,{"$f":"IF(AA39=$AF$12,N39,0)","v":0}]
[null,null,null,null,null,null,null,null,null,null,null,null,null,null,null,null,null,null,null,null,null,null,null,null,null,null,null,{"$f":"SUM(AB14:AB39)","v":0},0,0,0,0,0,0,0]
[null,null,null,null,null,null,null,null,"小　　計",null,"件",null,"千円",null,"千円","うち　元請工事"]
[null,null,null,null,null,null,null,null,null,null,null,null,null,null,null,null,null,null,"千円",null,null,null,null,"千円"]
[]
[]
[null,null,null,null,null,null,null,null,"合　　計",null,"件",null,"千円",null,"千円","うち　元請工事"]
[null,null,null,null,null,null,null,null,null,null,null,null,null,null,null,null,null,null,"千円",null,null,null,null,"千円"]
[]
[]
[null,null,null,null,null,null,null,"小計を","小計",{"$f":"COUNT(AC14:AC39)","v":0},"件",{"$f":"+AC40","v":0},"千円",{"$f":"+AE40","v":0},"千円",{"$f":"+AG40","v":0},null,null,"千円",null,{"$f":"+AI40","v":0},null,null,"千円"]
[null,null,null,null,null,null,null,"転記しましょう",null,{"$f":"COUNT(AB14:AB39)","v":0},null,{"$f":"+AB40","v":0},null,{"$f":"+AD40","v":0},null,{"$f":"+AF40","v":0},null,null,null,null,{"$f":"+AH40","v":0}]
[null,null,null,null,null,null,null,"操作方法によっては算式がこわれる場合があります。この数値は参考程度としていただき、必ず電卓で検算してください。"]
[]
[null,null,null,null,null,null,null,null,"ﾚ"]

{"sheet":"2","index":9,"n_rows":53,"n_cols":35,"rows_kept":53,"cut":false,"hidden":false,"merged":[[4,1,4,24],[40,12,42,12],[40,14,42,14],[11,9,12,10],[13,9,14,10],[41,13,42,13],[37,16,38,16],[37,17,38,17],[37,18,38,18],[37,6,38,6],[37,12,38,12],[35,19,36,19],[41,23,42,24],[42,20,42,22],[37,23,38,23],[35,15,36,15],[35,16,36,16],[37,14,38,14],[41,18,42,19],[37,15,38,15],[37,7,38,7],[33,12,34,12],[33,7,34,7],[33,8,34,8],[35,0,36,0],[37,8,38,8],[35,20,36,20],[33,20,34,20],[35,23,36,23],[37,24,38,24],[33,22,34,22],[33,23,34,23],[33,24,34,24],[35,24,36,24],[33,21,34,21],[33,0,34,0],[33,18,34,18],[33,19,34,19],[37,19,38,19],[33,14,34,14],[35,18,36,18],[35,14,36,14],[37,0,38,0],[37,1,38,1],[37,2,38,2],[37,3,38,3],[37,4,38,5],[35,1,36,1],[35,2,36,2],[35,3,36,3],[35,4,36,5],[35,6,36,6],[31,19,32,19],[33,16,34,16],[33,17,34,17],[31,20,32,20],[33,1,34,1],[33,2,34,2],[33,3,34,3],[33,4,34,5],[31,7,32,7],[35,7,36,7],[44,8,46,8],[44,10,46,10],[44,12,46,12],[45,9,46,9],[45,11,46,11],[46,15,46,17],[31,21,32,21],[31,14,32,14],[31,15,32,15],[31,16,32,16],[31,17,32,17],[31,18,32,18],[35,21,36,21],[40,8,42,8],[41,9,42,9],[35,9,36,10],[41,11,42,11],[35,8,36,8],[37,9,38,10],[40,10,42,10],[35,12,36,12],[33,6,34,6],[27,0,28,0],[27,1,28,1],[27,2,28,2],[27,3,28,3],[27,4,28,5],[27,6,28,6],[25,12,26,12],[31,12,32,12],[27,9,28,10],[27,12,28,12],[27,8,28,8],[29,8,30,8],[31,8,32,8],[29,7,30,7],[27,7,28,7],[31,6,32,6],[29,0,30,0],[29,4,30,5],[29,2,30,2],[31,0,32,0],[31,1,32,1],[31,2,32,2],[31,3,32,3],[31,4,32,5],[29,6,30,6],[29,3,30,3],[23,24,24,24],[23,7,24,7],[23,23,24,23],[23,8,24,8],[23,14,24,14],[25,0,26,0],[25,1,26,1],[25,2,26,2],[25,3,26,3],[25,4,26,5],[25,14,26,14],[25,9,26,10],[23,0,24,0],[23,1,24,1],[23,2,24,2],[23,3,24,3],[23,4,24,5],[23,6,24,6],[25,6,26,6],[23,12,24,12],[25,7,26,7],[25,8,26,8],[23,20,24,20],[23,21,24,21],[23,16,24,16],[25,21,26,21],[29,16,30,16],[21,8,22,8],[21,20,22,20],[21,21,22,21],[21,12,22,12],[21,14,22,14],[21,15,22,15],[21,16,22,16],[21,19,22,19],[21,18,22,18],[29,17,30,17],[29,20,30,20],[29,12,30,12],[29,14,30,14],[27,16,28,16],[27,14,28,14],[27,15,28,15],[23,22,24,22],[29,15,30,15],[29,19,30,19],[17,19,18,19],[19,12,20,12],[19,14,20,14],[19,15,20,15],[17,0,18,0],[17,1,18,1],[17,2,18,2],[17,3,18,3],[17,4,18,5],[17,6,18,6],[19,8,20,8],[17,14,18,14],[17,15,18,15],[17,16,18,16],[17,9,18,10],[19,16,20,16],[21,4,22,5],[21,6,22,6],[21,7,22,7],[27,22,28,22],[27,21,28,21],[21,24,22,24],[25,24,26,24],[46,20,46,22],[37,20,38,20],[37,21,38,21],[23,19,24,19],[17,20,18,20],[17,21,18,21],[19,0,20,0],[19,1,20,1],[19,2,20,2],[19,3,20,3],[19,4,20,5],[19,17,20,17],[17,7,18,7],[17,8,18,8],[19,20,20,20],[19,6,20,6],[19,7,20,7],[21,0,22,0],[21,1,22,1],[21,2,22,2],[21,3,22,3],[21,9,22,10],[48,18,49,19],[49,20,49,22],[48,20,48,22],[27,23,28,23],[25,23,26,23],[45,13,46,13],[45,15,45,17],[44,14,46,14],[44,15,44,24],[37,22,38,22],[45,18,46,19],[45,20,45,22],[45,23,46,24],[33,15,34,15],[35,22,36,22],[19,21,20,21],[21,22,22,22],[17,18,18,18],[15,17,16,17],[15,18,16,18],[19,19,20,19],[48,8,49,8],[48,10,49,10],[48,12,49,12],[48,14,49,14],[49,15,49,17],[48,15,48,17],[25,15,26,15],[25,16,26,16],[35,17,36,17],[42,15,42,17],[41,15,41,17],[40,15,40,24],[25,22,26,22],[41,20,41,22],[27,19,28,19],[29,21,30,21],[48,23,49,24],[33,9,34,10],[11,31,11,34],[19,9,20,10],[23,9,24,10],[29,9,30,10],[31,9,32,10],[27,24,28,24],[29,22,30,22],[29,23,30,23],[29,24,30,24],[31,23,32,23],[31,22,32,22],[11,27,11,30],[31,24,32,24],[27,20,28,20],[17,12,18,12],[25,20,26,20],[21,23,22,23],[15,24,16,24],[17,22,18,22],[17,23,18,23],[17,24,18,24],[19,24,20,24],[19,22,20,22],[19,23,20,23],[13,24,14,24],[13,19,14,19],[15,20,16,20],[15,21,16,21],[15,22,16,22],[15,23,16,23],[15,19,16,19],[8,1,12,1],[13,1,14,1],[13,16,14,16],[8,15,8,24],[9,15,12,19],[9,20,10,24],[11,20,12,24],[13,21,14,21],[13,22,14,22],[13,23,14,23],[15,4,16,5],[15,6,16,6],[15,1,16,1],[15,2,16,2],[15,3,16,3],[15,8,16,8],[15,14,16,14],[10,8,10,10],[11,8,12,8],[9,7,12,7],[13,7,14,7],[15,0,16,0],[29,18,30,18],[19,18,20,18],[13,12,14,12],[15,7,16,7],[13,8,14,8],[13,15,14,15],[13,17,14,17],[13,18,14,18],[17,17,18,17],[25,18,26,18],[23,17,24,17],[23,18,24,18],[21,17,22,17],[27,17,28,17],[25,17,26,17],[15,15,16,15],[15,16,16,16],[29,1,30,1],[23,15,24,15],[0,1,0,16],[50,7,50,24],[13,6,14,6],[13,0,14,0],[13,4,14,5],[13,20,14,20],[13,2,14,2],[13,3,14,3],[25,19,26,19],[27,18,28,18],[6,2,6,4],[8,6,12,6],[8,2,12,2],[8,11,8,13],[8,4,12,5],[15,12,16,12],[15,9,16,10],[8,3,12,3],[10,13,10,14],[11,13,11,14],[8,7,8,10],[12,13,12,14],[13,14,14,14],[9,8,9,10]]}
[null,"このシートは編集できません。\n「④工事経歴書の作成」のシートの「編集加工できる工事経歴書の作成」のボタンを押してください。\n自由に編集加工できるシートができあがります。"]
[]
[]
[null,"様式第二号 （第二条、第十三条の二、第十三条の三、第十九条の八関係）",null,null,null,null,null,null,null,null,null,null,null,null,null,null,null,null,null,null,null,null,null,null,"（用紙Ａ4）"]
[null,"工　 事　 経　 歴　 書"]
[]
[null,"（建設工事の種類）",{"$f":"+①業種!D13","v":"土木一式"},null,null,"工事","（　　税込　　・","　　税抜　　）"]
[]
[null,"注　　文　　者","元請\n又は\n下請\nの別","JV\nの\n別","工　　　事　　　名",null,"工事現場の\nある都道府\n県及び市区\n町  村  名","配　置　技　術　者",null,null,null,"請　負　代　金　の　額",null,null,null,"工　　　　期"]
[null,null,null,null,null,null,null,"氏　　名","主任技術者又は監理技術者",null,null,null,null,"うち、",null,"着　工　年　月",null,null,null,null,"　完成又は"]
[null,null,null,null,null,null,null,null,"の別（該当箇所にﾚ印を記載)",null,null,null,null,"　　　・ＰＣ"]
[null,null,null,null,null,null,null,null,"主任技術者","監理技術者",null,null,null,"　　　・法面処理",null,null,null,null,null,null,"　完成予定年月",null,null,null,null,null,null,"全体",null,null,null,"元請"]
[null,null,null,null,null,null,null,null,null,null,null,null,null,"　　　・鋼橋上部",null,null,null,null,null,null,null,null,null,null,null,null,null,"下段","上段","うち、下段","うち、上段","下段","上段","うち、下段","うち、上段"]
[14,{"$f":"VLOOKUP($A14,④工事経歴書の作成!$B$138:$R$396,2,FALSE)","v":0},{"$f":"VLOOKUP($A14,④工事経歴書の作成!$B$138:$R$396,3,FALSE)","v":0},{"$f":"VLOOKUP($A14,④工事経歴書の作成!$B$138:$R$396,4,FALSE)","v":0},{"$f":"VLOOKUP($A14,④工事経歴書の作成!$B$138:$R$396,5,FALSE)","v":0},{"$f":"VLOOKUP($A14,④工事経歴書の作成!$B$138:$R$396,2,FALSE)","v":0},{"$f":"VLOOKUP($A14,④工事経歴書の作成!$B$138:$R$396,6,FALSE)","v":0},{"$f":"VLOOKUP($A14,④工事経歴書の作成!$B$138:$R$396,7,FALSE)","v":0},{"$f":"VLOOKUP($A14,④工事経歴書の作成!$B$138:$R$396,8,FALSE)","v":0},{"$f":"VLOOKUP($A14,④工事経歴書の作成!$B$138:$R$396,9,FALSE)","v":0},{"$f":"VLOOKUP($A14,④工事経歴書の作成!$B$138:$R$396,8,FALSE)","v":0},{"$f":"VLOOKUP($A14,④工事経歴書の作成!$B$138:$R$396,11,FALSE)","v":0},"千円",{"$f":"VLOOKUP($A14,④工事経歴書の作成!$B$138:$R$396,13,FALSE)","v":0},"千円","令和",{"$f":"VLOOKUP($A14,④工事経歴書の作成!$B$138:$R$396,14,FALSE)","v":0},"年",{"$f":"VLOOKUP($A14,④工事経歴書の作成!$B$138:$R$396,15,FALSE)","v":0},"月","令和",{"$f":"VLOOKUP($A14,④工事経歴書の作成!$B$138:$R$396,16,FALSE)","v":0},"年",{"$f":"VLOOKUP($A14,④工事経歴書の作成!$B$138:$R$396,17,FALSE)","v":0},"月",null,null,null,{"$f":"IF(+L14=0,\"\",L14)","v":""},null,{"$f":"+N14","v":0},null,{"$f":"IF(AA15=$AF$12,L14,0)","v":0},null,{"$f":"IF(AA15=$AF$12,N14,0)","v":0}]
[null,null,null,null,null,null,null,null,null,null,null,{"$f":"VLOOKUP($A14,④工事経歴書の作成!$B$138:$R$396,10,FALSE)","v":0},null,{"$f":"VLOOKUP($A14,④工事経歴書の作成!$B$138:$R$396,12,FALSE)","v":0},null,null,null,null,null,null,null,null,null,null,null,null,{"$f":"IF(C14=$C$51,AA13,C14)","v":0},{"$f":"IF(+L15=0,\"\",L15)","v":""},null,{"$f":"+N15","v":0},null,{"$f":"IF(AA15=$AF$12,L15,0)","v":0},null,{"$f":"IF(AA15=$AF$12,N15,0)","v":0}]
[15,{"$f":"VLOOKUP($A16,④工事経歴書の作成!$B$138:$R$396,2,FALSE)","v":0},{"$f":"VLOOKUP($A16,④工事経歴書の作成!$B$138:$R$396,3,FALSE)","v":0},{"$f":"VLOOKUP($A16,④工事経歴書の作成!$B$138:$R$396,4,FALSE)","v":0},{"$f":"VLOOKUP($A16,④工事経歴書の作成!$B$138:$R$396,5,FALSE)","v":0},{"$f":"VLOOKUP($A16,④工事経歴書の作成!$B$138:$R$396,2,FALSE)","v":0},{"$f":"VLOOKUP($A16,④工事経歴書の作成!$B$138:$R$396,6,FALSE)","v":0},{"$f":"VLOOKUP($A16,④工事経歴書の作成!$B$138:$R$396,7,FALSE)","v":0},{"$f":"VLOOKUP($A16,④工事経歴書の作成!$B$138:$R$396,8,FALSE)","v":0},{"$f":"VLOOKUP($A16,④工事経歴書の作成!$B$138:$R$396,9,FALSE)","v":0},{"$f":"VLOOKUP($A16,④工事経歴書の作成!$B$138:$R$396,8,FALSE)","v":0},{"$f":"VLOOKUP($A16,④工事経歴書の作成!$B$138:$R$396,11,FALSE)","v":0},"千円",{"$f":"VLOOKUP($A16,④工事経歴書の作成!$B$138:$R$396,13,FALSE)","v":0},"千円","令和",{"$f":"VLOOKUP($A16,④工事経歴書の作成!$B$138:$R$396,14,FALSE)","v":0},"年",{"$f":"VLOOKUP($A16,④工事経歴書の作成!$B$138:$R$396,15,FALSE)","v":0},"月","令和",{"$f":"VLOOKUP($A16,④工事経歴書の作成!$B$138:$R$396,16,FALSE)","v":0},"年",{"$f":"VLOOKUP($A16,④工事経歴書の作成!$B$138:$R$396,17,FALSE)","v":0},"月",null,null,null,{"$f":"IF(+L16=0,\"\",L16)","v":""},null,{"$f":"+N16","v":0},null,{"$f":"IF(AA17=$AF$12,L16,0)","v":0},null,{"$f":"IF(AA17=$AF$12,N16,0)","v":0}]
[null,null,null,null,null,null,null,null,null,null,null,{"$f":"VLOOKUP($A16,④工事経歴書の作成!$B$138:$R$396,10,FALSE)","v":0},null,{"$f":"VLOOKUP($A16,④工事経歴書の作成!$B$138:$R$396,12,FALSE)","v":0},null,null,null,null,null,null,null,null,null,null,null,null,{"$f":"IF(C16=$C$51,AA15,C16)","v":0},{"$f":"IF(+L17=0,\"\",L17)","v":""},null,{"$f":"+N17","v":0},null,{"$f":"IF(AA17=$AF$12,L17,0)","v":0},null,{"$f":"IF(AA17=$AF$12,N17,0)","v":0}]
[16,{"$f":"VLOOKUP($A18,④工事経歴書の作成!$B$138:$R$396,2,FALSE)","v":0},{"$f":"VLOOKUP($A18,④工事経歴書の作成!$B$138:$R$396,3,FALSE)","v":0},{"$f":"VLOOKUP($A18,④工事経歴書の作成!$B$138:$R$396,4,FALSE)","v":0},{"$f":"VLOOKUP($A18,④工事経歴書の作成!$B$138:$R$396,5,FALSE)","v":0},{"$f":"VLOOKUP($A18,④工事経歴書の作成!$B$138:$R$396,2,FALSE)","v":0},{"$f":"VLOOKUP($A18,④工事経歴書の作成!$B$138:$R$396,6,FALSE)","v":0},{"$f":"VLOOKUP($A18,④工事経歴書の作成!$B$138:$R$396,7,FALSE)","v":0},{"$f":"VLOOKUP($A18,④工事経歴書の作成!$B$138:$R$396,8,FALSE)","v":0},{"$f":"VLOOKUP($A18,④工事経歴書の作成!$B$138:$R$396,9,FALSE)","v":0},{"$f":"VLOOKUP($A18,④工事経歴書の作成!$B$138:$R$396,8,FALSE)","v":0},{"$f":"VLOOKUP($A18,④工事経歴書の作成!$B$138:$R$396,11,FALSE)","v":0},"千円",{"$f":"VLOOKUP($A18,④工事経歴書の作成!$B$138:$R$396,13,FALSE)","v":0},"千円","令和",{"$f":"VLOOKUP($A18,④工事経歴書の作成!$B$138:$R$396,14,FALSE)","v":0},"年",{"$f":"VLOOKUP($A18,④工事経歴書の作成!$B$138:$R$396,15,FALSE)","v":0},"月","令和",{"$f":"VLOOKUP($A18,④工事経歴書の作成!$B$138:$R$396,16,FALSE)","v":0},"年",{"$f":"VLOOKUP($A18,④工事経歴書の作成!$B$138:$R$396,17,FALSE)","v":0},"月",null,null,null,{"$f":"IF(+L18=0,\"\",L18)","v":""},null,{"$f":"+N18","v":0},null,{"$f":"IF(AA19=$AF$12,L18,0)","v":0},null,{"$f":"IF(AA19=$AF$12,N18,0)","v":0}]
[null,null,null,null,null,null,null,null,null,null,null,{"$f":"VLOOKUP($A18,④工事経歴書の作成!$B$138:$R$396,10,FALSE)","v":0},null,{"$f":"VLOOKUP($A18,④工事経歴書の作成!$B$138:$R$396,12,FALSE)","v":0},null,null,null,null,null,null,null,null,null,null,null,null,{"$f":"IF(C18=$C$51,AA17,C18)","v":0},{"$f":"IF(+L19=0,\"\",L19)","v":""},null,{"$f":"+N19","v":0},null,{"$f":"IF(AA19=$AF$12,L19,0)","v":0},null,{"$f":"IF(AA19=$AF$12,N19,0)","v":0}]
[17,{"$f":"VLOOKUP($A20,④工事経歴書の作成!$B$138:$R$396,2,FALSE)","v":0},{"$f":"VLOOKUP($A20,④工事経歴書の作成!$B$138:$R$396,3,FALSE)","v":0},{"$f":"VLOOKUP($A20,④工事経歴書の作成!$B$138:$R$396,4,FALSE)","v":0},{"$f":"VLOOKUP($A20,④工事経歴書の作成!$B$138:$R$396,5,FALSE)","v":0},{"$f":"VLOOKUP($A20,④工事経歴書の作成!$B$138:$R$396,2,FALSE)","v":0},{"$f":"VLOOKUP($A20,④工事経歴書の作成!$B$138:$R$396,6,FALSE)","v":0},{"$f":"VLOOKUP($A20,④工事経歴書の作成!$B$138:$R$396,7,FALSE)","v":0},{"$f":"VLOOKUP($A20,④工事経歴書の作成!$B$138:$R$396,8,FALSE)","v":0},{"$f":"VLOOKUP($A20,④工事経歴書の作成!$B$138:$R$396,9,FALSE)","v":0},{"$f":"VLOOKUP($A20,④工事経歴書の作成!$B$138:$R$396,8,FALSE)","v":0},{"$f":"VLOOKUP($A20,④工事経歴書の作成!$B$138:$R$396,11,FALSE)","v":0},"千円",{"$f":"VLOOKUP($A20,④工事経歴書の作成!$B$138:$R$396,13,FALSE)","v":0},"千円","令和",{"$f":"VLOOKUP($A20,④工事経歴書の作成!$B$138:$R$396,14,FALSE)","v":0},"年",{"$f":"VLOOKUP($A20,④工事経歴書の作成!$B$138:$R$396,15,FALSE)","v":0},"月","令和",{"$f":"VLOOKUP($A20,④工事経歴書の作成!$B$138:$R$396,16,FALSE)","v":0},"年",{"$f":"VLOOKUP($A20,④工事経歴書の作成!$B$138:$R$396,17,FALSE)","v":0},"月",null,null,null,{"$f":"IF(+L20=0,\"\",L20)","v":""},null,{"$f":"+N20","v":0},null,{"$f":"IF(AA21=$AF$12,L20,0)","v":0},null,{"$f":"IF(AA21=$AF$12,N20,0)","v":0}]
[null,null,null,null,null,null,null,null,null,null,null,{"$f":"VLOOKUP($A20,④工事経歴書の作成!$B$138:$R$396,10,FALSE)","v":0},null,{"$f":"VLOOKUP($A20,④工事経歴書の作成!$B$138:$R$396,12,FALSE)","v":0},null,null,null,null,null,null,null,null,null,null,null,null,{"$f":"IF(C20=$C$51,AA19,C20)","v":0},{"$f":"IF(+L21=0,\"\",L21)","v":""},null,{"$f":"+N21","v":0},null,{"$f":"IF(AA21=$AF$12,L21,0)","v":0},null,{"$f":"IF(AA21=$AF$12,N21,0)","v":0}]
[18,{"$f":"VLOOKUP($A22,④工事経歴書の作成!$B$138:$R$396,2,FALSE)","v":0},{"$f":"VLOOKUP($A22,④工事経歴書の作成!$B$138:$R$396,3,FALSE)","v":0},{"$f":"VLOOKUP($A22,④工事経歴書の作成!$B$138:$R$396,4,FALSE)","v":0},{"$f":"VLOOKUP($A22,④工事経歴書の作成!$B$138:$R$396,5,FALSE)","v":0},{"$f":"VLOOKUP($A22,④工事経歴書の作成!$B$138:$R$396,2,FALSE)","v":0},{"$f":"VLOOKUP($A22,④工事経歴書の作成!$B$138:$R$396,6,FALSE)","v":0},{"$f":"VLOOKUP($A22,④工事経歴書の作成!$B$138:$R$396,7,FALSE)","v":0},{"$f":"VLOOKUP($A22,④工事経歴書の作成!$B$138:$R$396,8,FALSE)","v":0},{"$f":"VLOOKUP($A22,④工事経歴書の作成!$B$138:$R$396,9,FALSE)","v":0},{"$f":"VLOOKUP($A22,④工事経歴書の作成!$B$138:$R$396,8,FALSE)","v":0},{"$f":"VLOOKUP($A22,④工事経歴書の作成!$B$138:$R$396,11,FALSE)","v":0},"千円",{"$f":"VLOOKUP($A22,④工事経歴書の作成!$B$138:$R$396,13,FALSE)","v":0},"千円","令和",{"$f":"VLOOKUP($A22,④工事経歴書の作成!$B$138:$R$396,14,FALSE)","v":0},"年",{"$f":"VLOOKUP($A22,④工事経歴書の作成!$B$138:$R$396,15,FALSE)","v":0},"月","令和",{"$f":"VLOOKUP($A22,④工事経歴書の作成!$B$138:$R$396,16,FALSE)","v":0},"年",{"$f":"VLOOKUP($A22,④工事経歴書の作成!$B$138:$R$396,17,FALSE)","v":0},"月",null,null,null,{"$f":"IF(+L22=0,\"\",L22)","v":""},null,{"$f":"+N22","v":0},null,{"$f":"IF(AA23=$AF$12,L22,0)","v":0},null,{"$f":"IF(AA23=$AF$12,N22,0)","v":0}]
[null,null,null,null,null,null,null,null,null,null,null,{"$f":"VLOOKUP($A22,④工事経歴書の作成!$B$138:$R$396,10,FALSE)","v":0},null,{"$f":"VLOOKUP($A22,④工事経歴書の作成!$B$138:$R$396,12,FALSE)","v":0},null,null,null,null,null,null,null,null,null,null,null,null,{"$f":"IF(C22=$C$51,AA21,C22)","v":0},{"$f":"IF(+L23=0,\"\",L23)","v":""},null,{"$f":"+N23","v":0},null,{"$f":"IF(AA23=$AF$12,L23,0)","v":0},null,{"$f":"IF(AA23=$AF$12,N23,0)","v":0}]
[19,{"$f":"VLOOKUP($A24,④工事経歴書の作成!$B$138:$R$396,2,FALSE)","v":0},{"$f":"VLOOKUP($A24,④工事経歴書の作成!$B$138:$R$396,3,FALSE)","v":0},{"$f":"VLOOKUP($A24,④工事経歴書の作成!$B$138:$R$396,4,FALSE)","v":0},{"$f":"VLOOKUP($A24,④工事経歴書の作成!$B$138:$R$396,5,FALSE)","v":0},{"$f":"VLOOKUP($A24,④工事経歴書の作成!$B$138:$R$396,2,FALSE)","v":0},{"$f":"VLOOKUP($A24,④工事経歴書の作成!$B$138:$R$396,6,FALSE)","v":0},{"$f":"VLOOKUP($A24,④工事経歴書の作成!$B$138:$R$396,7,FALSE)","v":0},{"$f":"VLOOKUP($A24,④工事経歴書の作成!$B$138:$R$396,8,FALSE)","v":0},{"$f":"VLOOKUP($A24,④工事経歴書の作成!$B$138:$R$396,9,FALSE)","v":0},{"$f":"VLOOKUP($A24,④工事経歴書の作成!$B$138:$R$396,8,FALSE)","v":0},{"$f":"VLOOKUP($A24,④工事経歴書の作成!$B$138:$R$396,11,FALSE)","v":0},"千円",{"$f":"VLOOKUP($A24,④工事経歴書の作成!$B$138:$R$396,13,FALSE)","v":0},"千円","令和",{"$f":"VLOOKUP($A24,④工事経歴書の作成!$B$138:$R$396,14,FALSE)","v":0},"年",{"$f":"VLOOKUP($A24,④工事経歴書の作成!$B$138:$R$396,15,FALSE)","v":0},"月","令和",{"$f":"VLOOKUP($A24,④工事経歴書の作成!$B$138:$R$396,16,FALSE)","v":0},"年",{"$f":"VLOOKUP($A24,④工事経歴書の作成!$B$138:$R$396,17,FALSE)","v":0},"月",null,null,null,{"$f":"IF(+L24=0,\"\",L24)","v":""},null,{"$f":"+N24","v":0},null,{"$f":"IF(AA25=$AF$12,L24,0)","v":0},null,{"$f":"IF(AA25=$AF$12,N24,0)","v":0}]
[null,null,null,null,null,null,null,null,null,null,null,{"$f":"VLOOKUP($A24,④工事経歴書の作成!$B$138:$R$396,10,FALSE)","v":0},null,{"$f":"VLOOKUP($A24,④工事経歴書の作成!$B$138:$R$396,12,FALSE)","v":0},null,null,null,null,null,null,null,null,null,null,null,null,{"$f":"IF(C24=$C$51,AA23,C24)","v":0},{"$f":"IF(+L25=0,\"\",L25)","v":""},null,{"$f":"+N25","v":0},null,{"$f":"IF(AA25=$AF$12,L25,0)","v":0},null,{"$f":"IF(AA25=$AF$12,N25,0)","v":0}]
[20,{"$f":"VLOOKUP($A26,④工事経歴書の作成!$B$138:$R$396,2,FALSE)","v":0},{"$f":"VLOOKUP($A26,④工事経歴書の作成!$B$138:$R$396,3,FALSE)","v":0},{"$f":"VLOOKUP($A26,④工事経歴書の作成!$B$138:$R$396,4,FALSE)","v":0},{"$f":"VLOOKUP($A26,④工事経歴書の作成!$B$138:$R$396,5,FALSE)","v":0},{"$f":"VLOOKUP($A26,④工事経歴書の作成!$B$138:$R$396,2,FALSE)","v":0},{"$f":"VLOOKUP($A26,④工事経歴書の作成!$B$138:$R$396,6,FALSE)","v":0},{"$f":"VLOOKUP($A26,④工事経歴書の作成!$B$138:$R$396,7,FALSE)","v":0},{"$f":"VLOOKUP($A26,④工事経歴書の作成!$B$138:$R$396,8,FALSE)","v":0},{"$f":"VLOOKUP($A26,④工事経歴書の作成!$B$138:$R$396,9,FALSE)","v":0},{"$f":"VLOOKUP($A26,④工事経歴書の作成!$B$138:$R$396,8,FALSE)","v":0},{"$f":"VLOOKUP($A26,④工事経歴書の作成!$B$138:$R$396,11,FALSE)","v":0},"千円",{"$f":"VLOOKUP($A26,④工事経歴書の作成!$B$138:$R$396,13,FALSE)","v":0},"千円","令和",{"$f":"VLOOKUP($A26,④工事経歴書の作成!$B$138:$R$396,14,FALSE)","v":0},"年",{"$f":"VLOOKUP($A26,④工事経歴書の作成!$B$138:$R$396,15,FALSE)","v":0},"月","令和",{"$f":"VLOOKUP($A26,④工事経歴書の作成!$B$138:$R$396,16,FALSE)","v":0},"年",{"$f":"VLOOKUP($A26,④工事経歴書の作成!$B$138:$R$396,17,FALSE)","v":0},"月",null,null,null,{"$f":"IF(+L26=0,\"\",L26)","v":""},null,{"$f":"+N26","v":0},null,{"$f":"IF(AA27=$AF$12,L26,0)","v":0},null,{"$f":"IF(AA27=$AF$12,N26,0)","v":0}]
[null,null,null,null,null,null,null,null,null,null,null,{"$f":"VLOOKUP($A26,④工事経歴書の作成!$B$138:$R$396,10,FALSE)","v":0},null,{"$f":"VLOOKUP($A26,④工事経歴書の作成!$B$138:$R$396,12,FALSE)","v":0},null,null,null,null,null,null,null,null,null,null,null,null,{"$f":"IF(C26=$C$51,AA25,C26)","v":0},{"$f":"IF(+L27=0,\"\",L27)","v":""},null,{"$f":"+N27","v":0},null,{"$f":"IF(AA27=$AF$12,L27,0)","v":0},null,{"$f":"IF(AA27=$AF$12,N27,0)","v":0}]
[21,{"$f":"VLOOKUP($A28,④工事経歴書の作成!$B$138:$R$396,2,FALSE)","v":0},{"$f":"VLOOKUP($A28,④工事経歴書の作成!$B$138:$R$396,3,FALSE)","v":0},{"$f":"VLOOKUP($A28,④工事経歴書の作成!$B$138:$R$396,4,FALSE)","v":0},{"$f":"VLOOKUP($A28,④工事経歴書の作成!$B$138:$R$396,5,FALSE)","v":0},{"$f":"VLOOKUP($A28,④工事経歴書の作成!$B$138:$R$396,2,FALSE)","v":0},{"$f":"VLOOKUP($A28,④工事経歴書の作成!$B$138:$R$396,6,FALSE)","v":0},{"$f":"VLOOKUP($A28,④工事経歴書の作成!$B$138:$R$396,7,FALSE)","v":0},{"$f":"VLOOKUP($A28,④工事経歴書の作成!$B$138:$R$396,8,FALSE)","v":0},{"$f":"VLOOKUP($A28,④工事経歴書の作成!$B$138:$R$396,9,FALSE)","v":0},{"$f":"VLOOKUP($A28,④工事経歴書の作成!$B$138:$R$396,8,FALSE)","v":0},{"$f":"VLOOKUP($A28,④工事経歴書の作成!$B$138:$R$396,11,FALSE)","v":0},"千円",{"$f":"VLOOKUP($A28,④工事経歴書の作成!$B$138:$R$396,13,FALSE)","v":0},"千円","令和",{"$f":"VLOOKUP($A28,④工事経歴書の作成!$B$138:$R$396,14,FALSE)","v":0},"年",{"$f":"VLOOKUP($A28,④工事経歴書の作成!$B$138:$R$396,15,FALSE)","v":0},"月","令和",{"$f":"VLOOKUP($A28,④工事経歴書の作成!$B$138:$R$396,16,FALSE)","v":0},"年",{"$f":"VLOOKUP($A28,④工事経歴書の作成!$B$138:$R$396,17,FALSE)","v":0},"月",null,null,null,{"$f":"IF(+L28=0,\"\",L28)","v":""},null,{"$f":"+N28","v":0},null,{"$f":"IF(AA29=$AF$12,L28,0)","v":0},null,{"$f":"IF(AA29=$AF$12,N28,0)","v":0}]
[null,null,null,null,null,null,null,null,null,null,null,{"$f":"VLOOKUP($A28,④工事経歴書の作成!$B$138:$R$396,10,FALSE)","v":0},null,{"$f":"VLOOKUP($A28,④工事経歴書の作成!$B$138:$R$396,12,FALSE)","v":0},null,null,null,null,null,null,null,null,null,null,null,null,{"$f":"IF(C28=$C$51,AA27,C28)","v":0},{"$f":"IF(+L29=0,\"\",L29)","v":""},null,{"$f":"+N29","v":0},null,{"$f":"IF(AA29=$AF$12,L29,0)","v":0},null,{"$f":"IF(AA29=$AF$12,N29,0)","v":0}]
[22,{"$f":"VLOOKUP($A30,④工事経歴書の作成!$B$138:$R$396,2,FALSE)","v":0},{"$f":"VLOOKUP($A30,④工事経歴書の作成!$B$138:$R$396,3,FALSE)","v":0},{"$f":"VLOOKUP($A30,④工事経歴書の作成!$B$138:$R$396,4,FALSE)","v":0},{"$f":"VLOOKUP($A30,④工事経歴書の作成!$B$138:$R$396,5,FALSE)","v":0},{"$f":"VLOOKUP($A30,④工事経歴書の作成!$B$138:$R$396,2,FALSE)","v":0},{"$f":"VLOOKUP($A30,④工事経歴書の作成!$B$138:$R$396,6,FALSE)","v":0},{"$f":"VLOOKUP($A30,④工事経歴書の作成!$B$138:$R$396,7,FALSE)","v":0},{"$f":"VLOOKUP($A30,④工事経歴書の作成!$B$138:$R$396,8,FALSE)","v":0},{"$f":"VLOOKUP($A30,④工事経歴書の作成!$B$138:$R$396,9,FALSE)","v":0},{"$f":"VLOOKUP($A30,④工事経歴書の作成!$B$138:$R$396,8,FALSE)","v":0},{"$f":"VLOOKUP($A30,④工事経歴書の作成!$B$138:$R$396,11,FALSE)","v":0},"千円",{"$f":"VLOOKUP($A30,④工事経歴書の作成!$B$138:$R$396,13,FALSE)","v":0},"千円","令和",{"$f":"VLOOKUP($A30,④工事経歴書の作成!$B$138:$R$396,14,FALSE)","v":0},"年",{"$f":"VLOOKUP($A30,④工事経歴書の作成!$B$138:$R$396,15,FALSE)","v":0},"月","令和",{"$f":"VLOOKUP($A30,④工事経歴書の作成!$B$138:$R$396,16,FALSE)","v":0},"年",{"$f":"VLOOKUP($A30,④工事経歴書の作成!$B$138:$R$396,17,FALSE)","v":0},"月",null,null,null,{"$f":"IF(+L30=0,\"\",L30)","v":""},null,{"$f":"+N30","v":0},null,{"$f":"IF(AA31=$AF$12,L30,0)","v":0},null,{"$f":"IF(AA31=$AF$12,N30,0)","v":0}]
[null,null,null,null,null,null,null,null,null,null,null,{"$f":"VLOOKUP($A30,④工事経歴書の作成!$B$138:$R$396,10,FALSE)","v":0},null,{"$f":"VLOOKUP($A30,④工事経歴書の作成!$B$138:$R$396,12,FALSE)","v":0},null,null,null,null,null,null,null,null,null,null,null,null,{"$f":"IF(C30=$C$51,AA29,C30)","v":0},{"$f":"IF(+L31=0,\"\",L31)","v":""},null,{"$f":"+N31","v":0},null,{"$f":"IF(AA31=$AF$12,L31,0)","v":0},null,{"$f":"IF(AA31=$AF$12,N31,0)","v":0}]
[23,{"$f":"VLOOKUP($A32,④工事経歴書の作成!$B$138:$R$396,2,FALSE)","v":0},{"$f":"VLOOKUP($A32,④工事経歴書の作成!$B$138:$R$396,3,FALSE)","v":0},{"$f":"VLOOKUP($A32,④工事経歴書の作成!$B$138:$R$396,4,FALSE)","v":0},{"$f":"VLOOKUP($A32,④工事経歴書の作成!$B$138:$R$396,5,FALSE)","v":0},{"$f":"VLOOKUP($A32,④工事経歴書の作成!$B$138:$R$396,2,FALSE)","v":0},{"$f":"VLOOKUP($A32,④工事経歴書の作成!$B$138:$R$396,6,FALSE)","v":0},{"$f":"VLOOKUP($A32,④工事経歴書の作成!$B$138:$R$396,7,FALSE)","v":0},{"$f":"VLOOKUP($A32,④工事経歴書の作成!$B$138:$R$396,8,FALSE)","v":0},{"$f":"VLOOKUP($A32,④工事経歴書の作成!$B$138:$R$396,9,FALSE)","v":0},{"$f":"VLOOKUP($A32,④工事経歴書の作成!$B$138:$R$396,8,FALSE)","v":0},{"$f":"VLOOKUP($A32,④工事経歴書の作成!$B$138:$R$396,11,FALSE)","v":0},"千円",{"$f":"VLOOKUP($A32,④工事経歴書の作成!$B$138:$R$396,13,FALSE)","v":0},"千円","令和",{"$f":"VLOOKUP($A32,④工事経歴書の作成!$B$138:$R$396,14,FALSE)","v":0},"年",{"$f":"VLOOKUP($A32,④工事経歴書の作成!$B$138:$R$396,15,FALSE)","v":0},"月","令和",{"$f":"VLOOKUP($A32,④工事経歴書の作成!$B$138:$R$396,16,FALSE)","v":0},"年",{"$f":"VLOOKUP($A32,④工事経歴書の作成!$B$138:$R$396,17,FALSE)","v":0},"月",null,null,null,{"$f":"IF(+L32=0,\"\",L32)","v":""},null,{"$f":"+N32","v":0},null,{"$f":"IF(AA33=$AF$12,L32,0)","v":0},null,{"$f":"IF(AA33=$AF$12,N32,0)","v":0}]
[null,null,null,null,null,null,null,null,null,null,null,{"$f":"VLOOKUP($A32,④工事経歴書の作成!$B$138:$R$396,10,FALSE)","v":0},null,{"$f":"VLOOKUP($A32,④工事経歴書の作成!$B$138:$R$396,12,FALSE)","v":0},null,null,null,null,null,null,null,null,null,null,null,null,{"$f":"IF(C32=$C$51,AA31,C32)","v":0},{"$f":"IF(+L33=0,\"\",L33)","v":""},null,{"$f":"+N33","v":0},null,{"$f":"IF(AA33=$AF$12,L33,0)","v":0},null,{"$f":"IF(AA33=$AF$12,N33,0)","v":0}]
[24,{"$f":"VLOOKUP($A34,④工事経歴書の作成!$B$138:$R$396,2,FALSE)","v":0},{"$f":"VLOOKUP($A34,④工事経歴書の作成!$B$138:$R$396,3,FALSE)","v":0},{"$f":"VLOOKUP($A34,④工事経歴書の作成!$B$138:$R$396,4,FALSE)","v":0},{"$f":"VLOOKUP($A34,④工事経歴書の作成!$B$138:$R$396,5,FALSE)","v":0},{"$f":"VLOOKUP($A34,④工事経歴書の作成!$B$138:$R$396,2,FALSE)","v":0},{"$f":"VLOOKUP($A34,④工事経歴書の作成!$B$138:$R$396,6,FALSE)","v":0},{"$f":"VLOOKUP($A34,④工事経歴書の作成!$B$138:$R$396,7,FALSE)","v":0},{"$f":"VLOOKUP($A34,④工事経歴書の作成!$B$138:$R$396,8,FALSE)","v":0},{"$f":"VLOOKUP($A34,④工事経歴書の作成!$B$138:$R$396,9,FALSE)","v":0},{"$f":"VLOOKUP($A34,④工事経歴書の作成!$B$138:$R$396,8,FALSE)","v":0},{"$f":"VLOOKUP($A34,④工事経歴書の作成!$B$138:$R$396,11,FALSE)","v":0},"千円",{"$f":"VLOOKUP($A34,④工事経歴書の作成!$B$138:$R$396,13,FALSE)","v":0},"千円","令和",{"$f":"VLOOKUP($A34,④工事経歴書の作成!$B$138:$R$396,14,FALSE)","v":0},"年",{"$f":"VLOOKUP($A34,④工事経歴書の作成!$B$138:$R$396,15,FALSE)","v":0},"月","令和",{"$f":"VLOOKUP($A34,④工事経歴書の作成!$B$138:$R$396,16,FALSE)","v":0},"年",{"$f":"VLOOKUP($A34,④工事経歴書の作成!$B$138:$R$396,17,FALSE)","v":0},"月",null,null,null,{"$f":"IF(+L34=0,\"\",L34)","v":""},null,{"$f":"+N34","v":0},null,{"$f":"IF(AA35=$AF$12,L34,0)","v":0},null,{"$f":"IF(AA35=$AF$12,N34,0)","v":0}]
[null,null,null,null,null,null,null,null,null,null,null,{"$f":"VLOOKUP($A34,④工事経歴書の作成!$B$138:$R$396,10,FALSE)","v":0},null,{"$f":"VLOOKUP($A34,④工事経歴書の作成!$B$138:$R$396,12,FALSE)","v":0},null,null,null,null,null,null,null,null,null,null,null,null,{"$f":"IF(C34=$C$51,AA33,C34)","v":0},{"$f":"IF(+L35=0,\"\",L35)","v":""},null,{"$f":"+N35","v":0},null,{"$f":"IF(AA35=$AF$12,L35,0)","v":0},null,{"$f":"IF(AA35=$AF$12,N35,0)","v":0}]
[25,{"$f":"VLOOKUP($A36,④工事経歴書の作成!$B$138:$R$396,2,FALSE)","v":0},{"$f":"VLOOKUP($A36,④工事経歴書の作成!$B$138:$R$396,3,FALSE)","v":0},{"$f":"VLOOKUP($A36,④工事経歴書の作成!$B$138:$R$396,4,FALSE)","v":0},{"$f":"VLOOKUP($A36,④工事経歴書の作成!$B$138:$R$396,5,FALSE)","v":0},{"$f":"VLOOKUP($A36,④工事経歴書の作成!$B$138:$R$396,2,FALSE)","v":0},{"$f":"VLOOKUP($A36,④工事経歴書の作成!$B$138:$R$396,6,FALSE)","v":0},{"$f":"VLOOKUP($A36,④工事経歴書の作成!$B$138:$R$396,7,FALSE)","v":0},{"$f":"VLOOKUP($A36,④工事経歴書の作成!$B$138:$R$396,8,FALSE)","v":0},{"$f":"VLOOKUP($A36,④工事経歴書の作成!$B$138:$R$396,9,FALSE)","v":0},{"$f":"VLOOKUP($A36,④工事経歴書の作成!$B$138:$R$396,8,FALSE)","v":0},{"$f":"VLOOKUP($A36,④工事経歴書の作成!$B$138:$R$396,11,FALSE)","v":0},"千円",{"$f":"VLOOKUP($A36,④工事経歴書の作成!$B$138:$R$396,13,FALSE)","v":0},"千円","令和",{"$f":"VLOOKUP($A36,④工事経歴書の作成!$B$138:$R$396,14,FALSE)","v":0},"年",{"$f":"VLOOKUP($A36,④工事経歴書の作成!$B$138:$R$396,15,FALSE)","v":0},"月","令和",{"$f":"VLOOKUP($A36,④工事経歴書の作成!$B$138:$R$396,16,FALSE)","v":0},"年",{"$f":"VLOOKUP($A36,④工事経歴書の作成!$B$138:$R$396,17,FALSE)","v":0},"月",null,null,null,{"$f":"IF(+L36=0,\"\",L36)","v":""},null,{"$f":"+N36","v":0},null,{"$f":"IF(AA37=$AF$12,L36,0)","v":0},null,{"$f":"IF(AA37=$AF$12,N36,0)","v":0}]
[null,null,null,null,null,null,null,null,null,null,null,{"$f":"VLOOKUP($A36,④工事経歴書の作成!$B$138:$R$396,10,FALSE)","v":0},null,{"$f":"VLOOKUP($A36,④工事経歴書の作成!$B$138:$R$396,12,FALSE)","v":0},null,null,null,null,null,null,null,null,null,null,null,null,{"$f":"IF(C36=$C$51,AA35,C36)","v":0},{"$f":"IF(+L37=0,\"\",L37)","v":""},null,{"$f":"+N37","v":0},null,{"$f":"IF(AA37=$AF$12,L37,0)","v":0},null,{"$f":"IF(AA37=$AF$12,N37,0)","v":0}]
[26,{"$f":"VLOOKUP($A38,④工事経歴書の作成!$B$138:$R$396,2,FALSE)","v":0},{"$f":"VLOOKUP($A38,④工事経歴書の作成!$B$138:$R$396,3,FALSE)","v":0},{"$f":"VLOOKUP($A38,④工事経歴書の作成!$B$138:$R$396,4,FALSE)","v":0},{"$f":"VLOOKUP($A38,④工事経歴書の作成!$B$138:$R$396,5,FALSE)","v":0},{"$f":"VLOOKUP($A38,④工事経歴書の作成!$B$138:$R$396,2,FALSE)","v":0},{"$f":"VLOOKUP($A38,④工事経歴書の作成!$B$138:$R$396,6,FALSE)","v":0},{"$f":"VLOOKUP($A38,④工事経歴書の作成!$B$138:$R$396,7,FALSE)","v":0},{"$f":"VLOOKUP($A38,④工事経歴書の作成!$B$138:$R$396,8,FALSE)","v":0},{"$f":"VLOOKUP($A38,④工事経歴書の作成!$B$138:$R$396,9,FALSE)","v":0},{"$f":"VLOOKUP($A38,④工事経歴書の作成!$B$138:$R$396,8,FALSE)","v":0},{"$f":"VLOOKUP($A38,④工事経歴書の作成!$B$138:$R$396,11,FALSE)","v":0},"千円",{"$f":"VLOOKUP($A38,④工事経歴書の作成!$B$138:$R$396,13,FALSE)","v":0},"千円","令和",{"$f":"VLOOKUP($A38,④工事経歴書の作成!$B$138:$R$396,14,FALSE)","v":0},"年",{"$f":"VLOOKUP($A38,④工事経歴書の作成!$B$138:$R$396,15,FALSE)","v":0},"月","令和",{"$f":"VLOOKUP($A38,④工事経歴書の作成!$B$138:$R$396,16,FALSE)","v":0},"年",{"$f":"VLOOKUP($A38,④工事経歴書の作成!$B$138:$R$396,17,FALSE)","v":0},"月",null,null,null,{"$f":"IF(+L38=0,\"\",L38)","v":""},null,{"$f":"+N38","v":0},null,{"$f":"IF(AA39=$AF$12,L38,0)","v":0},null,{"$f":"IF(AA39=$AF$12,N38,0)","v":0}]
[null,null,null,null,null,null,null,null,null,null,null,{"$f":"VLOOKUP($A38,④工事経歴書の作成!$B$138:$R$396,10,FALSE)","v":0},null,{"$f":"VLOOKUP($A38,④工事経歴書の作成!$B$138:$R$396,12,FALSE)","v":0},null,null,null,null,null,null,null,null,null,null,null,null,{"$f":"IF(C38=$C$51,AA37,C38)","v":0},{"$f":"IF(+L39=0,\"\",L39)","v":""},null,{"$f":"+N39","v":0},null,{"$f":"IF(AA39=$AF$12,L39,0)","v":0},null,{"$f":"IF(AA39=$AF$12,N39,0)","v":0}]
[null,null,null,null,null,null,null,null,null,null,null,null,null,null,null,null,null,null,null,null,null,null,null,null,null,null,null,{"$f":"SUM(AB14:AB39)","v":0},0,0,0,0,0,0,0]
[null,null,null,null,null,null,null,null,"小　　計",null,"件",null,"千円",null,"千円","うち　元請工事"]
[null,null,null,null,null,null,null,null,null,null,null,null,null,null,null,null,null,null,"千円",null,null,null,null,"千円"]
[]
[]
[null,null,null,null,null,null,null,null,"合　　計",null,"件",null,"千円",null,"千円","うち　元請工事"]
[null,null,null,null,null,null,null,null,null,null,null,null,null,null,null,null,null,null,"千円",null,null,null,null,"千円"]
[]
[]
[null,null,null,null,null,null,null,"小計を","小計",{"$f":"COUNT(AC14:AC39)","v":0},"件",{"$f":"+AC40","v":0},"千円",{"$f":"+AE40","v":0},"千円",{"$f":"+AG40","v":0},null,null,"千円",null,{"$f":"+AI40","v":0},null,null,"千円"]
[null,null,null,null,null,null,null,"転記しましょう",null,{"$f":"COUNT(AB14:AB39)","v":0},null,{"$f":"+AB40","v":0},null,{"$f":"+AD40","v":0},null,{"$f":"+AF40","v":0},null,null,null,null,{"$f":"+AH40","v":0}]
[null,null,null,null,null,null,null,"操作方法によっては算式がこわれる場合があります。この数値は参考程度としていただき、必ず電卓で検算してください。"]
[]
[null,null,null,null,null,null,null,null,"ﾚ"]

{"sheet":"3","index":10,"n_rows":53,"n_cols":35,"rows_kept":53,"cut":false,"hidden":false,"merged":[[8,1,12,1],[13,1,14,1],[8,15,8,24],[9,15,12,19],[9,20,10,24],[11,20,12,24],[13,19,14,19],[13,16,14,16],[13,17,14,17],[13,8,14,8],[9,8,9,10],[10,8,10,10],[11,8,12,8],[13,7,14,7],[9,7,12,7],[13,22,14,22],[13,23,14,23],[15,15,16,15],[12,13,12,14],[13,12,14,12],[13,14,14,14],[13,15,14,15],[0,1,0,16],[50,7,50,24],[13,6,14,6],[13,0,14,0],[13,4,14,5],[13,20,14,20],[13,2,14,2],[13,3,14,3],[25,19,26,19],[27,18,28,18],[6,2,6,4],[8,6,12,6],[8,2,12,2],[8,11,8,13],[8,4,12,5],[8,3,12,3],[10,13,10,14],[11,13,11,14],[8,7,8,10],[25,24,26,24],[25,22,26,22],[25,23,26,23],[23,24,24,24],[21,23,22,23],[17,22,18,22],[17,23,18,23],[19,23,20,23],[23,23,24,23],[17,24,18,24],[19,24,20,24],[21,24,22,24],[23,22,24,22],[19,21,20,21],[19,22,20,22],[13,24,14,24],[15,24,16,24],[15,23,16,23],[13,21,14,21],[15,4,16,5],[15,6,16,6],[15,8,16,8],[15,12,16,12],[15,7,16,7],[15,19,16,19],[15,17,16,17],[15,14,16,14],[15,18,16,18],[15,16,16,16],[15,20,16,20],[13,18,14,18],[17,17,18,17],[15,21,16,21],[15,22,16,22],[17,18,18,18],[17,4,18,5],[17,6,18,6],[19,17,20,17],[19,20,20,20],[19,18,20,18],[19,19,20,19],[23,16,24,16],[23,17,24,17],[23,18,24,18],[21,17,22,17],[19,16,20,16],[23,20,24,20],[21,18,22,18],[23,21,24,21],[23,14,24,14],[35,18,36,18],[35,17,36,17],[29,19,30,19],[27,19,28,19],[23,19,24,19],[25,18,26,18],[25,15,26,15],[25,16,26,16],[27,16,28,16],[27,17,28,17],[29,18,30,18],[25,17,26,17],[29,15,30,15],[23,15,24,15],[11,31,11,34],[19,9,20,10],[23,9,24,10],[29,9,30,10],[31,9,32,10],[33,9,34,10],[17,19,18,19],[17,20,18,20],[17,16,18,16],[29,24,30,24],[33,16,34,16],[33,17,34,17],[29,17,30,17],[31,16,32,16],[31,17,32,17],[29,23,30,23],[17,21,18,21],[21,21,22,21],[21,22,22,22],[21,20,22,20],[27,23,28,23],[25,20,26,20],[25,21,26,21],[27,24,28,24],[48,18,49,19],[49,20,49,22],[48,20,48,22],[37,20,38,20],[37,21,38,21],[37,22,38,22],[35,20,36,20],[48,23,49,24],[11,27,11,30],[21,19,22,19],[29,20,30,20],[29,21,30,21],[33,18,34,18],[33,19,34,19],[33,20,34,20],[41,20,41,22],[41,23,42,24],[42,20,42,22],[37,23,38,23],[37,24,38,24],[29,22,30,22],[27,20,28,20],[27,21,28,21],[27,22,28,22],[46,15,46,17],[31,22,32,22],[29,16,30,16],[25,0,26,0],[25,1,26,1],[25,2,26,2],[25,3,26,3],[44,10,46,10],[44,12,46,12],[45,9,46,9],[45,11,46,11],[44,14,46,14],[44,15,44,24],[45,13,46,13],[45,15,45,17],[45,18,46,19],[45,20,45,22],[45,23,46,24],[46,20,46,22],[37,7,38,7],[25,7,26,7],[25,8,26,8],[29,7,30,7],[29,8,30,8],[15,0,16,0],[15,1,16,1],[15,2,16,2],[15,3,16,3],[17,0,18,0],[17,1,18,1],[17,2,18,2],[17,3,18,3],[35,0,36,0],[21,0,22,0],[21,1,22,1],[21,2,22,2],[21,3,22,3],[23,0,24,0],[23,1,24,1],[23,2,24,2],[29,0,30,0],[29,1,30,1],[29,2,30,2],[29,3,30,3],[33,0,34,0],[33,2,34,2],[33,1,34,1],[33,3,34,3],[17,7,18,7],[17,8,18,8],[25,4,26,5],[19,6,20,6],[19,7,20,7],[23,4,24,5],[21,4,22,5],[17,14,18,14],[17,15,18,15],[19,8,20,8],[19,12,20,12],[19,14,20,14],[19,15,20,15],[17,12,18,12],[21,9,22,10],[25,12,26,12],[21,6,22,6],[21,7,22,7],[21,8,22,8],[48,12,49,12],[48,14,49,14],[49,15,49,17],[48,15,48,17],[21,12,22,12],[19,0,20,0],[19,1,20,1],[19,2,20,2],[19,3,20,3],[19,4,20,5],[23,3,24,3],[23,6,24,6],[23,7,24,7],[23,8,24,8],[48,8,49,8],[48,10,49,10],[25,6,26,6],[27,7,28,7],[27,8,28,8],[40,8,42,8],[44,8,46,8],[21,14,22,14],[21,15,22,15],[21,16,22,16],[37,8,38,8],[23,12,24,12],[25,14,26,14],[25,9,26,10],[29,12,30,12],[35,8,36,8],[27,6,28,6],[31,8,32,8],[33,8,34,8],[37,9,38,10],[41,9,42,9],[41,11,42,11],[35,14,36,14],[33,12,34,12],[27,12,28,12],[27,14,28,14],[35,9,36,10],[29,14,30,14],[35,12,36,12],[27,9,28,10],[31,12,32,12],[33,14,34,14],[37,14,38,14],[40,10,42,10],[31,0,32,0],[31,1,32,1],[31,2,32,2],[31,3,32,3],[31,4,32,5],[31,21,32,21],[27,0,28,0],[31,19,32,19],[31,20,32,20],[27,1,28,1],[27,2,28,2],[27,3,28,3],[31,14,32,14],[31,15,32,15],[31,6,32,6],[31,7,32,7],[29,4,30,5],[29,6,30,6],[27,4,28,5],[27,15,28,15],[33,4,34,5],[33,6,34,6],[31,18,32,18],[33,7,34,7],[33,24,34,24],[33,21,34,21],[33,15,34,15],[35,1,36,1],[35,2,36,2],[35,3,36,3],[35,4,36,5],[35,6,36,6],[35,7,36,7],[35,15,36,15],[35,16,36,16],[35,19,36,19],[33,22,34,22],[33,23,34,23],[35,24,36,24],[35,21,36,21],[35,22,36,22],[35,23,36,23],[31,23,32,23],[31,24,32,24],[37,0,38,0],[37,1,38,1],[37,2,38,2],[37,3,38,3],[37,4,38,5],[37,6,38,6],[4,1,4,24],[40,12,42,12],[40,14,42,14],[11,9,12,10],[13,9,14,10],[15,9,16,10],[17,9,18,10],[40,15,40,24],[41,18,42,19],[37,12,38,12],[41,13,42,13],[37,16,38,16],[37,17,38,17],[37,18,38,18],[37,19,38,19],[42,15,42,17],[41,15,41,17],[37,15,38,15]]}
[null,"このシートは編集できません。\n「④工事経歴書の作成」のシートの「編集加工できる工事経歴書の作成」のボタンを押してください。\n自由に編集加工できるシートができあがります。"]
[]
[]
[null,"様式第二号 （第二条、第十三条の二、第十三条の三、第十九条の八関係）",null,null,null,null,null,null,null,null,null,null,null,null,null,null,null,null,null,null,null,null,null,null,"（用紙Ａ4）"]
[null,"工　 事　 経　 歴　 書"]
[]
[null,"（建設工事の種類）",{"$f":"+①業種!D13","v":"土木一式"},null,null,"工事","（　　税込　　・","　　税抜　　）"]
[]
[null,"注　　文　　者","元請\n又は\n下請\nの別","JV\nの\n別","工　　　事　　　名",null,"工事現場の\nある都道府\n県及び市区\n町  村  名","配　置　技　術　者",null,null,null,"請　負　代　金　の　額",null,null,null,"工　　　　期"]
[null,null,null,null,null,null,null,"氏　　名","主任技術者又は監理技術者",null,null,null,null,"うち、",null,"着　工　年　月",null,null,null,null,"　完成又は"]
[null,null,null,null,null,null,null,null,"の別（該当箇所にﾚ印を記載)",null,null,null,null,"　　　・ＰＣ"]
[null,null,null,null,null,null,null,null,"主任技術者","監理技術者",null,null,null,"　　　・法面処理",null,null,null,null,null,null,"　完成予定年月",null,null,null,null,null,null,"全体",null,null,null,"元請"]
[null,null,null,null,null,null,null,null,null,null,null,null,null,"　　　・鋼橋上部",null,null,null,null,null,null,null,null,null,null,null,null,null,"下段","上段","うち、下段","うち、上段","下段","上段","うち、下段","うち、上段"]
[27,{"$f":"VLOOKUP($A14,④工事経歴書の作成!$B$138:$R$396,2,FALSE)","v":0},{"$f":"VLOOKUP($A14,④工事経歴書の作成!$B$138:$R$396,3,FALSE)","v":0},{"$f":"VLOOKUP($A14,④工事経歴書の作成!$B$138:$R$396,4,FALSE)","v":0},{"$f":"VLOOKUP($A14,④工事経歴書の作成!$B$138:$R$396,5,FALSE)","v":0},{"$f":"VLOOKUP($A14,④工事経歴書の作成!$B$138:$R$396,2,FALSE)","v":0},{"$f":"VLOOKUP($A14,④工事経歴書の作成!$B$138:$R$396,6,FALSE)","v":0},{"$f":"VLOOKUP($A14,④工事経歴書の作成!$B$138:$R$396,7,FALSE)","v":0},{"$f":"VLOOKUP($A14,④工事経歴書の作成!$B$138:$R$396,8,FALSE)","v":0},{"$f":"VLOOKUP($A14,④工事経歴書の作成!$B$138:$R$396,9,FALSE)","v":0},{"$f":"VLOOKUP($A14,④工事経歴書の作成!$B$138:$R$396,8,FALSE)","v":0},{"$f":"VLOOKUP($A14,④工事経歴書の作成!$B$138:$R$396,11,FALSE)","v":0},"千円",{"$f":"VLOOKUP($A14,④工事経歴書の作成!$B$138:$R$396,13,FALSE)","v":0},"千円","令和",{"$f":"VLOOKUP($A14,④工事経歴書の作成!$B$138:$R$396,14,FALSE)","v":0},"年",{"$f":"VLOOKUP($A14,④工事経歴書の作成!$B$138:$R$396,15,FALSE)","v":0},"月","令和",{"$f":"VLOOKUP($A14,④工事経歴書の作成!$B$138:$R$396,16,FALSE)","v":0},"年",{"$f":"VLOOKUP($A14,④工事経歴書の作成!$B$138:$R$396,17,FALSE)","v":0},"月",null,null,null,{"$f":"IF(+L14=0,\"\",L14)","v":""},null,{"$f":"+N14","v":0},null,{"$f":"IF(AA15=$AF$12,L14,0)","v":0},null,{"$f":"IF(AA15=$AF$12,N14,0)","v":0}]
[null,null,null,null,null,null,null,null,null,null,null,{"$f":"VLOOKUP($A14,④工事経歴書の作成!$B$138:$R$396,10,FALSE)","v":0},null,{"$f":"VLOOKUP($A14,④工事経歴書の作成!$B$138:$R$396,12,FALSE)","v":0},null,null,null,null,null,null,null,null,null,null,null,null,{"$f":"IF(C14=$C$51,AA13,C14)","v":0},{"$f":"IF(+L15=0,\"\",L15)","v":""},null,{"$f":"+N15","v":0},null,{"$f":"IF(AA15=$AF$12,L15,0)","v":0},null,{"$f":"IF(AA15=$AF$12,N15,0)","v":0}]
[28,{"$f":"VLOOKUP($A16,④工事経歴書の作成!$B$138:$R$396,2,FALSE)","v":0},{"$f":"VLOOKUP($A16,④工事経歴書の作成!$B$138:$R$396,3,FALSE)","v":0},{"$f":"VLOOKUP($A16,④工事経歴書の作成!$B$138:$R$396,4,FALSE)","v":0},{"$f":"VLOOKUP($A16,④工事経歴書の作成!$B$138:$R$396,5,FALSE)","v":0},{"$f":"VLOOKUP($A16,④工事経歴書の作成!$B$138:$R$396,2,FALSE)","v":0},{"$f":"VLOOKUP($A16,④工事経歴書の作成!$B$138:$R$396,6,FALSE)","v":0},{"$f":"VLOOKUP($A16,④工事経歴書の作成!$B$138:$R$396,7,FALSE)","v":0},{"$f":"VLOOKUP($A16,④工事経歴書の作成!$B$138:$R$396,8,FALSE)","v":0},{"$f":"VLOOKUP($A16,④工事経歴書の作成!$B$138:$R$396,9,FALSE)","v":0},{"$f":"VLOOKUP($A16,④工事経歴書の作成!$B$138:$R$396,8,FALSE)","v":0},{"$f":"VLOOKUP($A16,④工事経歴書の作成!$B$138:$R$396,11,FALSE)","v":0},"千円",{"$f":"VLOOKUP($A16,④工事経歴書の作成!$B$138:$R$396,13,FALSE)","v":0},"千円","令和",{"$f":"VLOOKUP($A16,④工事経歴書の作成!$B$138:$R$396,14,FALSE)","v":0},"年",{"$f":"VLOOKUP($A16,④工事経歴書の作成!$B$138:$R$396,15,FALSE)","v":0},"月","令和",{"$f":"VLOOKUP($A16,④工事経歴書の作成!$B$138:$R$396,16,FALSE)","v":0},"年",{"$f":"VLOOKUP($A16,④工事経歴書の作成!$B$138:$R$396,17,FALSE)","v":0},"月",null,null,null,{"$f":"IF(+L16=0,\"\",L16)","v":""},null,{"$f":"+N16","v":0},null,{"$f":"IF(AA17=$AF$12,L16,0)","v":0},null,{"$f":"IF(AA17=$AF$12,N16,0)","v":0}]
[null,null,null,null,null,null,null,null,null,null,null,{"$f":"VLOOKUP($A16,④工事経歴書の作成!$B$138:$R$396,10,FALSE)","v":0},null,{"$f":"VLOOKUP($A16,④工事経歴書の作成!$B$138:$R$396,12,FALSE)","v":0},null,null,null,null,null,null,null,null,null,null,null,null,{"$f":"IF(C16=$C$51,AA15,C16)","v":0},{"$f":"IF(+L17=0,\"\",L17)","v":""},null,{"$f":"+N17","v":0},null,{"$f":"IF(AA17=$AF$12,L17,0)","v":0},null,{"$f":"IF(AA17=$AF$12,N17,0)","v":0}]
[29,{"$f":"VLOOKUP($A18,④工事経歴書の作成!$B$138:$R$396,2,FALSE)","v":0},{"$f":"VLOOKUP($A18,④工事経歴書の作成!$B$138:$R$396,3,FALSE)","v":0},{"$f":"VLOOKUP($A18,④工事経歴書の作成!$B$138:$R$396,4,FALSE)","v":0},{"$f":"VLOOKUP($A18,④工事経歴書の作成!$B$138:$R$396,5,FALSE)","v":0},{"$f":"VLOOKUP($A18,④工事経歴書の作成!$B$138:$R$396,2,FALSE)","v":0},{"$f":"VLOOKUP($A18,④工事経歴書の作成!$B$138:$R$396,6,FALSE)","v":0},{"$f":"VLOOKUP($A18,④工事経歴書の作成!$B$138:$R$396,7,FALSE)","v":0},{"$f":"VLOOKUP($A18,④工事経歴書の作成!$B$138:$R$396,8,FALSE)","v":0},{"$f":"VLOOKUP($A18,④工事経歴書の作成!$B$138:$R$396,9,FALSE)","v":0},{"$f":"VLOOKUP($A18,④工事経歴書の作成!$B$138:$R$396,8,FALSE)","v":0},{"$f":"VLOOKUP($A18,④工事経歴書の作成!$B$138:$R$396,11,FALSE)","v":0},"千円",{"$f":"VLOOKUP($A18,④工事経歴書の作成!$B$138:$R$396,13,FALSE)","v":0},"千円","令和",{"$f":"VLOOKUP($A18,④工事経歴書の作成!$B$138:$R$396,14,FALSE)","v":0},"年",{"$f":"VLOOKUP($A18,④工事経歴書の作成!$B$138:$R$396,15,FALSE)","v":0},"月","令和",{"$f":"VLOOKUP($A18,④工事経歴書の作成!$B$138:$R$396,16,FALSE)","v":0},"年",{"$f":"VLOOKUP($A18,④工事経歴書の作成!$B$138:$R$396,17,FALSE)","v":0},"月",null,null,null,{"$f":"IF(+L18=0,\"\",L18)","v":""},null,{"$f":"+N18","v":0},null,{"$f":"IF(AA19=$AF$12,L18,0)","v":0},null,{"$f":"IF(AA19=$AF$12,N18,0)","v":0}]
[null,null,null,null,null,null,null,null,null,null,null,{"$f":"VLOOKUP($A18,④工事経歴書の作成!$B$138:$R$396,10,FALSE)","v":0},null,{"$f":"VLOOKUP($A18,④工事経歴書の作成!$B$138:$R$396,12,FALSE)","v":0},null,null,null,null,null,null,null,null,null,null,null,null,{"$f":"IF(C18=$C$51,AA17,C18)","v":0},{"$f":"IF(+L19=0,\"\",L19)","v":""},null,{"$f":"+N19","v":0},null,{"$f":"IF(AA19=$AF$12,L19,0)","v":0},null,{"$f":"IF(AA19=$AF$12,N19,0)","v":0}]
[30,{"$f":"VLOOKUP($A20,④工事経歴書の作成!$B$138:$R$396,2,FALSE)","v":0},{"$f":"VLOOKUP($A20,④工事経歴書の作成!$B$138:$R$396,3,FALSE)","v":0},{"$f":"VLOOKUP($A20,④工事経歴書の作成!$B$138:$R$396,4,FALSE)","v":0},{"$f":"VLOOKUP($A20,④工事経歴書の作成!$B$138:$R$396,5,FALSE)","v":0},{"$f":"VLOOKUP($A20,④工事経歴書の作成!$B$138:$R$396,2,FALSE)","v":0},{"$f":"VLOOKUP($A20,④工事経歴書の作成!$B$138:$R$396,6,FALSE)","v":0},{"$f":"VLOOKUP($A20,④工事経歴書の作成!$B$138:$R$396,7,FALSE)","v":0},{"$f":"VLOOKUP($A20,④工事経歴書の作成!$B$138:$R$396,8,FALSE)","v":0},{"$f":"VLOOKUP($A20,④工事経歴書の作成!$B$138:$R$396,9,FALSE)","v":0},{"$f":"VLOOKUP($A20,④工事経歴書の作成!$B$138:$R$396,8,FALSE)","v":0},{"$f":"VLOOKUP($A20,④工事経歴書の作成!$B$138:$R$396,11,FALSE)","v":0},"千円",{"$f":"VLOOKUP($A20,④工事経歴書の作成!$B$138:$R$396,13,FALSE)","v":0},"千円","令和",{"$f":"VLOOKUP($A20,④工事経歴書の作成!$B$138:$R$396,14,FALSE)","v":0},"年",{"$f":"VLOOKUP($A20,④工事経歴書の作成!$B$138:$R$396,15,FALSE)","v":0},"月","令和",{"$f":"VLOOKUP($A20,④工事経歴書の作成!$B$138:$R$396,16,FALSE)","v":0},"年",{"$f":"VLOOKUP($A20,④工事経歴書の作成!$B$138:$R$396,17,FALSE)","v":0},"月",null,null,null,{"$f":"IF(+L20=0,\"\",L20)","v":""},null,{"$f":"+N20","v":0},null,{"$f":"IF(AA21=$AF$12,L20,0)","v":0},null,{"$f":"IF(AA21=$AF$12,N20,0)","v":0}]
[null,null,null,null,null,null,null,null,null,null,null,{"$f":"VLOOKUP($A20,④工事経歴書の作成!$B$138:$R$396,10,FALSE)","v":0},null,{"$f":"VLOOKUP($A20,④工事経歴書の作成!$B$138:$R$396,12,FALSE)","v":0},null,null,null,null,null,null,null,null,null,null,null,null,{"$f":"IF(C20=$C$51,AA19,C20)","v":0},{"$f":"IF(+L21=0,\"\",L21)","v":""},null,{"$f":"+N21","v":0},null,{"$f":"IF(AA21=$AF$12,L21,0)","v":0},null,{"$f":"IF(AA21=$AF$12,N21,0)","v":0}]
[31,{"$f":"VLOOKUP($A22,④工事経歴書の作成!$B$138:$R$396,2,FALSE)","v":0},{"$f":"VLOOKUP($A22,④工事経歴書の作成!$B$138:$R$396,3,FALSE)","v":0},{"$f":"VLOOKUP($A22,④工事経歴書の作成!$B$138:$R$396,4,FALSE)","v":0},{"$f":"VLOOKUP($A22,④工事経歴書の作成!$B$138:$R$396,5,FALSE)","v":0},{"$f":"VLOOKUP($A22,④工事経歴書の作成!$B$138:$R$396,2,FALSE)","v":0},{"$f":"VLOOKUP($A22,④工事経歴書の作成!$B$138:$R$396,6,FALSE)","v":0},{"$f":"VLOOKUP($A22,④工事経歴書の作成!$B$138:$R$396,7,FALSE)","v":0},{"$f":"VLOOKUP($A22,④工事経歴書の作成!$B$138:$R$396,8,FALSE)","v":0},{"$f":"VLOOKUP($A22,④工事経歴書の作成!$B$138:$R$396,9,FALSE)","v":0},{"$f":"VLOOKUP($A22,④工事経歴書の作成!$B$138:$R$396,8,FALSE)","v":0},{"$f":"VLOOKUP($A22,④工事経歴書の作成!$B$138:$R$396,11,FALSE)","v":0},"千円",{"$f":"VLOOKUP($A22,④工事経歴書の作成!$B$138:$R$396,13,FALSE)","v":0},"千円","令和",{"$f":"VLOOKUP($A22,④工事経歴書の作成!$B$138:$R$396,14,FALSE)","v":0},"年",{"$f":"VLOOKUP($A22,④工事経歴書の作成!$B$138:$R$396,15,FALSE)","v":0},"月","令和",{"$f":"VLOOKUP($A22,④工事経歴書の作成!$B$138:$R$396,16,FALSE)","v":0},"年",{"$f":"VLOOKUP($A22,④工事経歴書の作成!$B$138:$R$396,17,FALSE)","v":0},"月",null,null,null,{"$f":"IF(+L22=0,\"\",L22)","v":""},null,{"$f":"+N22","v":0},null,{"$f":"IF(AA23=$AF$12,L22,0)","v":0},null,{"$f":"IF(AA23=$AF$12,N22,0)","v":0}]
[null,null,null,null,null,null,null,null,null,null,null,{"$f":"VLOOKUP($A22,④工事経歴書の作成!$B$138:$R$396,10,FALSE)","v":0},null,{"$f":"VLOOKUP($A22,④工事経歴書の作成!$B$138:$R$396,12,FALSE)","v":0},null,null,null,null,null,null,null,null,null,null,null,null,{"$f":"IF(C22=$C$51,AA21,C22)","v":0},{"$f":"IF(+L23=0,\"\",L23)","v":""},null,{"$f":"+N23","v":0},null,{"$f":"IF(AA23=$AF$12,L23,0)","v":0},null,{"$f":"IF(AA23=$AF$12,N23,0)","v":0}]
[32,{"$f":"VLOOKUP($A24,④工事経歴書の作成!$B$138:$R$396,2,FALSE)","v":0},{"$f":"VLOOKUP($A24,④工事経歴書の作成!$B$138:$R$396,3,FALSE)","v":0},{"$f":"VLOOKUP($A24,④工事経歴書の作成!$B$138:$R$396,4,FALSE)","v":0},{"$f":"VLOOKUP($A24,④工事経歴書の作成!$B$138:$R$396,5,FALSE)","v":0},{"$f":"VLOOKUP($A24,④工事経歴書の作成!$B$138:$R$396,2,FALSE)","v":0},{"$f":"VLOOKUP($A24,④工事経歴書の作成!$B$138:$R$396,6,FALSE)","v":0},{"$f":"VLOOKUP($A24,④工事経歴書の作成!$B$138:$R$396,7,FALSE)","v":0},{"$f":"VLOOKUP($A24,④工事経歴書の作成!$B$138:$R$396,8,FALSE)","v":0},{"$f":"VLOOKUP($A24,④工事経歴書の作成!$B$138:$R$396,9,FALSE)","v":0},{"$f":"VLOOKUP($A24,④工事経歴書の作成!$B$138:$R$396,8,FALSE)","v":0},{"$f":"VLOOKUP($A24,④工事経歴書の作成!$B$138:$R$396,11,FALSE)","v":0},"千円",{"$f":"VLOOKUP($A24,④工事経歴書の作成!$B$138:$R$396,13,FALSE)","v":0},"千円","令和",{"$f":"VLOOKUP($A24,④工事経歴書の作成!$B$138:$R$396,14,FALSE)","v":0},"年",{"$f":"VLOOKUP($A24,④工事経歴書の作成!$B$138:$R$396,15,FALSE)","v":0},"月","令和",{"$f":"VLOOKUP($A24,④工事経歴書の作成!$B$138:$R$396,16,FALSE)","v":0},"年",{"$f":"VLOOKUP($A24,④工事経歴書の作成!$B$138:$R$396,17,FALSE)","v":0},"月",null,null,null,{"$f":"IF(+L24=0,\"\",L24)","v":""},null,{"$f":"+N24","v":0},null,{"$f":"IF(AA25=$AF$12,L24,0)","v":0},null,{"$f":"IF(AA25=$AF$12,N24,0)","v":0}]
[null,null,null,null,null,null,null,null,null,null,null,{"$f":"VLOOKUP($A24,④工事経歴書の作成!$B$138:$R$396,10,FALSE)","v":0},null,{"$f":"VLOOKUP($A24,④工事経歴書の作成!$B$138:$R$396,12,FALSE)","v":0},null,null,null,null,null,null,null,null,null,null,null,null,{"$f":"IF(C24=$C$51,AA23,C24)","v":0},{"$f":"IF(+L25=0,\"\",L25)","v":""},null,{"$f":"+N25","v":0},null,{"$f":"IF(AA25=$AF$12,L25,0)","v":0},null,{"$f":"IF(AA25=$AF$12,N25,0)","v":0}]
[33,{"$f":"VLOOKUP($A26,④工事経歴書の作成!$B$138:$R$396,2,FALSE)","v":0},{"$f":"VLOOKUP($A26,④工事経歴書の作成!$B$138:$R$396,3,FALSE)","v":0},{"$f":"VLOOKUP($A26,④工事経歴書の作成!$B$138:$R$396,4,FALSE)","v":0},{"$f":"VLOOKUP($A26,④工事経歴書の作成!$B$138:$R$396,5,FALSE)","v":0},{"$f":"VLOOKUP($A26,④工事経歴書の作成!$B$138:$R$396,2,FALSE)","v":0},{"$f":"VLOOKUP($A26,④工事経歴書の作成!$B$138:$R$396,6,FALSE)","v":0},{"$f":"VLOOKUP($A26,④工事経歴書の作成!$B$138:$R$396,7,FALSE)","v":0},{"$f":"VLOOKUP($A26,④工事経歴書の作成!$B$138:$R$396,8,FALSE)","v":0},{"$f":"VLOOKUP($A26,④工事経歴書の作成!$B$138:$R$396,9,FALSE)","v":0},{"$f":"VLOOKUP($A26,④工事経歴書の作成!$B$138:$R$396,8,FALSE)","v":0},{"$f":"VLOOKUP($A26,④工事経歴書の作成!$B$138:$R$396,11,FALSE)","v":0},"千円",{"$f":"VLOOKUP($A26,④工事経歴書の作成!$B$138:$R$396,13,FALSE)","v":0},"千円","令和",{"$f":"VLOOKUP($A26,④工事経歴書の作成!$B$138:$R$396,14,FALSE)","v":0},"年",{"$f":"VLOOKUP($A26,④工事経歴書の作成!$B$138:$R$396,15,FALSE)","v":0},"月","令和",{"$f":"VLOOKUP($A26,④工事経歴書の作成!$B$138:$R$396,16,FALSE)","v":0},"年",{"$f":"VLOOKUP($A26,④工事経歴書の作成!$B$138:$R$396,17,FALSE)","v":0},"月",null,null,null,{"$f":"IF(+L26=0,\"\",L26)","v":""},null,{"$f":"+N26","v":0},null,{"$f":"IF(AA27=$AF$12,L26,0)","v":0},null,{"$f":"IF(AA27=$AF$12,N26,0)","v":0}]
[null,null,null,null,null,null,null,null,null,null,null,{"$f":"VLOOKUP($A26,④工事経歴書の作成!$B$138:$R$396,10,FALSE)","v":0},null,{"$f":"VLOOKUP($A26,④工事経歴書の作成!$B$138:$R$396,12,FALSE)","v":0},null,null,null,null,null,null,null,null,null,null,null,null,{"$f":"IF(C26=$C$51,AA25,C26)","v":0},{"$f":"IF(+L27=0,\"\",L27)","v":""},null,{"$f":"+N27","v":0},null,{"$f":"IF(AA27=$AF$12,L27,0)","v":0},null,{"$f":"IF(AA27=$AF$12,N27,0)","v":0}]
[34,{"$f":"VLOOKUP($A28,④工事経歴書の作成!$B$138:$R$396,2,FALSE)","v":0},{"$f":"VLOOKUP($A28,④工事経歴書の作成!$B$138:$R$396,3,FALSE)","v":0},{"$f":"VLOOKUP($A28,④工事経歴書の作成!$B$138:$R$396,4,FALSE)","v":0},{"$f":"VLOOKUP($A28,④工事経歴書の作成!$B$138:$R$396,5,FALSE)","v":0},{"$f":"VLOOKUP($A28,④工事経歴書の作成!$B$138:$R$396,2,FALSE)","v":0},{"$f":"VLOOKUP($A28,④工事経歴書の作成!$B$138:$R$396,6,FALSE)","v":0},{"$f":"VLOOKUP($A28,④工事経歴書の作成!$B$138:$R$396,7,FALSE)","v":0},{"$f":"VLOOKUP($A28,④工事経歴書の作成!$B$138:$R$396,8,FALSE)","v":0},{"$f":"VLOOKUP($A28,④工事経歴書の作成!$B$138:$R$396,9,FALSE)","v":0},{"$f":"VLOOKUP($A28,④工事経歴書の作成!$B$138:$R$396,8,FALSE)","v":0},{"$f":"VLOOKUP($A28,④工事経歴書の作成!$B$138:$R$396,11,FALSE)","v":0},"千円",{"$f":"VLOOKUP($A28,④工事経歴書の作成!$B$138:$R$396,13,FALSE)","v":0},"千円","令和",{"$f":"VLOOKUP($A28,④工事経歴書の作成!$B$138:$R$396,14,FALSE)","v":0},"年",{"$f":"VLOOKUP($A28,④工事経歴書の作成!$B$138:$R$396,15,FALSE)","v":0},"月","令和",{"$f":"VLOOKUP($A28,④工事経歴書の作成!$B$138:$R$396,16,FALSE)","v":0},"年",{"$f":"VLOOKUP($A28,④工事経歴書の作成!$B$138:$R$396,17,FALSE)","v":0},"月",null,null,null,{"$f":"IF(+L28=0,\"\",L28)","v":""},null,{"$f":"+N28","v":0},null,{"$f":"IF(AA29=$AF$12,L28,0)","v":0},null,{"$f":"IF(AA29=$AF$12,N28,0)","v":0}]
[null,null,null,null,null,null,null,null,null,null,null,{"$f":"VLOOKUP($A28,④工事経歴書の作成!$B$138:$R$396,10,FALSE)","v":0},null,{"$f":"VLOOKUP($A28,④工事経歴書の作成!$B$138:$R$396,12,FALSE)","v":0},null,null,null,null,null,null,null,null,null,null,null,null,{"$f":"IF(C28=$C$51,AA27,C28)","v":0},{"$f":"IF(+L29=0,\"\",L29)","v":""},null,{"$f":"+N29","v":0},null,{"$f":"IF(AA29=$AF$12,L29,0)","v":0},null,{"$f":"IF(AA29=$AF$12,N29,0)","v":0}]
[35,{"$f":"VLOOKUP($A30,④工事経歴書の作成!$B$138:$R$396,2,FALSE)","v":0},{"$f":"VLOOKUP($A30,④工事経歴書の作成!$B$138:$R$396,3,FALSE)","v":0},{"$f":"VLOOKUP($A30,④工事経歴書の作成!$B$138:$R$396,4,FALSE)","v":0},{"$f":"VLOOKUP($A30,④工事経歴書の作成!$B$138:$R$396,5,FALSE)","v":0},{"$f":"VLOOKUP($A30,④工事経歴書の作成!$B$138:$R$396,2,FALSE)","v":0},{"$f":"VLOOKUP($A30,④工事経歴書の作成!$B$138:$R$396,6,FALSE)","v":0},{"$f":"VLOOKUP($A30,④工事経歴書の作成!$B$138:$R$396,7,FALSE)","v":0},{"$f":"VLOOKUP($A30,④工事経歴書の作成!$B$138:$R$396,8,FALSE)","v":0},{"$f":"VLOOKUP($A30,④工事経歴書の作成!$B$138:$R$396,9,FALSE)","v":0},{"$f":"VLOOKUP($A30,④工事経歴書の作成!$B$138:$R$396,8,FALSE)","v":0},{"$f":"VLOOKUP($A30,④工事経歴書の作成!$B$138:$R$396,11,FALSE)","v":0},"千円",{"$f":"VLOOKUP($A30,④工事経歴書の作成!$B$138:$R$396,13,FALSE)","v":0},"千円","令和",{"$f":"VLOOKUP($A30,④工事経歴書の作成!$B$138:$R$396,14,FALSE)","v":0},"年",{"$f":"VLOOKUP($A30,④工事経歴書の作成!$B$138:$R$396,15,FALSE)","v":0},"月","令和",{"$f":"VLOOKUP($A30,④工事経歴書の作成!$B$138:$R$396,16,FALSE)","v":0},"年",{"$f":"VLOOKUP($A30,④工事経歴書の作成!$B$138:$R$396,17,FALSE)","v":0},"月",null,null,null,{"$f":"IF(+L30=0,\"\",L30)","v":""},null,{"$f":"+N30","v":0},null,{"$f":"IF(AA31=$AF$12,L30,0)","v":0},null,{"$f":"IF(AA31=$AF$12,N30,0)","v":0}]
[null,null,null,null,null,null,null,null,null,null,null,{"$f":"VLOOKUP($A30,④工事経歴書の作成!$B$138:$R$396,10,FALSE)","v":0},null,{"$f":"VLOOKUP($A30,④工事経歴書の作成!$B$138:$R$396,12,FALSE)","v":0},null,null,null,null,null,null,null,null,null,null,null,null,{"$f":"IF(C30=$C$51,AA29,C30)","v":0},{"$f":"IF(+L31=0,\"\",L31)","v":""},null,{"$f":"+N31","v":0},null,{"$f":"IF(AA31=$AF$12,L31,0)","v":0},null,{"$f":"IF(AA31=$AF$12,N31,0)","v":0}]
[36,{"$f":"VLOOKUP($A32,④工事経歴書の作成!$B$138:$R$396,2,FALSE)","v":0},{"$f":"VLOOKUP($A32,④工事経歴書の作成!$B$138:$R$396,3,FALSE)","v":0},{"$f":"VLOOKUP($A32,④工事経歴書の作成!$B$138:$R$396,4,FALSE)","v":0},{"$f":"VLOOKUP($A32,④工事経歴書の作成!$B$138:$R$396,5,FALSE)","v":0},{"$f":"VLOOKUP($A32,④工事経歴書の作成!$B$138:$R$396,2,FALSE)","v":0},{"$f":"VLOOKUP($A32,④工事経歴書の作成!$B$138:$R$396,6,FALSE)","v":0},{"$f":"VLOOKUP($A32,④工事経歴書の作成!$B$138:$R$396,7,FALSE)","v":0},{"$f":"VLOOKUP($A32,④工事経歴書の作成!$B$138:$R$396,8,FALSE)","v":0},{"$f":"VLOOKUP($A32,④工事経歴書の作成!$B$138:$R$396,9,FALSE)","v":0},{"$f":"VLOOKUP($A32,④工事経歴書の作成!$B$138:$R$396,8,FALSE)","v":0},{"$f":"VLOOKUP($A32,④工事経歴書の作成!$B$138:$R$396,11,FALSE)","v":0},"千円",{"$f":"VLOOKUP($A32,④工事経歴書の作成!$B$138:$R$396,13,FALSE)","v":0},"千円","令和",{"$f":"VLOOKUP($A32,④工事経歴書の作成!$B$138:$R$396,14,FALSE)","v":0},"年",{"$f":"VLOOKUP($A32,④工事経歴書の作成!$B$138:$R$396,15,FALSE)","v":0},"月","令和",{"$f":"VLOOKUP($A32,④工事経歴書の作成!$B$138:$R$396,16,FALSE)","v":0},"年",{"$f":"VLOOKUP($A32,④工事経歴書の作成!$B$138:$R$396,17,FALSE)","v":0},"月",null,null,null,{"$f":"IF(+L32=0,\"\",L32)","v":""},null,{"$f":"+N32","v":0},null,{"$f":"IF(AA33=$AF$12,L32,0)","v":0},null,{"$f":"IF(AA33=$AF$12,N32,0)","v":0}]
[null,null,null,null,null,null,null,null,null,null,null,{"$f":"VLOOKUP($A32,④工事経歴書の作成!$B$138:$R$396,10,FALSE)","v":0},null,{"$f":"VLOOKUP($A32,④工事経歴書の作成!$B$138:$R$396,12,FALSE)","v":0},null,null,null,null,null,null,null,null,null,null,null,null,{"$f":"IF(C32=$C$51,AA31,C32)","v":0},{"$f":"IF(+L33=0,\"\",L33)","v":""},null,{"$f":"+N33","v":0},null,{"$f":"IF(AA33=$AF$12,L33,0)","v":0},null,{"$f":"IF(AA33=$AF$12,N33,0)","v":0}]
[37,{"$f":"VLOOKUP($A34,④工事経歴書の作成!$B$138:$R$396,2,FALSE)","v":0},{"$f":"VLOOKUP($A34,④工事経歴書の作成!$B$138:$R$396,3,FALSE)","v":0},{"$f":"VLOOKUP($A34,④工事経歴書の作成!$B$138:$R$396,4,FALSE)","v":0},{"$f":"VLOOKUP($A34,④工事経歴書の作成!$B$138:$R$396,5,FALSE)","v":0},{"$f":"VLOOKUP($A34,④工事経歴書の作成!$B$138:$R$396,2,FALSE)","v":0},{"$f":"VLOOKUP($A34,④工事経歴書の作成!$B$138:$R$396,6,FALSE)","v":0},{"$f":"VLOOKUP($A34,④工事経歴書の作成!$B$138:$R$396,7,FALSE)","v":0},{"$f":"VLOOKUP($A34,④工事経歴書の作成!$B$138:$R$396,8,FALSE)","v":0},{"$f":"VLOOKUP($A34,④工事経歴書の作成!$B$138:$R$396,9,FALSE)","v":0},{"$f":"VLOOKUP($A34,④工事経歴書の作成!$B$138:$R$396,8,FALSE)","v":0},{"$f":"VLOOKUP($A34,④工事経歴書の作成!$B$138:$R$396,11,FALSE)","v":0},"千円",{"$f":"VLOOKUP($A34,④工事経歴書の作成!$B$138:$R$396,13,FALSE)","v":0},"千円","令和",{"$f":"VLOOKUP($A34,④工事経歴書の作成!$B$138:$R$396,14,FALSE)","v":0},"年",{"$f":"VLOOKUP($A34,④工事経歴書の作成!$B$138:$R$396,15,FALSE)","v":0},"月","令和",{"$f":"VLOOKUP($A34,④工事経歴書の作成!$B$138:$R$396,16,FALSE)","v":0},"年",{"$f":"VLOOKUP($A34,④工事経歴書の作成!$B$138:$R$396,17,FALSE)","v":0},"月",null,null,null,{"$f":"IF(+L34=0,\"\",L34)","v":""},null,{"$f":"+N34","v":0},null,{"$f":"IF(AA35=$AF$12,L34,0)","v":0},null,{"$f":"IF(AA35=$AF$12,N34,0)","v":0}]
[null,null,null,null,null,null,null,null,null,null,null,{"$f":"VLOOKUP($A34,④工事経歴書の作成!$B$138:$R$396,10,FALSE)","v":0},null,{"$f":"VLOOKUP($A34,④工事経歴書の作成!$B$138:$R$396,12,FALSE)","v":0},null,null,null,null,null,null,null,null,null,null,null,null,{"$f":"IF(C34=$C$51,AA33,C34)","v":0},{"$f":"IF(+L35=0,\"\",L35)","v":""},null,{"$f":"+N35","v":0},null,{"$f":"IF(AA35=$AF$12,L35,0)","v":0},null,{"$f":"IF(AA35=$AF$12,N35,0)","v":0}]
[38,{"$f":"VLOOKUP($A36,④工事経歴書の作成!$B$138:$R$396,2,FALSE)","v":0},{"$f":"VLOOKUP($A36,④工事経歴書の作成!$B$138:$R$396,3,FALSE)","v":0},{"$f":"VLOOKUP($A36,④工事経歴書の作成!$B$138:$R$396,4,FALSE)","v":0},{"$f":"VLOOKUP($A36,④工事経歴書の作成!$B$138:$R$396,5,FALSE)","v":0},{"$f":"VLOOKUP($A36,④工事経歴書の作成!$B$138:$R$396,2,FALSE)","v":0},{"$f":"VLOOKUP($A36,④工事経歴書の作成!$B$138:$R$396,6,FALSE)","v":0},{"$f":"VLOOKUP($A36,④工事経歴書の作成!$B$138:$R$396,7,FALSE)","v":0},{"$f":"VLOOKUP($A36,④工事経歴書の作成!$B$138:$R$396,8,FALSE)","v":0},{"$f":"VLOOKUP($A36,④工事経歴書の作成!$B$138:$R$396,9,FALSE)","v":0},{"$f":"VLOOKUP($A36,④工事経歴書の作成!$B$138:$R$396,8,FALSE)","v":0},{"$f":"VLOOKUP($A36,④工事経歴書の作成!$B$138:$R$396,11,FALSE)","v":0},"千円",{"$f":"VLOOKUP($A36,④工事経歴書の作成!$B$138:$R$396,13,FALSE)","v":0},"千円","令和",{"$f":"VLOOKUP($A36,④工事経歴書の作成!$B$138:$R$396,14,FALSE)","v":0},"年",{"$f":"VLOOKUP($A36,④工事経歴書の作成!$B$138:$R$396,15,FALSE)","v":0},"月","令和",{"$f":"VLOOKUP($A36,④工事経歴書の作成!$B$138:$R$396,16,FALSE)","v":0},"年",{"$f":"VLOOKUP($A36,④工事経歴書の作成!$B$138:$R$396,17,FALSE)","v":0},"月",null,null,null,{"$f":"IF(+L36=0,\"\",L36)","v":""},null,{"$f":"+N36","v":0},null,{"$f":"IF(AA37=$AF$12,L36,0)","v":0},null,{"$f":"IF(AA37=$AF$12,N36,0)","v":0}]
[null,null,null,null,null,null,null,null,null,null,null,{"$f":"VLOOKUP($A36,④工事経歴書の作成!$B$138:$R$396,10,FALSE)","v":0},null,{"$f":"VLOOKUP($A36,④工事経歴書の作成!$B$138:$R$396,12,FALSE)","v":0},null,null,null,null,null,null,null,null,null,null,null,null,{"$f":"IF(C36=$C$51,AA35,C36)","v":0},{"$f":"IF(+L37=0,\"\",L37)","v":""},null,{"$f":"+N37","v":0},null,{"$f":"IF(AA37=$AF$12,L37,0)","v":0},null,{"$f":"IF(AA37=$AF$12,N37,0)","v":0}]
[39,{"$f":"VLOOKUP($A38,④工事経歴書の作成!$B$138:$R$396,2,FALSE)","v":0},{"$f":"VLOOKUP($A38,④工事経歴書の作成!$B$138:$R$396,3,FALSE)","v":0},{"$f":"VLOOKUP($A38,④工事経歴書の作成!$B$138:$R$396,4,FALSE)","v":0},{"$f":"VLOOKUP($A38,④工事経歴書の作成!$B$138:$R$396,5,FALSE)","v":0},{"$f":"VLOOKUP($A38,④工事経歴書の作成!$B$138:$R$396,2,FALSE)","v":0},{"$f":"VLOOKUP($A38,④工事経歴書の作成!$B$138:$R$396,6,FALSE)","v":0},{"$f":"VLOOKUP($A38,④工事経歴書の作成!$B$138:$R$396,7,FALSE)","v":0},{"$f":"VLOOKUP($A38,④工事経歴書の作成!$B$138:$R$396,8,FALSE)","v":0},{"$f":"VLOOKUP($A38,④工事経歴書の作成!$B$138:$R$396,9,FALSE)","v":0},{"$f":"VLOOKUP($A38,④工事経歴書の作成!$B$138:$R$396,8,FALSE)","v":0},{"$f":"VLOOKUP($A38,④工事経歴書の作成!$B$138:$R$396,11,FALSE)","v":0},"千円",{"$f":"VLOOKUP($A38,④工事経歴書の作成!$B$138:$R$396,13,FALSE)","v":0},"千円","令和",{"$f":"VLOOKUP($A38,④工事経歴書の作成!$B$138:$R$396,14,FALSE)","v":0},"年",{"$f":"VLOOKUP($A38,④工事経歴書の作成!$B$138:$R$396,15,FALSE)","v":0},"月","令和",{"$f":"VLOOKUP($A38,④工事経歴書の作成!$B$138:$R$396,16,FALSE)","v":0},"年",{"$f":"VLOOKUP($A38,④工事経歴書の作成!$B$138:$R$396,17,FALSE)","v":0},"月",null,null,null,{"$f":"IF(+L38=0,\"\",L38)","v":""},null,{"$f":"+N38","v":0},null,{"$f":"IF(AA39=$AF$12,L38,0)","v":0},null,{"$f":"IF(AA39=$AF$12,N38,0)","v":0}]
[null,null,null,null,null,null,null,null,null,null,null,{"$f":"VLOOKUP($A38,④工事経歴書の作成!$B$138:$R$396,10,FALSE)","v":0},null,{"$f":"VLOOKUP($A38,④工事経歴書の作成!$B$138:$R$396,12,FALSE)","v":0},null,null,null,null,null,null,null,null,null,null,null,null,{"$f":"IF(C38=$C$51,AA37,C38)","v":0},{"$f":"IF(+L39=0,\"\",L39)","v":""},null,{"$f":"+N39","v":0},null,{"$f":"IF(AA39=$AF$12,L39,0)","v":0},null,{"$f":"IF(AA39=$AF$12,N39,0)","v":0}]
[null,null,null,null,null,null,null,null,null,null,null,null,null,null,null,null,null,null,null,null,null,null,null,null,null,null,null,{"$f":"SUM(AB14:AB39)","v":0},0,0,0,0,0,0,0]
[null,null,null,null,null,null,null,null,"小　　計",null,"件",null,"千円",null,"千円","うち　元請工事"]
[null,null,null,null,null,null,null,null,null,null,null,null,null,null,null,null,null,null,"千円",null,null,null,null,"千円"]
[]
[]
[null,null,null,null,null,null,null,null,"合　　計",null,"件",null,"千円",null,"千円","うち　元請工事"]
[null,null,null,null,null,null,null,null,null,null,null,null,null,null,null,null,null,null,"千円",null,null,null,null,"千円"]
[]
[]
[null,null,null,null,null,null,null,"小計を","小計",{"$f":"COUNT(AC14:AC39)","v":0},"件",{"$f":"+AC40","v":0},"千円",{"$f":"+AE40","v":0},"千円",{"$f":"+AG40","v":0},null,null,"千円",null,{"$f":"+AI40","v":0},null,null,"千円"]
[null,null,null,null,null,null,null,"転記しましょう",null,{"$f":"COUNT(AB14:AB39)","v":0},null,{"$f":"+AB40","v":0},null,{"$f":"+AD40","v":0},null,{"$f":"+AF40","v":0},null,null,null,null,{"$f":"+AH40","v":0}]
[null,null,null,null,null,null,null,"操作方法によっては算式がこわれる場合があります。この数値は参考程度としていただき、必ず電卓で検算してください。"]
[]
[null,null,null,null,null,null,null,null,"ﾚ"]

{"sheet":"4","index":11,"n_rows":53,"n_cols":35,"rows_kept":53,"cut":false,"hidden":false,"merged":[[4,1,4,24],[40,12,42,12],[40,14,42,14],[11,9,12,10],[13,9,14,10],[41,13,42,13],[37,16,38,16],[37,17,38,17],[37,18,38,18],[37,6,38,6],[37,12,38,12],[35,19,36,19],[41,23,42,24],[42,20,42,22],[37,23,38,23],[35,15,36,15],[35,16,36,16],[37,14,38,14],[41,18,42,19],[37,15,38,15],[37,7,38,7],[33,12,34,12],[33,7,34,7],[33,8,34,8],[35,0,36,0],[37,8,38,8],[35,20,36,20],[33,20,34,20],[35,23,36,23],[37,24,38,24],[33,22,34,22],[33,23,34,23],[33,24,34,24],[35,24,36,24],[33,21,34,21],[33,0,34,0],[33,18,34,18],[33,19,34,19],[37,19,38,19],[33,14,34,14],[35,18,36,18],[35,14,36,14],[37,0,38,0],[37,1,38,1],[37,2,38,2],[37,3,38,3],[37,4,38,5],[35,1,36,1],[35,2,36,2],[35,3,36,3],[35,4,36,5],[35,6,36,6],[31,19,32,19],[33,16,34,16],[33,17,34,17],[31,20,32,20],[33,1,34,1],[33,2,34,2],[33,3,34,3],[33,4,34,5],[31,7,32,7],[35,7,36,7],[44,8,46,8],[44,10,46,10],[44,12,46,12],[45,9,46,9],[45,11,46,11],[46,15,46,17],[31,21,32,21],[31,14,32,14],[31,15,32,15],[31,16,32,16],[31,17,32,17],[31,18,32,18],[35,21,36,21],[40,8,42,8],[41,9,42,9],[35,9,36,10],[41,11,42,11],[35,8,36,8],[37,9,38,10],[40,10,42,10],[35,12,36,12],[33,6,34,6],[27,0,28,0],[27,1,28,1],[27,2,28,2],[27,3,28,3],[27,4,28,5],[27,6,28,6],[25,12,26,12],[31,12,32,12],[27,9,28,10],[27,12,28,12],[27,8,28,8],[29,8,30,8],[31,8,32,8],[29,7,30,7],[27,7,28,7],[31,6,32,6],[29,0,30,0],[29,4,30,5],[29,2,30,2],[31,0,32,0],[31,1,32,1],[31,2,32,2],[31,3,32,3],[31,4,32,5],[29,6,30,6],[29,3,30,3],[23,24,24,24],[23,7,24,7],[23,23,24,23],[23,8,24,8],[23,14,24,14],[25,0,26,0],[25,1,26,1],[25,2,26,2],[25,3,26,3],[25,4,26,5],[25,14,26,14],[25,9,26,10],[23,0,24,0],[23,1,24,1],[23,2,24,2],[23,3,24,3],[23,4,24,5],[23,6,24,6],[25,6,26,6],[23,12,24,12],[25,7,26,7],[25,8,26,8],[23,20,24,20],[23,21,24,21],[23,16,24,16],[25,21,26,21],[29,16,30,16],[21,8,22,8],[21,20,22,20],[21,21,22,21],[21,12,22,12],[21,14,22,14],[21,15,22,15],[21,16,22,16],[21,19,22,19],[21,18,22,18],[29,17,30,17],[29,20,30,20],[29,12,30,12],[29,14,30,14],[27,16,28,16],[27,14,28,14],[27,15,28,15],[23,22,24,22],[29,15,30,15],[29,19,30,19],[17,19,18,19],[19,12,20,12],[19,14,20,14],[19,15,20,15],[17,0,18,0],[17,1,18,1],[17,2,18,2],[17,3,18,3],[17,4,18,5],[17,6,18,6],[19,8,20,8],[17,14,18,14],[17,15,18,15],[17,16,18,16],[17,9,18,10],[19,16,20,16],[21,4,22,5],[21,6,22,6],[21,7,22,7],[27,22,28,22],[27,21,28,21],[21,24,22,24],[25,24,26,24],[46,20,46,22],[37,20,38,20],[37,21,38,21],[23,19,24,19],[17,20,18,20],[17,21,18,21],[19,0,20,0],[19,1,20,1],[19,2,20,2],[19,3,20,3],[19,4,20,5],[19,17,20,17],[17,7,18,7],[17,8,18,8],[19,20,20,20],[19,6,20,6],[19,7,20,7],[21,0,22,0],[21,1,22,1],[21,2,22,2],[21,3,22,3],[21,9,22,10],[48,18,49,19],[49,20,49,22],[48,20,48,22],[27,23,28,23],[25,23,26,23],[45,13,46,13],[45,15,45,17],[44,14,46,14],[44,15,44,24],[37,22,38,22],[45,18,46,19],[45,20,45,22],[45,23,46,24],[33,15,34,15],[35,22,36,22],[19,21,20,21],[21,22,22,22],[17,18,18,18],[15,17,16,17],[15,18,16,18],[19,19,20,19],[48,8,49,8],[48,10,49,10],[48,12,49,12],[48,14,49,14],[49,15,49,17],[48,15,48,17],[25,15,26,15],[25,16,26,16],[35,17,36,17],[42,15,42,17],[41,15,41,17],[40,15,40,24],[25,22,26,22],[41,20,41,22],[27,19,28,19],[29,21,30,21],[48,23,49,24],[33,9,34,10],[11,31,11,34],[19,9,20,10],[23,9,24,10],[29,9,30,10],[31,9,32,10],[27,24,28,24],[29,22,30,22],[29,23,30,23],[29,24,30,24],[31,23,32,23],[31,22,32,22],[11,27,11,30],[31,24,32,24],[27,20,28,20],[17,12,18,12],[25,20,26,20],[21,23,22,23],[15,24,16,24],[17,22,18,22],[17,23,18,23],[17,24,18,24],[19,24,20,24],[19,22,20,22],[19,23,20,23],[13,24,14,24],[13,19,14,19],[15,20,16,20],[15,21,16,21],[15,22,16,22],[15,23,16,23],[15,19,16,19],[8,1,12,1],[13,1,14,1],[13,16,14,16],[8,15,8,24],[9,15,12,19],[9,20,10,24],[11,20,12,24],[13,21,14,21],[13,22,14,22],[13,23,14,23],[15,4,16,5],[15,6,16,6],[15,1,16,1],[15,2,16,2],[15,3,16,3],[15,8,16,8],[15,14,16,14],[10,8,10,10],[11,8,12,8],[9,7,12,7],[13,7,14,7],[15,0,16,0],[29,18,30,18],[19,18,20,18],[13,12,14,12],[15,7,16,7],[13,8,14,8],[13,15,14,15],[13,17,14,17],[13,18,14,18],[17,17,18,17],[25,18,26,18],[23,17,24,17],[23,18,24,18],[21,17,22,17],[27,17,28,17],[25,17,26,17],[15,15,16,15],[15,16,16,16],[29,1,30,1],[23,15,24,15],[0,1,0,16],[50,7,50,24],[13,6,14,6],[13,0,14,0],[13,4,14,5],[13,20,14,20],[13,2,14,2],[13,3,14,3],[25,19,26,19],[27,18,28,18],[6,2,6,4],[8,6,12,6],[8,2,12,2],[8,11,8,13],[8,4,12,5],[15,12,16,12],[15,9,16,10],[8,3,12,3],[10,13,10,14],[11,13,11,14],[8,7,8,10],[12,13,12,14],[13,14,14,14],[9,8,9,10]]}
[null,"このシートは編集できません。\n「④工事経歴書の作成」のシートの「編集加工できる工事経歴書の作成」のボタンを押してください。\n自由に編集加工できるシートができあがります。"]
[]
[]
[null,"様式第二号 （第二条、第十三条の二、第十三条の三、第十九条の八関係）",null,null,null,null,null,null,null,null,null,null,null,null,null,null,null,null,null,null,null,null,null,null,"（用紙Ａ4）"]
[null,"工　 事　 経　 歴　 書"]
[]
[null,"（建設工事の種類）",{"$f":"+①業種!D13","v":"土木一式"},null,null,"工事","（　　税込　　・","　　税抜　　）"]
[]
[null,"注　　文　　者","元請\n又は\n下請\nの別","JV\nの\n別","工　　　事　　　名",null,"工事現場の\nある都道府\n県及び市区\n町  村  名","配　置　技　術　者",null,null,null,"請　負　代　金　の　額",null,null,null,"工　　　　期"]
[null,null,null,null,null,null,null,"氏　　名","主任技術者又は監理技術者",null,null,null,null,"うち、",null,"着　工　年　月",null,null,null,null,"　完成又は"]
[null,null,null,null,null,null,null,null,"の別（該当箇所にﾚ印を記載)",null,null,null,null,"　　　・ＰＣ"]
[null,null,null,null,null,null,null,null,"主任技術者","監理技術者",null,null,null,"　　　・法面処理",null,null,null,null,null,null,"　完成予定年月",null,null,null,null,null,null,"全体",null,null,null,"元請"]
[null,null,null,null,null,null,null,null,null,null,null,null,null,"　　　・鋼橋上部",null,null,null,null,null,null,null,null,null,null,null,null,null,"下段","上段","うち、下段","うち、上段","下段","上段","うち、下段","うち、上段"]
[40,{"$f":"VLOOKUP($A14,④工事経歴書の作成!$B$138:$R$396,2,FALSE)","v":0},{"$f":"VLOOKUP($A14,④工事経歴書の作成!$B$138:$R$396,3,FALSE)","v":0},{"$f":"VLOOKUP($A14,④工事経歴書の作成!$B$138:$R$396,4,FALSE)","v":0},{"$f":"VLOOKUP($A14,④工事経歴書の作成!$B$138:$R$396,5,FALSE)","v":0},{"$f":"VLOOKUP($A14,④工事経歴書の作成!$B$138:$R$396,2,FALSE)","v":0},{"$f":"VLOOKUP($A14,④工事経歴書の作成!$B$138:$R$396,6,FALSE)","v":0},{"$f":"VLOOKUP($A14,④工事経歴書の作成!$B$138:$R$396,7,FALSE)","v":0},{"$f":"VLOOKUP($A14,④工事経歴書の作成!$B$138:$R$396,8,FALSE)","v":0},{"$f":"VLOOKUP($A14,④工事経歴書の作成!$B$138:$R$396,9,FALSE)","v":0},{"$f":"VLOOKUP($A14,④工事経歴書の作成!$B$138:$R$396,8,FALSE)","v":0},{"$f":"VLOOKUP($A14,④工事経歴書の作成!$B$138:$R$396,11,FALSE)","v":0},"千円",{"$f":"VLOOKUP($A14,④工事経歴書の作成!$B$138:$R$396,13,FALSE)","v":0},"千円","令和",{"$f":"VLOOKUP($A14,④工事経歴書の作成!$B$138:$R$396,14,FALSE)","v":0},"年",{"$f":"VLOOKUP($A14,④工事経歴書の作成!$B$138:$R$396,15,FALSE)","v":0},"月","令和",{"$f":"VLOOKUP($A14,④工事経歴書の作成!$B$138:$R$396,16,FALSE)","v":0},"年",{"$f":"VLOOKUP($A14,④工事経歴書の作成!$B$138:$R$396,17,FALSE)","v":0},"月",null,null,null,{"$f":"IF(+L14=0,\"\",L14)","v":""},null,{"$f":"+N14","v":0},null,{"$f":"IF(AA15=$AF$12,L14,0)","v":0},null,{"$f":"IF(AA15=$AF$12,N14,0)","v":0}]
[null,null,null,null,null,null,null,null,null,null,null,{"$f":"VLOOKUP($A14,④工事経歴書の作成!$B$138:$R$396,10,FALSE)","v":0},null,{"$f":"VLOOKUP($A14,④工事経歴書の作成!$B$138:$R$396,12,FALSE)","v":0},null,null,null,null,null,null,null,null,null,null,null,null,{"$f":"IF(C14=$C$51,AA13,C14)","v":0},{"$f":"IF(+L15=0,\"\",L15)","v":""},null,{"$f":"+N15","v":0},null,{"$f":"IF(AA15=$AF$12,L15,0)","v":0},null,{"$f":"IF(AA15=$AF$12,N15,0)","v":0}]
[41,{"$f":"VLOOKUP($A16,④工事経歴書の作成!$B$138:$R$396,2,FALSE)","v":0},{"$f":"VLOOKUP($A16,④工事経歴書の作成!$B$138:$R$396,3,FALSE)","v":0},{"$f":"VLOOKUP($A16,④工事経歴書の作成!$B$138:$R$396,4,FALSE)","v":0},{"$f":"VLOOKUP($A16,④工事経歴書の作成!$B$138:$R$396,5,FALSE)","v":0},{"$f":"VLOOKUP($A16,④工事経歴書の作成!$B$138:$R$396,2,FALSE)","v":0},{"$f":"VLOOKUP($A16,④工事経歴書の作成!$B$138:$R$396,6,FALSE)","v":0},{"$f":"VLOOKUP($A16,④工事経歴書の作成!$B$138:$R$396,7,FALSE)","v":0},{"$f":"VLOOKUP($A16,④工事経歴書の作成!$B$138:$R$396,8,FALSE)","v":0},{"$f":"VLOOKUP($A16,④工事経歴書の作成!$B$138:$R$396,9,FALSE)","v":0},{"$f":"VLOOKUP($A16,④工事経歴書の作成!$B$138:$R$396,8,FALSE)","v":0},{"$f":"VLOOKUP($A16,④工事経歴書の作成!$B$138:$R$396,11,FALSE)","v":0},"千円",{"$f":"VLOOKUP($A16,④工事経歴書の作成!$B$138:$R$396,13,FALSE)","v":0},"千円","令和",{"$f":"VLOOKUP($A16,④工事経歴書の作成!$B$138:$R$396,14,FALSE)","v":0},"年",{"$f":"VLOOKUP($A16,④工事経歴書の作成!$B$138:$R$396,15,FALSE)","v":0},"月","令和",{"$f":"VLOOKUP($A16,④工事経歴書の作成!$B$138:$R$396,16,FALSE)","v":0},"年",{"$f":"VLOOKUP($A16,④工事経歴書の作成!$B$138:$R$396,17,FALSE)","v":0},"月",null,null,null,{"$f":"IF(+L16=0,\"\",L16)","v":""},null,{"$f":"+N16","v":0},null,{"$f":"IF(AA17=$AF$12,L16,0)","v":0},null,{"$f":"IF(AA17=$AF$12,N16,0)","v":0}]
[null,null,null,null,null,null,null,null,null,null,null,{"$f":"VLOOKUP($A16,④工事経歴書の作成!$B$138:$R$396,10,FALSE)","v":0},null,{"$f":"VLOOKUP($A16,④工事経歴書の作成!$B$138:$R$396,12,FALSE)","v":0},null,null,null,null,null,null,null,null,null,null,null,null,{"$f":"IF(C16=$C$51,AA15,C16)","v":0},{"$f":"IF(+L17=0,\"\",L17)","v":""},null,{"$f":"+N17","v":0},null,{"$f":"IF(AA17=$AF$12,L17,0)","v":0},null,{"$f":"IF(AA17=$AF$12,N17,0)","v":0}]
[42,{"$f":"VLOOKUP($A18,④工事経歴書の作成!$B$138:$R$396,2,FALSE)","v":0},{"$f":"VLOOKUP($A18,④工事経歴書の作成!$B$138:$R$396,3,FALSE)","v":0},{"$f":"VLOOKUP($A18,④工事経歴書の作成!$B$138:$R$396,4,FALSE)","v":0},{"$f":"VLOOKUP($A18,④工事経歴書の作成!$B$138:$R$396,5,FALSE)","v":0},{"$f":"VLOOKUP($A18,④工事経歴書の作成!$B$138:$R$396,2,FALSE)","v":0},{"$f":"VLOOKUP($A18,④工事経歴書の作成!$B$138:$R$396,6,FALSE)","v":0},{"$f":"VLOOKUP($A18,④工事経歴書の作成!$B$138:$R$396,7,FALSE)","v":0},{"$f":"VLOOKUP($A18,④工事経歴書の作成!$B$138:$R$396,8,FALSE)","v":0},{"$f":"VLOOKUP($A18,④工事経歴書の作成!$B$138:$R$396,9,FALSE)","v":0},{"$f":"VLOOKUP($A18,④工事経歴書の作成!$B$138:$R$396,8,FALSE)","v":0},{"$f":"VLOOKUP($A18,④工事経歴書の作成!$B$138:$R$396,11,FALSE)","v":0},"千円",{"$f":"VLOOKUP($A18,④工事経歴書の作成!$B$138:$R$396,13,FALSE)","v":0},"千円","令和",{"$f":"VLOOKUP($A18,④工事経歴書の作成!$B$138:$R$396,14,FALSE)","v":0},"年",{"$f":"VLOOKUP($A18,④工事経歴書の作成!$B$138:$R$396,15,FALSE)","v":0},"月","令和",{"$f":"VLOOKUP($A18,④工事経歴書の作成!$B$138:$R$396,16,FALSE)","v":0},"年",{"$f":"VLOOKUP($A18,④工事経歴書の作成!$B$138:$R$396,17,FALSE)","v":0},"月",null,null,null,{"$f":"IF(+L18=0,\"\",L18)","v":""},null,{"$f":"+N18","v":0},null,{"$f":"IF(AA19=$AF$12,L18,0)","v":0},null,{"$f":"IF(AA19=$AF$12,N18,0)","v":0}]
[null,null,null,null,null,null,null,null,null,null,null,{"$f":"VLOOKUP($A18,④工事経歴書の作成!$B$138:$R$396,10,FALSE)","v":0},null,{"$f":"VLOOKUP($A18,④工事経歴書の作成!$B$138:$R$396,12,FALSE)","v":0},null,null,null,null,null,null,null,null,null,null,null,null,{"$f":"IF(C18=$C$51,AA17,C18)","v":0},{"$f":"IF(+L19=0,\"\",L19)","v":""},null,{"$f":"+N19","v":0},null,{"$f":"IF(AA19=$AF$12,L19,0)","v":0},null,{"$f":"IF(AA19=$AF$12,N19,0)","v":0}]
[43,{"$f":"VLOOKUP($A20,④工事経歴書の作成!$B$138:$R$396,2,FALSE)","v":0},{"$f":"VLOOKUP($A20,④工事経歴書の作成!$B$138:$R$396,3,FALSE)","v":0},{"$f":"VLOOKUP($A20,④工事経歴書の作成!$B$138:$R$396,4,FALSE)","v":0},{"$f":"VLOOKUP($A20,④工事経歴書の作成!$B$138:$R$396,5,FALSE)","v":0},{"$f":"VLOOKUP($A20,④工事経歴書の作成!$B$138:$R$396,2,FALSE)","v":0},{"$f":"VLOOKUP($A20,④工事経歴書の作成!$B$138:$R$396,6,FALSE)","v":0},{"$f":"VLOOKUP($A20,④工事経歴書の作成!$B$138:$R$396,7,FALSE)","v":0},{"$f":"VLOOKUP($A20,④工事経歴書の作成!$B$138:$R$396,8,FALSE)","v":0},{"$f":"VLOOKUP($A20,④工事経歴書の作成!$B$138:$R$396,9,FALSE)","v":0},{"$f":"VLOOKUP($A20,④工事経歴書の作成!$B$138:$R$396,8,FALSE)","v":0},{"$f":"VLOOKUP($A20,④工事経歴書の作成!$B$138:$R$396,11,FALSE)","v":0},"千円",{"$f":"VLOOKUP($A20,④工事経歴書の作成!$B$138:$R$396,13,FALSE)","v":0},"千円","令和",{"$f":"VLOOKUP($A20,④工事経歴書の作成!$B$138:$R$396,14,FALSE)","v":0},"年",{"$f":"VLOOKUP($A20,④工事経歴書の作成!$B$138:$R$396,15,FALSE)","v":0},"月","令和",{"$f":"VLOOKUP($A20,④工事経歴書の作成!$B$138:$R$396,16,FALSE)","v":0},"年",{"$f":"VLOOKUP($A20,④工事経歴書の作成!$B$138:$R$396,17,FALSE)","v":0},"月",null,null,null,{"$f":"IF(+L20=0,\"\",L20)","v":""},null,{"$f":"+N20","v":0},null,{"$f":"IF(AA21=$AF$12,L20,0)","v":0},null,{"$f":"IF(AA21=$AF$12,N20,0)","v":0}]
[null,null,null,null,null,null,null,null,null,null,null,{"$f":"VLOOKUP($A20,④工事経歴書の作成!$B$138:$R$396,10,FALSE)","v":0},null,{"$f":"VLOOKUP($A20,④工事経歴書の作成!$B$138:$R$396,12,FALSE)","v":0},null,null,null,null,null,null,null,null,null,null,null,null,{"$f":"IF(C20=$C$51,AA19,C20)","v":0},{"$f":"IF(+L21=0,\"\",L21)","v":""},null,{"$f":"+N21","v":0},null,{"$f":"IF(AA21=$AF$12,L21,0)","v":0},null,{"$f":"IF(AA21=$AF$12,N21,0)","v":0}]
[44,{"$f":"VLOOKUP($A22,④工事経歴書の作成!$B$138:$R$396,2,FALSE)","v":0},{"$f":"VLOOKUP($A22,④工事経歴書の作成!$B$138:$R$396,3,FALSE)","v":0},{"$f":"VLOOKUP($A22,④工事経歴書の作成!$B$138:$R$396,4,FALSE)","v":0},{"$f":"VLOOKUP($A22,④工事経歴書の作成!$B$138:$R$396,5,FALSE)","v":0},{"$f":"VLOOKUP($A22,④工事経歴書の作成!$B$138:$R$396,2,FALSE)","v":0},{"$f":"VLOOKUP($A22,④工事経歴書の作成!$B$138:$R$396,6,FALSE)","v":0},{"$f":"VLOOKUP($A22,④工事経歴書の作成!$B$138:$R$396,7,FALSE)","v":0},{"$f":"VLOOKUP($A22,④工事経歴書の作成!$B$138:$R$396,8,FALSE)","v":0},{"$f":"VLOOKUP($A22,④工事経歴書の作成!$B$138:$R$396,9,FALSE)","v":0},{"$f":"VLOOKUP($A22,④工事経歴書の作成!$B$138:$R$396,8,FALSE)","v":0},{"$f":"VLOOKUP($A22,④工事経歴書の作成!$B$138:$R$396,11,FALSE)","v":0},"千円",{"$f":"VLOOKUP($A22,④工事経歴書の作成!$B$138:$R$396,13,FALSE)","v":0},"千円","令和",{"$f":"VLOOKUP($A22,④工事経歴書の作成!$B$138:$R$396,14,FALSE)","v":0},"年",{"$f":"VLOOKUP($A22,④工事経歴書の作成!$B$138:$R$396,15,FALSE)","v":0},"月","令和",{"$f":"VLOOKUP($A22,④工事経歴書の作成!$B$138:$R$396,16,FALSE)","v":0},"年",{"$f":"VLOOKUP($A22,④工事経歴書の作成!$B$138:$R$396,17,FALSE)","v":0},"月",null,null,null,{"$f":"IF(+L22=0,\"\",L22)","v":""},null,{"$f":"+N22","v":0},null,{"$f":"IF(AA23=$AF$12,L22,0)","v":0},null,{"$f":"IF(AA23=$AF$12,N22,0)","v":0}]
[null,null,null,null,null,null,null,null,null,null,null,{"$f":"VLOOKUP($A22,④工事経歴書の作成!$B$138:$R$396,10,FALSE)","v":0},null,{"$f":"VLOOKUP($A22,④工事経歴書の作成!$B$138:$R$396,12,FALSE)","v":0},null,null,null,null,null,null,null,null,null,null,null,null,{"$f":"IF(C22=$C$51,AA21,C22)","v":0},{"$f":"IF(+L23=0,\"\",L23)","v":""},null,{"$f":"+N23","v":0},null,{"$f":"IF(AA23=$AF$12,L23,0)","v":0},null,{"$f":"IF(AA23=$AF$12,N23,0)","v":0}]
[45,{"$f":"VLOOKUP($A24,④工事経歴書の作成!$B$138:$R$396,2,FALSE)","v":0},{"$f":"VLOOKUP($A24,④工事経歴書の作成!$B$138:$R$396,3,FALSE)","v":0},{"$f":"VLOOKUP($A24,④工事経歴書の作成!$B$138:$R$396,4,FALSE)","v":0},{"$f":"VLOOKUP($A24,④工事経歴書の作成!$B$138:$R$396,5,FALSE)","v":0},{"$f":"VLOOKUP($A24,④工事経歴書の作成!$B$138:$R$396,2,FALSE)","v":0},{"$f":"VLOOKUP($A24,④工事経歴書の作成!$B$138:$R$396,6,FALSE)","v":0},{"$f":"VLOOKUP($A24,④工事経歴書の作成!$B$138:$R$396,7,FALSE)","v":0},{"$f":"VLOOKUP($A24,④工事経歴書の作成!$B$138:$R$396,8,FALSE)","v":0},{"$f":"VLOOKUP($A24,④工事経歴書の作成!$B$138:$R$396,9,FALSE)","v":0},{"$f":"VLOOKUP($A24,④工事経歴書の作成!$B$138:$R$396,8,FALSE)","v":0},{"$f":"VLOOKUP($A24,④工事経歴書の作成!$B$138:$R$396,11,FALSE)","v":0},"千円",{"$f":"VLOOKUP($A24,④工事経歴書の作成!$B$138:$R$396,13,FALSE)","v":0},"千円","令和",{"$f":"VLOOKUP($A24,④工事経歴書の作成!$B$138:$R$396,14,FALSE)","v":0},"年",{"$f":"VLOOKUP($A24,④工事経歴書の作成!$B$138:$R$396,15,FALSE)","v":0},"月","令和",{"$f":"VLOOKUP($A24,④工事経歴書の作成!$B$138:$R$396,16,FALSE)","v":0},"年",{"$f":"VLOOKUP($A24,④工事経歴書の作成!$B$138:$R$396,17,FALSE)","v":0},"月",null,null,null,{"$f":"IF(+L24=0,\"\",L24)","v":""},null,{"$f":"+N24","v":0},null,{"$f":"IF(AA25=$AF$12,L24,0)","v":0},null,{"$f":"IF(AA25=$AF$12,N24,0)","v":0}]
[null,null,null,null,null,null,null,null,null,null,null,{"$f":"VLOOKUP($A24,④工事経歴書の作成!$B$138:$R$396,10,FALSE)","v":0},null,{"$f":"VLOOKUP($A24,④工事経歴書の作成!$B$138:$R$396,12,FALSE)","v":0},null,null,null,null,null,null,null,null,null,null,null,null,{"$f":"IF(C24=$C$51,AA23,C24)","v":0},{"$f":"IF(+L25=0,\"\",L25)","v":""},null,{"$f":"+N25","v":0},null,{"$f":"IF(AA25=$AF$12,L25,0)","v":0},null,{"$f":"IF(AA25=$AF$12,N25,0)","v":0}]
[46,{"$f":"VLOOKUP($A26,④工事経歴書の作成!$B$138:$R$396,2,FALSE)","v":0},{"$f":"VLOOKUP($A26,④工事経歴書の作成!$B$138:$R$396,3,FALSE)","v":0},{"$f":"VLOOKUP($A26,④工事経歴書の作成!$B$138:$R$396,4,FALSE)","v":0},{"$f":"VLOOKUP($A26,④工事経歴書の作成!$B$138:$R$396,5,FALSE)","v":0},{"$f":"VLOOKUP($A26,④工事経歴書の作成!$B$138:$R$396,2,FALSE)","v":0},{"$f":"VLOOKUP($A26,④工事経歴書の作成!$B$138:$R$396,6,FALSE)","v":0},{"$f":"VLOOKUP($A26,④工事経歴書の作成!$B$138:$R$396,7,FALSE)","v":0},{"$f":"VLOOKUP($A26,④工事経歴書の作成!$B$138:$R$396,8,FALSE)","v":0},{"$f":"VLOOKUP($A26,④工事経歴書の作成!$B$138:$R$396,9,FALSE)","v":0},{"$f":"VLOOKUP($A26,④工事経歴書の作成!$B$138:$R$396,8,FALSE)","v":0},{"$f":"VLOOKUP($A26,④工事経歴書の作成!$B$138:$R$396,11,FALSE)","v":0},"千円",{"$f":"VLOOKUP($A26,④工事経歴書の作成!$B$138:$R$396,13,FALSE)","v":0},"千円","令和",{"$f":"VLOOKUP($A26,④工事経歴書の作成!$B$138:$R$396,14,FALSE)","v":0},"年",{"$f":"VLOOKUP($A26,④工事経歴書の作成!$B$138:$R$396,15,FALSE)","v":0},"月","令和",{"$f":"VLOOKUP($A26,④工事経歴書の作成!$B$138:$R$396,16,FALSE)","v":0},"年",{"$f":"VLOOKUP($A26,④工事経歴書の作成!$B$138:$R$396,17,FALSE)","v":0},"月",null,null,null,{"$f":"IF(+L26=0,\"\",L26)","v":""},null,{"$f":"+N26","v":0},null,{"$f":"IF(AA27=$AF$12,L26,0)","v":0},null,{"$f":"IF(AA27=$AF$12,N26,0)","v":0}]
[null,null,null,null,null,null,null,null,null,null,null,{"$f":"VLOOKUP($A26,④工事経歴書の作成!$B$138:$R$396,10,FALSE)","v":0},null,{"$f":"VLOOKUP($A26,④工事経歴書の作成!$B$138:$R$396,12,FALSE)","v":0},null,null,null,null,null,null,null,null,null,null,null,null,{"$f":"IF(C26=$C$51,AA25,C26)","v":0},{"$f":"IF(+L27=0,\"\",L27)","v":""},null,{"$f":"+N27","v":0},null,{"$f":"IF(AA27=$AF$12,L27,0)","v":0},null,{"$f":"IF(AA27=$AF$12,N27,0)","v":0}]
[47,{"$f":"VLOOKUP($A28,④工事経歴書の作成!$B$138:$R$396,2,FALSE)","v":0},{"$f":"VLOOKUP($A28,④工事経歴書の作成!$B$138:$R$396,3,FALSE)","v":0},{"$f":"VLOOKUP($A28,④工事経歴書の作成!$B$138:$R$396,4,FALSE)","v":0},{"$f":"VLOOKUP($A28,④工事経歴書の作成!$B$138:$R$396,5,FALSE)","v":0},{"$f":"VLOOKUP($A28,④工事経歴書の作成!$B$138:$R$396,2,FALSE)","v":0},{"$f":"VLOOKUP($A28,④工事経歴書の作成!$B$138:$R$396,6,FALSE)","v":0},{"$f":"VLOOKUP($A28,④工事経歴書の作成!$B$138:$R$396,7,FALSE)","v":0},{"$f":"VLOOKUP($A28,④工事経歴書の作成!$B$138:$R$396,8,FALSE)","v":0},{"$f":"VLOOKUP($A28,④工事経歴書の作成!$B$138:$R$396,9,FALSE)","v":0},{"$f":"VLOOKUP($A28,④工事経歴書の作成!$B$138:$R$396,8,FALSE)","v":0},{"$f":"VLOOKUP($A28,④工事経歴書の作成!$B$138:$R$396,11,FALSE)","v":0},"千円",{"$f":"VLOOKUP($A28,④工事経歴書の作成!$B$138:$R$396,13,FALSE)","v":0},"千円","令和",{"$f":"VLOOKUP($A28,④工事経歴書の作成!$B$138:$R$396,14,FALSE)","v":0},"年",{"$f":"VLOOKUP($A28,④工事経歴書の作成!$B$138:$R$396,15,FALSE)","v":0},"月","令和",{"$f":"VLOOKUP($A28,④工事経歴書の作成!$B$138:$R$396,16,FALSE)","v":0},"年",{"$f":"VLOOKUP($A28,④工事経歴書の作成!$B$138:$R$396,17,FALSE)","v":0},"月",null,null,null,{"$f":"IF(+L28=0,\"\",L28)","v":""},null,{"$f":"+N28","v":0},null,{"$f":"IF(AA29=$AF$12,L28,0)","v":0},null,{"$f":"IF(AA29=$AF$12,N28,0)","v":0}]
[null,null,null,null,null,null,null,null,null,null,null,{"$f":"VLOOKUP($A28,④工事経歴書の作成!$B$138:$R$396,10,FALSE)","v":0},null,{"$f":"VLOOKUP($A28,④工事経歴書の作成!$B$138:$R$396,12,FALSE)","v":0},null,null,null,null,null,null,null,null,null,null,null,null,{"$f":"IF(C28=$C$51,AA27,C28)","v":0},{"$f":"IF(+L29=0,\"\",L29)","v":""},null,{"$f":"+N29","v":0},null,{"$f":"IF(AA29=$AF$12,L29,0)","v":0},null,{"$f":"IF(AA29=$AF$12,N29,0)","v":0}]
[48,{"$f":"VLOOKUP($A30,④工事経歴書の作成!$B$138:$R$396,2,FALSE)","v":0},{"$f":"VLOOKUP($A30,④工事経歴書の作成!$B$138:$R$396,3,FALSE)","v":0},{"$f":"VLOOKUP($A30,④工事経歴書の作成!$B$138:$R$396,4,FALSE)","v":0},{"$f":"VLOOKUP($A30,④工事経歴書の作成!$B$138:$R$396,5,FALSE)","v":0},{"$f":"VLOOKUP($A30,④工事経歴書の作成!$B$138:$R$396,2,FALSE)","v":0},{"$f":"VLOOKUP($A30,④工事経歴書の作成!$B$138:$R$396,6,FALSE)","v":0},{"$f":"VLOOKUP($A30,④工事経歴書の作成!$B$138:$R$396,7,FALSE)","v":0},{"$f":"VLOOKUP($A30,④工事経歴書の作成!$B$138:$R$396,8,FALSE)","v":0},{"$f":"VLOOKUP($A30,④工事経歴書の作成!$B$138:$R$396,9,FALSE)","v":0},{"$f":"VLOOKUP($A30,④工事経歴書の作成!$B$138:$R$396,8,FALSE)","v":0},{"$f":"VLOOKUP($A30,④工事経歴書の作成!$B$138:$R$396,11,FALSE)","v":0},"千円",{"$f":"VLOOKUP($A30,④工事経歴書の作成!$B$138:$R$396,13,FALSE)","v":0},"千円","令和",{"$f":"VLOOKUP($A30,④工事経歴書の作成!$B$138:$R$396,14,FALSE)","v":0},"年",{"$f":"VLOOKUP($A30,④工事経歴書の作成!$B$138:$R$396,15,FALSE)","v":0},"月","令和",{"$f":"VLOOKUP($A30,④工事経歴書の作成!$B$138:$R$396,16,FALSE)","v":0},"年",{"$f":"VLOOKUP($A30,④工事経歴書の作成!$B$138:$R$396,17,FALSE)","v":0},"月",null,null,null,{"$f":"IF(+L30=0,\"\",L30)","v":""},null,{"$f":"+N30","v":0},null,{"$f":"IF(AA31=$AF$12,L30,0)","v":0},null,{"$f":"IF(AA31=$AF$12,N30,0)","v":0}]
[null,null,null,null,null,null,null,null,null,null,null,{"$f":"VLOOKUP($A30,④工事経歴書の作成!$B$138:$R$396,10,FALSE)","v":0},null,{"$f":"VLOOKUP($A30,④工事経歴書の作成!$B$138:$R$396,12,FALSE)","v":0},null,null,null,null,null,null,null,null,null,null,null,null,{"$f":"IF(C30=$C$51,AA29,C30)","v":0},{"$f":"IF(+L31=0,\"\",L31)","v":""},null,{"$f":"+N31","v":0},null,{"$f":"IF(AA31=$AF$12,L31,0)","v":0},null,{"$f":"IF(AA31=$AF$12,N31,0)","v":0}]
[49,{"$f":"VLOOKUP($A32,④工事経歴書の作成!$B$138:$R$396,2,FALSE)","v":0},{"$f":"VLOOKUP($A32,④工事経歴書の作成!$B$138:$R$396,3,FALSE)","v":0},{"$f":"VLOOKUP($A32,④工事経歴書の作成!$B$138:$R$396,4,FALSE)","v":0},{"$f":"VLOOKUP($A32,④工事経歴書の作成!$B$138:$R$396,5,FALSE)","v":0},{"$f":"VLOOKUP($A32,④工事経歴書の作成!$B$138:$R$396,2,FALSE)","v":0},{"$f":"VLOOKUP($A32,④工事経歴書の作成!$B$138:$R$396,6,FALSE)","v":0},{"$f":"VLOOKUP($A32,④工事経歴書の作成!$B$138:$R$396,7,FALSE)","v":0},{"$f":"VLOOKUP($A32,④工事経歴書の作成!$B$138:$R$396,8,FALSE)","v":0},{"$f":"VLOOKUP($A32,④工事経歴書の作成!$B$138:$R$396,9,FALSE)","v":0},{"$f":"VLOOKUP($A32,④工事経歴書の作成!$B$138:$R$396,8,FALSE)","v":0},{"$f":"VLOOKUP($A32,④工事経歴書の作成!$B$138:$R$396,11,FALSE)","v":0},"千円",{"$f":"VLOOKUP($A32,④工事経歴書の作成!$B$138:$R$396,13,FALSE)","v":0},"千円","令和",{"$f":"VLOOKUP($A32,④工事経歴書の作成!$B$138:$R$396,14,FALSE)","v":0},"年",{"$f":"VLOOKUP($A32,④工事経歴書の作成!$B$138:$R$396,15,FALSE)","v":0},"月","令和",{"$f":"VLOOKUP($A32,④工事経歴書の作成!$B$138:$R$396,16,FALSE)","v":0},"年",{"$f":"VLOOKUP($A32,④工事経歴書の作成!$B$138:$R$396,17,FALSE)","v":0},"月",null,null,null,{"$f":"IF(+L32=0,\"\",L32)","v":""},null,{"$f":"+N32","v":0},null,{"$f":"IF(AA33=$AF$12,L32,0)","v":0},null,{"$f":"IF(AA33=$AF$12,N32,0)","v":0}]
[null,null,null,null,null,null,null,null,null,null,null,{"$f":"VLOOKUP($A32,④工事経歴書の作成!$B$138:$R$396,10,FALSE)","v":0},null,{"$f":"VLOOKUP($A32,④工事経歴書の作成!$B$138:$R$396,12,FALSE)","v":0},null,null,null,null,null,null,null,null,null,null,null,null,{"$f":"IF(C32=$C$51,AA31,C32)","v":0},{"$f":"IF(+L33=0,\"\",L33)","v":""},null,{"$f":"+N33","v":0},null,{"$f":"IF(AA33=$AF$12,L33,0)","v":0},null,{"$f":"IF(AA33=$AF$12,N33,0)","v":0}]
[50,{"$f":"VLOOKUP($A34,④工事経歴書の作成!$B$138:$R$396,2,FALSE)","v":0},{"$f":"VLOOKUP($A34,④工事経歴書の作成!$B$138:$R$396,3,FALSE)","v":0},{"$f":"VLOOKUP($A34,④工事経歴書の作成!$B$138:$R$396,4,FALSE)","v":0},{"$f":"VLOOKUP($A34,④工事経歴書の作成!$B$138:$R$396,5,FALSE)","v":0},{"$f":"VLOOKUP($A34,④工事経歴書の作成!$B$138:$R$396,2,FALSE)","v":0},{"$f":"VLOOKUP($A34,④工事経歴書の作成!$B$138:$R$396,6,FALSE)","v":0},{"$f":"VLOOKUP($A34,④工事経歴書の作成!$B$138:$R$396,7,FALSE)","v":0},{"$f":"VLOOKUP($A34,④工事経歴書の作成!$B$138:$R$396,8,FALSE)","v":0},{"$f":"VLOOKUP($A34,④工事経歴書の作成!$B$138:$R$396,9,FALSE)","v":0},{"$f":"VLOOKUP($A34,④工事経歴書の作成!$B$138:$R$396,8,FALSE)","v":0},{"$f":"VLOOKUP($A34,④工事経歴書の作成!$B$138:$R$396,11,FALSE)","v":0},"千円",{"$f":"VLOOKUP($A34,④工事経歴書の作成!$B$138:$R$396,13,FALSE)","v":0},"千円","令和",{"$f":"VLOOKUP($A34,④工事経歴書の作成!$B$138:$R$396,14,FALSE)","v":0},"年",{"$f":"VLOOKUP($A34,④工事経歴書の作成!$B$138:$R$396,15,FALSE)","v":0},"月","令和",{"$f":"VLOOKUP($A34,④工事経歴書の作成!$B$138:$R$396,16,FALSE)","v":0},"年",{"$f":"VLOOKUP($A34,④工事経歴書の作成!$B$138:$R$396,17,FALSE)","v":0},"月",null,null,null,{"$f":"IF(+L34=0,\"\",L34)","v":""},null,{"$f":"+N34","v":0},null,{"$f":"IF(AA35=$AF$12,L34,0)","v":0},null,{"$f":"IF(AA35=$AF$12,N34,0)","v":0}]
[null,null,null,null,null,null,null,null,null,null,null,{"$f":"VLOOKUP($A34,④工事経歴書の作成!$B$138:$R$396,10,FALSE)","v":0},null,{"$f":"VLOOKUP($A34,④工事経歴書の作成!$B$138:$R$396,12,FALSE)","v":0},null,null,null,null,null,null,null,null,null,null,null,null,{"$f":"IF(C34=$C$51,AA33,C34)","v":0},{"$f":"IF(+L35=0,\"\",L35)","v":""},null,{"$f":"+N35","v":0},null,{"$f":"IF(AA35=$AF$12,L35,0)","v":0},null,{"$f":"IF(AA35=$AF$12,N35,0)","v":0}]
[51,{"$f":"VLOOKUP($A36,④工事経歴書の作成!$B$138:$R$396,2,FALSE)","v":0},{"$f":"VLOOKUP($A36,④工事経歴書の作成!$B$138:$R$396,3,FALSE)","v":0},{"$f":"VLOOKUP($A36,④工事経歴書の作成!$B$138:$R$396,4,FALSE)","v":0},{"$f":"VLOOKUP($A36,④工事経歴書の作成!$B$138:$R$396,5,FALSE)","v":0},{"$f":"VLOOKUP($A36,④工事経歴書の作成!$B$138:$R$396,2,FALSE)","v":0},{"$f":"VLOOKUP($A36,④工事経歴書の作成!$B$138:$R$396,6,FALSE)","v":0},{"$f":"VLOOKUP($A36,④工事経歴書の作成!$B$138:$R$396,7,FALSE)","v":0},{"$f":"VLOOKUP($A36,④工事経歴書の作成!$B$138:$R$396,8,FALSE)","v":0},{"$f":"VLOOKUP($A36,④工事経歴書の作成!$B$138:$R$396,9,FALSE)","v":0},{"$f":"VLOOKUP($A36,④工事経歴書の作成!$B$138:$R$396,8,FALSE)","v":0},{"$f":"VLOOKUP($A36,④工事経歴書の作成!$B$138:$R$396,11,FALSE)","v":0},"千円",{"$f":"VLOOKUP($A36,④工事経歴書の作成!$B$138:$R$396,13,FALSE)","v":0},"千円","令和",{"$f":"VLOOKUP($A36,④工事経歴書の作成!$B$138:$R$396,14,FALSE)","v":0},"年",{"$f":"VLOOKUP($A36,④工事経歴書の作成!$B$138:$R$396,15,FALSE)","v":0},"月","令和",{"$f":"VLOOKUP($A36,④工事経歴書の作成!$B$138:$R$396,16,FALSE)","v":0},"年",{"$f":"VLOOKUP($A36,④工事経歴書の作成!$B$138:$R$396,17,FALSE)","v":0},"月",null,null,null,{"$f":"IF(+L36=0,\"\",L36)","v":""},null,{"$f":"+N36","v":0},null,{"$f":"IF(AA37=$AF$12,L36,0)","v":0},null,{"$f":"IF(AA37=$AF$12,N36,0)","v":0}]
[null,null,null,null,null,null,null,null,null,null,null,{"$f":"VLOOKUP($A36,④工事経歴書の作成!$B$138:$R$396,10,FALSE)","v":0},null,{"$f":"VLOOKUP($A36,④工事経歴書の作成!$B$138:$R$396,12,FALSE)","v":0},null,null,null,null,null,null,null,null,null,null,null,null,{"$f":"IF(C36=$C$51,AA35,C36)","v":0},{"$f":"IF(+L37=0,\"\",L37)","v":""},null,{"$f":"+N37","v":0},null,{"$f":"IF(AA37=$AF$12,L37,0)","v":0},null,{"$f":"IF(AA37=$AF$12,N37,0)","v":0}]
[52,{"$f":"VLOOKUP($A38,④工事経歴書の作成!$B$138:$R$396,2,FALSE)","v":0},{"$f":"VLOOKUP($A38,④工事経歴書の作成!$B$138:$R$396,3,FALSE)","v":0},{"$f":"VLOOKUP($A38,④工事経歴書の作成!$B$138:$R$396,4,FALSE)","v":0},{"$f":"VLOOKUP($A38,④工事経歴書の作成!$B$138:$R$396,5,FALSE)","v":0},{"$f":"VLOOKUP($A38,④工事経歴書の作成!$B$138:$R$396,2,FALSE)","v":0},{"$f":"VLOOKUP($A38,④工事経歴書の作成!$B$138:$R$396,6,FALSE)","v":0},{"$f":"VLOOKUP($A38,④工事経歴書の作成!$B$138:$R$396,7,FALSE)","v":0},{"$f":"VLOOKUP($A38,④工事経歴書の作成!$B$138:$R$396,8,FALSE)","v":0},{"$f":"VLOOKUP($A38,④工事経歴書の作成!$B$138:$R$396,9,FALSE)","v":0},{"$f":"VLOOKUP($A38,④工事経歴書の作成!$B$138:$R$396,8,FALSE)","v":0},{"$f":"VLOOKUP($A38,④工事経歴書の作成!$B$138:$R$396,11,FALSE)","v":0},"千円",{"$f":"VLOOKUP($A38,④工事経歴書の作成!$B$138:$R$396,13,FALSE)","v":0},"千円","令和",{"$f":"VLOOKUP($A38,④工事経歴書の作成!$B$138:$R$396,14,FALSE)","v":0},"年",{"$f":"VLOOKUP($A38,④工事経歴書の作成!$B$138:$R$396,15,FALSE)","v":0},"月","令和",{"$f":"VLOOKUP($A38,④工事経歴書の作成!$B$138:$R$396,16,FALSE)","v":0},"年",{"$f":"VLOOKUP($A38,④工事経歴書の作成!$B$138:$R$396,17,FALSE)","v":0},"月",null,null,null,{"$f":"IF(+L38=0,\"\",L38)","v":""},null,{"$f":"+N38","v":0},null,{"$f":"IF(AA39=$AF$12,L38,0)","v":0},null,{"$f":"IF(AA39=$AF$12,N38,0)","v":0}]
[null,null,null,null,null,null,null,null,null,null,null,{"$f":"VLOOKUP($A38,④工事経歴書の作成!$B$138:$R$396,10,FALSE)","v":0},null,{"$f":"VLOOKUP($A38,④工事経歴書の作成!$B$138:$R$396,12,FALSE)","v":0},null,null,null,null,null,null,null,null,null,null,null,null,{"$f":"IF(C38=$C$51,AA37,C38)","v":0},{"$f":"IF(+L39=0,\"\",L39)","v":""},null,{"$f":"+N39","v":0},null,{"$f":"IF(AA39=$AF$12,L39,0)","v":0},null,{"$f":"IF(AA39=$AF$12,N39,0)","v":0}]
[null,null,null,null,null,null,null,null,null,null,null,null,null,null,null,null,null,null,null,null,null,null,null,null,null,null,null,{"$f":"SUM(AB14:AB39)","v":0},0,0,0,0,0,0,0]
[null,null,null,null,null,null,null,null,"小　　計",null,"件",null,"千円",null,"千円","うち　元請工事"]
[null,null,null,null,null,null,null,null,null,null,null,null,null,null,null,null,null,null,"千円",null,null,null,null,"千円"]
[]
[]
[null,null,null,null,null,null,null,null,"合　　計",null,"件",null,"千円",null,"千円","うち　元請工事"]
[null,null,null,null,null,null,null,null,null,null,null,null,null,null,null,null,null,null,"千円",null,null,null,null,"千円"]
[]
[]
[null,null,null,null,null,null,null,"小計を","小計",{"$f":"COUNT(AC14:AC39)","v":0},"件",{"$f":"+AC40","v":0},"千円",{"$f":"+AE40","v":0},"千円",{"$f":"+AG40","v":0},null,null,"千円",null,{"$f":"+AI40","v":0},null,null,"千円"]
[null,null,null,null,null,null,null,"転記しましょう",null,{"$f":"COUNT(AB14:AB39)","v":0},null,{"$f":"+AB40","v":0},null,{"$f":"+AD40","v":0},null,{"$f":"+AF40","v":0},null,null,null,null,{"$f":"+AH40","v":0}]
[null,null,null,null,null,null,null,"操作方法によっては算式がこわれる場合があります。この数値は参考程度としていただき、必ず電卓で検算してください。"]
[]
[null,null,null,null,null,null,null,null,"ﾚ"]

{"sheet":"5","index":12,"n_rows":53,"n_cols":35,"rows_kept":53,"cut":false,"hidden":false,"merged":[[8,1,12,1],[13,1,14,1],[8,15,8,24],[9,15,12,19],[9,20,10,24],[11,20,12,24],[13,19,14,19],[13,16,14,16],[13,17,14,17],[13,8,14,8],[9,8,9,10],[10,8,10,10],[11,8,12,8],[13,7,14,7],[9,7,12,7],[13,22,14,22],[13,23,14,23],[15,15,16,15],[12,13,12,14],[13,12,14,12],[13,14,14,14],[13,15,14,15],[0,1,0,16],[50,7,50,24],[13,6,14,6],[13,0,14,0],[13,4,14,5],[13,20,14,20],[13,2,14,2],[13,3,14,3],[25,19,26,19],[27,18,28,18],[6,2,6,4],[8,6,12,6],[8,2,12,2],[8,11,8,13],[8,4,12,5],[8,3,12,3],[10,13,10,14],[11,13,11,14],[8,7,8,10],[25,24,26,24],[25,22,26,22],[25,23,26,23],[23,24,24,24],[21,23,22,23],[17,22,18,22],[17,23,18,23],[19,23,20,23],[23,23,24,23],[17,24,18,24],[19,24,20,24],[21,24,22,24],[23,22,24,22],[19,21,20,21],[19,22,20,22],[13,24,14,24],[15,24,16,24],[15,23,16,23],[13,21,14,21],[15,4,16,5],[15,6,16,6],[15,8,16,8],[15,12,16,12],[15,7,16,7],[15,19,16,19],[15,17,16,17],[15,14,16,14],[15,18,16,18],[15,16,16,16],[15,20,16,20],[13,18,14,18],[17,17,18,17],[15,21,16,21],[15,22,16,22],[17,18,18,18],[17,4,18,5],[17,6,18,6],[19,17,20,17],[19,20,20,20],[19,18,20,18],[19,19,20,19],[23,16,24,16],[23,17,24,17],[23,18,24,18],[21,17,22,17],[19,16,20,16],[23,20,24,20],[21,18,22,18],[23,21,24,21],[23,14,24,14],[35,18,36,18],[35,17,36,17],[29,19,30,19],[27,19,28,19],[23,19,24,19],[25,18,26,18],[25,15,26,15],[25,16,26,16],[27,16,28,16],[27,17,28,17],[29,18,30,18],[25,17,26,17],[29,15,30,15],[23,15,24,15],[11,31,11,34],[19,9,20,10],[23,9,24,10],[29,9,30,10],[31,9,32,10],[33,9,34,10],[17,19,18,19],[17,20,18,20],[17,16,18,16],[29,24,30,24],[33,16,34,16],[33,17,34,17],[29,17,30,17],[31,16,32,16],[31,17,32,17],[29,23,30,23],[17,21,18,21],[21,21,22,21],[21,22,22,22],[21,20,22,20],[27,23,28,23],[25,20,26,20],[25,21,26,21],[27,24,28,24],[48,18,49,19],[49,20,49,22],[48,20,48,22],[37,20,38,20],[37,21,38,21],[37,22,38,22],[35,20,36,20],[48,23,49,24],[11,27,11,30],[21,19,22,19],[29,20,30,20],[29,21,30,21],[33,18,34,18],[33,19,34,19],[33,20,34,20],[41,20,41,22],[41,23,42,24],[42,20,42,22],[37,23,38,23],[37,24,38,24],[29,22,30,22],[27,20,28,20],[27,21,28,21],[27,22,28,22],[46,15,46,17],[31,22,32,22],[29,16,30,16],[25,0,26,0],[25,1,26,1],[25,2,26,2],[25,3,26,3],[44,10,46,10],[44,12,46,12],[45,9,46,9],[45,11,46,11],[44,14,46,14],[44,15,44,24],[45,13,46,13],[45,15,45,17],[45,18,46,19],[45,20,45,22],[45,23,46,24],[46,20,46,22],[37,7,38,7],[25,7,26,7],[25,8,26,8],[29,7,30,7],[29,8,30,8],[15,0,16,0],[15,1,16,1],[15,2,16,2],[15,3,16,3],[17,0,18,0],[17,1,18,1],[17,2,18,2],[17,3,18,3],[35,0,36,0],[21,0,22,0],[21,1,22,1],[21,2,22,2],[21,3,22,3],[23,0,24,0],[23,1,24,1],[23,2,24,2],[29,0,30,0],[29,1,30,1],[29,2,30,2],[29,3,30,3],[33,0,34,0],[33,2,34,2],[33,1,34,1],[33,3,34,3],[17,7,18,7],[17,8,18,8],[25,4,26,5],[19,6,20,6],[19,7,20,7],[23,4,24,5],[21,4,22,5],[17,14,18,14],[17,15,18,15],[19,8,20,8],[19,12,20,12],[19,14,20,14],[19,15,20,15],[17,12,18,12],[21,9,22,10],[25,12,26,12],[21,6,22,6],[21,7,22,7],[21,8,22,8],[48,12,49,12],[48,14,49,14],[49,15,49,17],[48,15,48,17],[21,12,22,12],[19,0,20,0],[19,1,20,1],[19,2,20,2],[19,3,20,3],[19,4,20,5],[23,3,24,3],[23,6,24,6],[23,7,24,7],[23,8,24,8],[48,8,49,8],[48,10,49,10],[25,6,26,6],[27,7,28,7],[27,8,28,8],[40,8,42,8],[44,8,46,8],[21,14,22,14],[21,15,22,15],[21,16,22,16],[37,8,38,8],[23,12,24,12],[25,14,26,14],[25,9,26,10],[29,12,30,12],[35,8,36,8],[27,6,28,6],[31,8,32,8],[33,8,34,8],[37,9,38,10],[41,9,42,9],[41,11,42,11],[35,14,36,14],[33,12,34,12],[27,12,28,12],[27,14,28,14],[35,9,36,10],[29,14,30,14],[35,12,36,12],[27,9,28,10],[31,12,32,12],[33,14,34,14],[37,14,38,14],[40,10,42,10],[31,0,32,0],[31,1,32,1],[31,2,32,2],[31,3,32,3],[31,4,32,5],[31,21,32,21],[27,0,28,0],[31,19,32,19],[31,20,32,20],[27,1,28,1],[27,2,28,2],[27,3,28,3],[31,14,32,14],[31,15,32,15],[31,6,32,6],[31,7,32,7],[29,4,30,5],[29,6,30,6],[27,4,28,5],[27,15,28,15],[33,4,34,5],[33,6,34,6],[31,18,32,18],[33,7,34,7],[33,24,34,24],[33,21,34,21],[33,15,34,15],[35,1,36,1],[35,2,36,2],[35,3,36,3],[35,4,36,5],[35,6,36,6],[35,7,36,7],[35,15,36,15],[35,16,36,16],[35,19,36,19],[33,22,34,22],[33,23,34,23],[35,24,36,24],[35,21,36,21],[35,22,36,22],[35,23,36,23],[31,23,32,23],[31,24,32,24],[37,0,38,0],[37,1,38,1],[37,2,38,2],[37,3,38,3],[37,4,38,5],[37,6,38,6],[4,1,4,24],[40,12,42,12],[40,14,42,14],[11,9,12,10],[13,9,14,10],[15,9,16,10],[17,9,18,10],[40,15,40,24],[41,18,42,19],[37,12,38,12],[41,13,42,13],[37,16,38,16],[37,17,38,17],[37,18,38,18],[37,19,38,19],[42,15,42,17],[41,15,41,17],[37,15,38,15]]}
[null,"このシートは編集できません。\n「④工事経歴書の作成」のシートの「編集加工できる工事経歴書の作成」のボタンを押してください。\n自由に編集加工できるシートができあがります。"]
[]
[]
[null,"様式第二号 （第二条、第十三条の二、第十三条の三、第十九条の八関係）",null,null,null,null,null,null,null,null,null,null,null,null,null,null,null,null,null,null,null,null,null,null,"（用紙Ａ4）"]
[null,"工　 事　 経　 歴　 書"]
[]
[null,"（建設工事の種類）",{"$f":"+①業種!D13","v":"土木一式"},null,null,"工事","（　　税込　　・","　　税抜　　）"]
[]
[null,"注　　文　　者","元請\n又は\n下請\nの別","JV\nの\n別","工　　　事　　　名",null,"工事現場の\nある都道府\n県及び市区\n町  村  名","配　置　技　術　者",null,null,null,"請　負　代　金　の　額",null,null,null,"工　　　　期"]
[null,null,null,null,null,null,null,"氏　　名","主任技術者又は監理技術者",null,null,null,null,"うち、",null,"着　工　年　月",null,null,null,null,"　完成又は"]
[null,null,null,null,null,null,null,null,"の別（該当箇所にﾚ印を記載)",null,null,null,null,"　　　・ＰＣ"]
[null,null,null,null,null,null,null,null,"主任技術者","監理技術者",null,null,null,"　　　・法面処理",null,null,null,null,null,null,"　完成予定年月",null,null,null,null,null,null,"全体",null,null,null,"元請"]
[null,null,null,null,null,null,null,null,null,null,null,null,null,"　　　・鋼橋上部",null,null,null,null,null,null,null,null,null,null,null,null,null,"下段","上段","うち、下段","うち、上段","下段","上段","うち、下段","うち、上段"]
[53,{"$f":"VLOOKUP($A14,④工事経歴書の作成!$B$138:$R$396,2,FALSE)","v":0},{"$f":"VLOOKUP($A14,④工事経歴書の作成!$B$138:$R$396,3,FALSE)","v":0},{"$f":"VLOOKUP($A14,④工事経歴書の作成!$B$138:$R$396,4,FALSE)","v":0},{"$f":"VLOOKUP($A14,④工事経歴書の作成!$B$138:$R$396,5,FALSE)","v":0},{"$f":"VLOOKUP($A14,④工事経歴書の作成!$B$138:$R$396,2,FALSE)","v":0},{"$f":"VLOOKUP($A14,④工事経歴書の作成!$B$138:$R$396,6,FALSE)","v":0},{"$f":"VLOOKUP($A14,④工事経歴書の作成!$B$138:$R$396,7,FALSE)","v":0},{"$f":"VLOOKUP($A14,④工事経歴書の作成!$B$138:$R$396,8,FALSE)","v":0},{"$f":"VLOOKUP($A14,④工事経歴書の作成!$B$138:$R$396,9,FALSE)","v":0},{"$f":"VLOOKUP($A14,④工事経歴書の作成!$B$138:$R$396,8,FALSE)","v":0},{"$f":"VLOOKUP($A14,④工事経歴書の作成!$B$138:$R$396,11,FALSE)","v":0},"千円",{"$f":"VLOOKUP($A14,④工事経歴書の作成!$B$138:$R$396,13,FALSE)","v":0},"千円","令和",{"$f":"VLOOKUP($A14,④工事経歴書の作成!$B$138:$R$396,14,FALSE)","v":0},"年",{"$f":"VLOOKUP($A14,④工事経歴書の作成!$B$138:$R$396,15,FALSE)","v":0},"月","令和",{"$f":"VLOOKUP($A14,④工事経歴書の作成!$B$138:$R$396,16,FALSE)","v":0},"年",{"$f":"VLOOKUP($A14,④工事経歴書の作成!$B$138:$R$396,17,FALSE)","v":0},"月",null,null,null,{"$f":"IF(+L14=0,\"\",L14)","v":""},null,{"$f":"+N14","v":0},null,{"$f":"IF(AA15=$AF$12,L14,0)","v":0},null,{"$f":"IF(AA15=$AF$12,N14,0)","v":0}]
[null,null,null,null,null,null,null,null,null,null,null,{"$f":"VLOOKUP($A14,④工事経歴書の作成!$B$138:$R$396,10,FALSE)","v":0},null,{"$f":"VLOOKUP($A14,④工事経歴書の作成!$B$138:$R$396,12,FALSE)","v":0},null,null,null,null,null,null,null,null,null,null,null,null,{"$f":"IF(C14=$C$51,AA13,C14)","v":0},{"$f":"IF(+L15=0,\"\",L15)","v":""},null,{"$f":"+N15","v":0},null,{"$f":"IF(AA15=$AF$12,L15,0)","v":0},null,{"$f":"IF(AA15=$AF$12,N15,0)","v":0}]
[54,{"$f":"VLOOKUP($A16,④工事経歴書の作成!$B$138:$R$396,2,FALSE)","v":0},{"$f":"VLOOKUP($A16,④工事経歴書の作成!$B$138:$R$396,3,FALSE)","v":0},{"$f":"VLOOKUP($A16,④工事経歴書の作成!$B$138:$R$396,4,FALSE)","v":0},{"$f":"VLOOKUP($A16,④工事経歴書の作成!$B$138:$R$396,5,FALSE)","v":0},{"$f":"VLOOKUP($A16,④工事経歴書の作成!$B$138:$R$396,2,FALSE)","v":0},{"$f":"VLOOKUP($A16,④工事経歴書の作成!$B$138:$R$396,6,FALSE)","v":0},{"$f":"VLOOKUP($A16,④工事経歴書の作成!$B$138:$R$396,7,FALSE)","v":0},{"$f":"VLOOKUP($A16,④工事経歴書の作成!$B$138:$R$396,8,FALSE)","v":0},{"$f":"VLOOKUP($A16,④工事経歴書の作成!$B$138:$R$396,9,FALSE)","v":0},{"$f":"VLOOKUP($A16,④工事経歴書の作成!$B$138:$R$396,8,FALSE)","v":0},{"$f":"VLOOKUP($A16,④工事経歴書の作成!$B$138:$R$396,11,FALSE)","v":0},"千円",{"$f":"VLOOKUP($A16,④工事経歴書の作成!$B$138:$R$396,13,FALSE)","v":0},"千円","令和",{"$f":"VLOOKUP($A16,④工事経歴書の作成!$B$138:$R$396,14,FALSE)","v":0},"年",{"$f":"VLOOKUP($A16,④工事経歴書の作成!$B$138:$R$396,15,FALSE)","v":0},"月","令和",{"$f":"VLOOKUP($A16,④工事経歴書の作成!$B$138:$R$396,16,FALSE)","v":0},"年",{"$f":"VLOOKUP($A16,④工事経歴書の作成!$B$138:$R$396,17,FALSE)","v":0},"月",null,null,null,{"$f":"IF(+L16=0,\"\",L16)","v":""},null,{"$f":"+N16","v":0},null,{"$f":"IF(AA17=$AF$12,L16,0)","v":0},null,{"$f":"IF(AA17=$AF$12,N16,0)","v":0}]
[null,null,null,null,null,null,null,null,null,null,null,{"$f":"VLOOKUP($A16,④工事経歴書の作成!$B$138:$R$396,10,FALSE)","v":0},null,{"$f":"VLOOKUP($A16,④工事経歴書の作成!$B$138:$R$396,12,FALSE)","v":0},null,null,null,null,null,null,null,null,null,null,null,null,{"$f":"IF(C16=$C$51,AA15,C16)","v":0},{"$f":"IF(+L17=0,\"\",L17)","v":""},null,{"$f":"+N17","v":0},null,{"$f":"IF(AA17=$AF$12,L17,0)","v":0},null,{"$f":"IF(AA17=$AF$12,N17,0)","v":0}]
[55,{"$f":"VLOOKUP($A18,④工事経歴書の作成!$B$138:$R$396,2,FALSE)","v":0},{"$f":"VLOOKUP($A18,④工事経歴書の作成!$B$138:$R$396,3,FALSE)","v":0},{"$f":"VLOOKUP($A18,④工事経歴書の作成!$B$138:$R$396,4,FALSE)","v":0},{"$f":"VLOOKUP($A18,④工事経歴書の作成!$B$138:$R$396,5,FALSE)","v":0},{"$f":"VLOOKUP($A18,④工事経歴書の作成!$B$138:$R$396,2,FALSE)","v":0},{"$f":"VLOOKUP($A18,④工事経歴書の作成!$B$138:$R$396,6,FALSE)","v":0},{"$f":"VLOOKUP($A18,④工事経歴書の作成!$B$138:$R$396,7,FALSE)","v":0},{"$f":"VLOOKUP($A18,④工事経歴書の作成!$B$138:$R$396,8,FALSE)","v":0},{"$f":"VLOOKUP($A18,④工事経歴書の作成!$B$138:$R$396,9,FALSE)","v":0},{"$f":"VLOOKUP($A18,④工事経歴書の作成!$B$138:$R$396,8,FALSE)","v":0},{"$f":"VLOOKUP($A18,④工事経歴書の作成!$B$138:$R$396,11,FALSE)","v":0},"千円",{"$f":"VLOOKUP($A18,④工事経歴書の作成!$B$138:$R$396,13,FALSE)","v":0},"千円","令和",{"$f":"VLOOKUP($A18,④工事経歴書の作成!$B$138:$R$396,14,FALSE)","v":0},"年",{"$f":"VLOOKUP($A18,④工事経歴書の作成!$B$138:$R$396,15,FALSE)","v":0},"月","令和",{"$f":"VLOOKUP($A18,④工事経歴書の作成!$B$138:$R$396,16,FALSE)","v":0},"年",{"$f":"VLOOKUP($A18,④工事経歴書の作成!$B$138:$R$396,17,FALSE)","v":0},"月",null,null,null,{"$f":"IF(+L18=0,\"\",L18)","v":""},null,{"$f":"+N18","v":0},null,{"$f":"IF(AA19=$AF$12,L18,0)","v":0},null,{"$f":"IF(AA19=$AF$12,N18,0)","v":0}]
[null,null,null,null,null,null,null,null,null,null,null,{"$f":"VLOOKUP($A18,④工事経歴書の作成!$B$138:$R$396,10,FALSE)","v":0},null,{"$f":"VLOOKUP($A18,④工事経歴書の作成!$B$138:$R$396,12,FALSE)","v":0},null,null,null,null,null,null,null,null,null,null,null,null,{"$f":"IF(C18=$C$51,AA17,C18)","v":0},{"$f":"IF(+L19=0,\"\",L19)","v":""},null,{"$f":"+N19","v":0},null,{"$f":"IF(AA19=$AF$12,L19,0)","v":0},null,{"$f":"IF(AA19=$AF$12,N19,0)","v":0}]
[56,{"$f":"VLOOKUP($A20,④工事経歴書の作成!$B$138:$R$396,2,FALSE)","v":0},{"$f":"VLOOKUP($A20,④工事経歴書の作成!$B$138:$R$396,3,FALSE)","v":0},{"$f":"VLOOKUP($A20,④工事経歴書の作成!$B$138:$R$396,4,FALSE)","v":0},{"$f":"VLOOKUP($A20,④工事経歴書の作成!$B$138:$R$396,5,FALSE)","v":0},{"$f":"VLOOKUP($A20,④工事経歴書の作成!$B$138:$R$396,2,FALSE)","v":0},{"$f":"VLOOKUP($A20,④工事経歴書の作成!$B$138:$R$396,6,FALSE)","v":0},{"$f":"VLOOKUP($A20,④工事経歴書の作成!$B$138:$R$396,7,FALSE)","v":0},{"$f":"VLOOKUP($A20,④工事経歴書の作成!$B$138:$R$396,8,FALSE)","v":0},{"$f":"VLOOKUP($A20,④工事経歴書の作成!$B$138:$R$396,9,FALSE)","v":0},{"$f":"VLOOKUP($A20,④工事経歴書の作成!$B$138:$R$396,8,FALSE)","v":0},{"$f":"VLOOKUP($A20,④工事経歴書の作成!$B$138:$R$396,11,FALSE)","v":0},"千円",{"$f":"VLOOKUP($A20,④工事経歴書の作成!$B$138:$R$396,13,FALSE)","v":0},"千円","令和",{"$f":"VLOOKUP($A20,④工事経歴書の作成!$B$138:$R$396,14,FALSE)","v":0},"年",{"$f":"VLOOKUP($A20,④工事経歴書の作成!$B$138:$R$396,15,FALSE)","v":0},"月","令和",{"$f":"VLOOKUP($A20,④工事経歴書の作成!$B$138:$R$396,16,FALSE)","v":0},"年",{"$f":"VLOOKUP($A20,④工事経歴書の作成!$B$138:$R$396,17,FALSE)","v":0},"月",null,null,null,{"$f":"IF(+L20=0,\"\",L20)","v":""},null,{"$f":"+N20","v":0},null,{"$f":"IF(AA21=$AF$12,L20,0)","v":0},null,{"$f":"IF(AA21=$AF$12,N20,0)","v":0}]
[null,null,null,null,null,null,null,null,null,null,null,{"$f":"VLOOKUP($A20,④工事経歴書の作成!$B$138:$R$396,10,FALSE)","v":0},null,{"$f":"VLOOKUP($A20,④工事経歴書の作成!$B$138:$R$396,12,FALSE)","v":0},null,null,null,null,null,null,null,null,null,null,null,null,{"$f":"IF(C20=$C$51,AA19,C20)","v":0},{"$f":"IF(+L21=0,\"\",L21)","v":""},null,{"$f":"+N21","v":0},null,{"$f":"IF(AA21=$AF$12,L21,0)","v":0},null,{"$f":"IF(AA21=$AF$12,N21,0)","v":0}]
[57,{"$f":"VLOOKUP($A22,④工事経歴書の作成!$B$138:$R$396,2,FALSE)","v":0},{"$f":"VLOOKUP($A22,④工事経歴書の作成!$B$138:$R$396,3,FALSE)","v":0},{"$f":"VLOOKUP($A22,④工事経歴書の作成!$B$138:$R$396,4,FALSE)","v":0},{"$f":"VLOOKUP($A22,④工事経歴書の作成!$B$138:$R$396,5,FALSE)","v":0},{"$f":"VLOOKUP($A22,④工事経歴書の作成!$B$138:$R$396,2,FALSE)","v":0},{"$f":"VLOOKUP($A22,④工事経歴書の作成!$B$138:$R$396,6,FALSE)","v":0},{"$f":"VLOOKUP($A22,④工事経歴書の作成!$B$138:$R$396,7,FALSE)","v":0},{"$f":"VLOOKUP($A22,④工事経歴書の作成!$B$138:$R$396,8,FALSE)","v":0},{"$f":"VLOOKUP($A22,④工事経歴書の作成!$B$138:$R$396,9,FALSE)","v":0},{"$f":"VLOOKUP($A22,④工事経歴書の作成!$B$138:$R$396,8,FALSE)","v":0},{"$f":"VLOOKUP($A22,④工事経歴書の作成!$B$138:$R$396,11,FALSE)","v":0},"千円",{"$f":"VLOOKUP($A22,④工事経歴書の作成!$B$138:$R$396,13,FALSE)","v":0},"千円","令和",{"$f":"VLOOKUP($A22,④工事経歴書の作成!$B$138:$R$396,14,FALSE)","v":0},"年",{"$f":"VLOOKUP($A22,④工事経歴書の作成!$B$138:$R$396,15,FALSE)","v":0},"月","令和",{"$f":"VLOOKUP($A22,④工事経歴書の作成!$B$138:$R$396,16,FALSE)","v":0},"年",{"$f":"VLOOKUP($A22,④工事経歴書の作成!$B$138:$R$396,17,FALSE)","v":0},"月",null,null,null,{"$f":"IF(+L22=0,\"\",L22)","v":""},null,{"$f":"+N22","v":0},null,{"$f":"IF(AA23=$AF$12,L22,0)","v":0},null,{"$f":"IF(AA23=$AF$12,N22,0)","v":0}]
[null,null,null,null,null,null,null,null,null,null,null,{"$f":"VLOOKUP($A22,④工事経歴書の作成!$B$138:$R$396,10,FALSE)","v":0},null,{"$f":"VLOOKUP($A22,④工事経歴書の作成!$B$138:$R$396,12,FALSE)","v":0},null,null,null,null,null,null,null,null,null,null,null,null,{"$f":"IF(C22=$C$51,AA21,C22)","v":0},{"$f":"IF(+L23=0,\"\",L23)","v":""},null,{"$f":"+N23","v":0},null,{"$f":"IF(AA23=$AF$12,L23,0)","v":0},null,{"$f":"IF(AA23=$AF$12,N23,0)","v":0}]
[58,{"$f":"VLOOKUP($A24,④工事経歴書の作成!$B$138:$R$396,2,FALSE)","v":0},{"$f":"VLOOKUP($A24,④工事経歴書の作成!$B$138:$R$396,3,FALSE)","v":0},{"$f":"VLOOKUP($A24,④工事経歴書の作成!$B$138:$R$396,4,FALSE)","v":0},{"$f":"VLOOKUP($A24,④工事経歴書の作成!$B$138:$R$396,5,FALSE)","v":0},{"$f":"VLOOKUP($A24,④工事経歴書の作成!$B$138:$R$396,2,FALSE)","v":0},{"$f":"VLOOKUP($A24,④工事経歴書の作成!$B$138:$R$396,6,FALSE)","v":0},{"$f":"VLOOKUP($A24,④工事経歴書の作成!$B$138:$R$396,7,FALSE)","v":0},{"$f":"VLOOKUP($A24,④工事経歴書の作成!$B$138:$R$396,8,FALSE)","v":0},{"$f":"VLOOKUP($A24,④工事経歴書の作成!$B$138:$R$396,9,FALSE)","v":0},{"$f":"VLOOKUP($A24,④工事経歴書の作成!$B$138:$R$396,8,FALSE)","v":0},{"$f":"VLOOKUP($A24,④工事経歴書の作成!$B$138:$R$396,11,FALSE)","v":0},"千円",{"$f":"VLOOKUP($A24,④工事経歴書の作成!$B$138:$R$396,13,FALSE)","v":0},"千円","令和",{"$f":"VLOOKUP($A24,④工事経歴書の作成!$B$138:$R$396,14,FALSE)","v":0},"年",{"$f":"VLOOKUP($A24,④工事経歴書の作成!$B$138:$R$396,15,FALSE)","v":0},"月","令和",{"$f":"VLOOKUP($A24,④工事経歴書の作成!$B$138:$R$396,16,FALSE)","v":0},"年",{"$f":"VLOOKUP($A24,④工事経歴書の作成!$B$138:$R$396,17,FALSE)","v":0},"月",null,null,null,{"$f":"IF(+L24=0,\"\",L24)","v":""},null,{"$f":"+N24","v":0},null,{"$f":"IF(AA25=$AF$12,L24,0)","v":0},null,{"$f":"IF(AA25=$AF$12,N24,0)","v":0}]
[null,null,null,null,null,null,null,null,null,null,null,{"$f":"VLOOKUP($A24,④工事経歴書の作成!$B$138:$R$396,10,FALSE)","v":0},null,{"$f":"VLOOKUP($A24,④工事経歴書の作成!$B$138:$R$396,12,FALSE)","v":0},null,null,null,null,null,null,null,null,null,null,null,null,{"$f":"IF(C24=$C$51,AA23,C24)","v":0},{"$f":"IF(+L25=0,\"\",L25)","v":""},null,{"$f":"+N25","v":0},null,{"$f":"IF(AA25=$AF$12,L25,0)","v":0},null,{"$f":"IF(AA25=$AF$12,N25,0)","v":0}]
[59,{"$f":"VLOOKUP($A26,④工事経歴書の作成!$B$138:$R$396,2,FALSE)","v":0},{"$f":"VLOOKUP($A26,④工事経歴書の作成!$B$138:$R$396,3,FALSE)","v":0},{"$f":"VLOOKUP($A26,④工事経歴書の作成!$B$138:$R$396,4,FALSE)","v":0},{"$f":"VLOOKUP($A26,④工事経歴書の作成!$B$138:$R$396,5,FALSE)","v":0},{"$f":"VLOOKUP($A26,④工事経歴書の作成!$B$138:$R$396,2,FALSE)","v":0},{"$f":"VLOOKUP($A26,④工事経歴書の作成!$B$138:$R$396,6,FALSE)","v":0},{"$f":"VLOOKUP($A26,④工事経歴書の作成!$B$138:$R$396,7,FALSE)","v":0},{"$f":"VLOOKUP($A26,④工事経歴書の作成!$B$138:$R$396,8,FALSE)","v":0},{"$f":"VLOOKUP($A26,④工事経歴書の作成!$B$138:$R$396,9,FALSE)","v":0},{"$f":"VLOOKUP($A26,④工事経歴書の作成!$B$138:$R$396,8,FALSE)","v":0},{"$f":"VLOOKUP($A26,④工事経歴書の作成!$B$138:$R$396,11,FALSE)","v":0},"千円",{"$f":"VLOOKUP($A26,④工事経歴書の作成!$B$138:$R$396,13,FALSE)","v":0},"千円","令和",{"$f":"VLOOKUP($A26,④工事経歴書の作成!$B$138:$R$396,14,FALSE)","v":0},"年",{"$f":"VLOOKUP($A26,④工事経歴書の作成!$B$138:$R$396,15,FALSE)","v":0},"月","令和",{"$f":"VLOOKUP($A26,④工事経歴書の作成!$B$138:$R$396,16,FALSE)","v":0},"年",{"$f":"VLOOKUP($A26,④工事経歴書の作成!$B$138:$R$396,17,FALSE)","v":0},"月",null,null,null,{"$f":"IF(+L26=0,\"\",L26)","v":""},null,{"$f":"+N26","v":0},null,{"$f":"IF(AA27=$AF$12,L26,0)","v":0},null,{"$f":"IF(AA27=$AF$12,N26,0)","v":0}]
[null,null,null,null,null,null,null,null,null,null,null,{"$f":"VLOOKUP($A26,④工事経歴書の作成!$B$138:$R$396,10,FALSE)","v":0},null,{"$f":"VLOOKUP($A26,④工事経歴書の作成!$B$138:$R$396,12,FALSE)","v":0},null,null,null,null,null,null,null,null,null,null,null,null,{"$f":"IF(C26=$C$51,AA25,C26)","v":0},{"$f":"IF(+L27=0,\"\",L27)","v":""},null,{"$f":"+N27","v":0},null,{"$f":"IF(AA27=$AF$12,L27,0)","v":0},null,{"$f":"IF(AA27=$AF$12,N27,0)","v":0}]
[60,{"$f":"VLOOKUP($A28,④工事経歴書の作成!$B$138:$R$396,2,FALSE)","v":0},{"$f":"VLOOKUP($A28,④工事経歴書の作成!$B$138:$R$396,3,FALSE)","v":0},{"$f":"VLOOKUP($A28,④工事経歴書の作成!$B$138:$R$396,4,FALSE)","v":0},{"$f":"VLOOKUP($A28,④工事経歴書の作成!$B$138:$R$396,5,FALSE)","v":0},{"$f":"VLOOKUP($A28,④工事経歴書の作成!$B$138:$R$396,2,FALSE)","v":0},{"$f":"VLOOKUP($A28,④工事経歴書の作成!$B$138:$R$396,6,FALSE)","v":0},{"$f":"VLOOKUP($A28,④工事経歴書の作成!$B$138:$R$396,7,FALSE)","v":0},{"$f":"VLOOKUP($A28,④工事経歴書の作成!$B$138:$R$396,8,FALSE)","v":0},{"$f":"VLOOKUP($A28,④工事経歴書の作成!$B$138:$R$396,9,FALSE)","v":0},{"$f":"VLOOKUP($A28,④工事経歴書の作成!$B$138:$R$396,8,FALSE)","v":0},{"$f":"VLOOKUP($A28,④工事経歴書の作成!$B$138:$R$396,11,FALSE)","v":0},"千円",{"$f":"VLOOKUP($A28,④工事経歴書の作成!$B$138:$R$396,13,FALSE)","v":0},"千円","令和",{"$f":"VLOOKUP($A28,④工事経歴書の作成!$B$138:$R$396,14,FALSE)","v":0},"年",{"$f":"VLOOKUP($A28,④工事経歴書の作成!$B$138:$R$396,15,FALSE)","v":0},"月","令和",{"$f":"VLOOKUP($A28,④工事経歴書の作成!$B$138:$R$396,16,FALSE)","v":0},"年",{"$f":"VLOOKUP($A28,④工事経歴書の作成!$B$138:$R$396,17,FALSE)","v":0},"月",null,null,null,{"$f":"IF(+L28=0,\"\",L28)","v":""},null,{"$f":"+N28","v":0},null,{"$f":"IF(AA29=$AF$12,L28,0)","v":0},null,{"$f":"IF(AA29=$AF$12,N28,0)","v":0}]
[null,null,null,null,null,null,null,null,null,null,null,{"$f":"VLOOKUP($A28,④工事経歴書の作成!$B$138:$R$396,10,FALSE)","v":0},null,{"$f":"VLOOKUP($A28,④工事経歴書の作成!$B$138:$R$396,12,FALSE)","v":0},null,null,null,null,null,null,null,null,null,null,null,null,{"$f":"IF(C28=$C$51,AA27,C28)","v":0},{"$f":"IF(+L29=0,\"\",L29)","v":""},null,{"$f":"+N29","v":0},null,{"$f":"IF(AA29=$AF$12,L29,0)","v":0},null,{"$f":"IF(AA29=$AF$12,N29,0)","v":0}]
[61,{"$f":"VLOOKUP($A30,④工事経歴書の作成!$B$138:$R$396,2,FALSE)","v":0},{"$f":"VLOOKUP($A30,④工事経歴書の作成!$B$138:$R$396,3,FALSE)","v":0},{"$f":"VLOOKUP($A30,④工事経歴書の作成!$B$138:$R$396,4,FALSE)","v":0},{"$f":"VLOOKUP($A30,④工事経歴書の作成!$B$138:$R$396,5,FALSE)","v":0},{"$f":"VLOOKUP($A30,④工事経歴書の作成!$B$138:$R$396,2,FALSE)","v":0},{"$f":"VLOOKUP($A30,④工事経歴書の作成!$B$138:$R$396,6,FALSE)","v":0},{"$f":"VLOOKUP($A30,④工事経歴書の作成!$B$138:$R$396,7,FALSE)","v":0},{"$f":"VLOOKUP($A30,④工事経歴書の作成!$B$138:$R$396,8,FALSE)","v":0},{"$f":"VLOOKUP($A30,④工事経歴書の作成!$B$138:$R$396,9,FALSE)","v":0},{"$f":"VLOOKUP($A30,④工事経歴書の作成!$B$138:$R$396,8,FALSE)","v":0},{"$f":"VLOOKUP($A30,④工事経歴書の作成!$B$138:$R$396,11,FALSE)","v":0},"千円",{"$f":"VLOOKUP($A30,④工事経歴書の作成!$B$138:$R$396,13,FALSE)","v":0},"千円","令和",{"$f":"VLOOKUP($A30,④工事経歴書の作成!$B$138:$R$396,14,FALSE)","v":0},"年",{"$f":"VLOOKUP($A30,④工事経歴書の作成!$B$138:$R$396,15,FALSE)","v":0},"月","令和",{"$f":"VLOOKUP($A30,④工事経歴書の作成!$B$138:$R$396,16,FALSE)","v":0},"年",{"$f":"VLOOKUP($A30,④工事経歴書の作成!$B$138:$R$396,17,FALSE)","v":0},"月",null,null,null,{"$f":"IF(+L30=0,\"\",L30)","v":""},null,{"$f":"+N30","v":0},null,{"$f":"IF(AA31=$AF$12,L30,0)","v":0},null,{"$f":"IF(AA31=$AF$12,N30,0)","v":0}]
[null,null,null,null,null,null,null,null,null,null,null,{"$f":"VLOOKUP($A30,④工事経歴書の作成!$B$138:$R$396,10,FALSE)","v":0},null,{"$f":"VLOOKUP($A30,④工事経歴書の作成!$B$138:$R$396,12,FALSE)","v":0},null,null,null,null,null,null,null,null,null,null,null,null,{"$f":"IF(C30=$C$51,AA29,C30)","v":0},{"$f":"IF(+L31=0,\"\",L31)","v":""},null,{"$f":"+N31","v":0},null,{"$f":"IF(AA31=$AF$12,L31,0)","v":0},null,{"$f":"IF(AA31=$AF$12,N31,0)","v":0}]
[62,{"$f":"VLOOKUP($A32,④工事経歴書の作成!$B$138:$R$396,2,FALSE)","v":0},{"$f":"VLOOKUP($A32,④工事経歴書の作成!$B$138:$R$396,3,FALSE)","v":0},{"$f":"VLOOKUP($A32,④工事経歴書の作成!$B$138:$R$396,4,FALSE)","v":0},{"$f":"VLOOKUP($A32,④工事経歴書の作成!$B$138:$R$396,5,FALSE)","v":0},{"$f":"VLOOKUP($A32,④工事経歴書の作成!$B$138:$R$396,2,FALSE)","v":0},{"$f":"VLOOKUP($A32,④工事経歴書の作成!$B$138:$R$396,6,FALSE)","v":0},{"$f":"VLOOKUP($A32,④工事経歴書の作成!$B$138:$R$396,7,FALSE)","v":0},{"$f":"VLOOKUP($A32,④工事経歴書の作成!$B$138:$R$396,8,FALSE)","v":0},{"$f":"VLOOKUP($A32,④工事経歴書の作成!$B$138:$R$396,9,FALSE)","v":0},{"$f":"VLOOKUP($A32,④工事経歴書の作成!$B$138:$R$396,8,FALSE)","v":0},{"$f":"VLOOKUP($A32,④工事経歴書の作成!$B$138:$R$396,11,FALSE)","v":0},"千円",{"$f":"VLOOKUP($A32,④工事経歴書の作成!$B$138:$R$396,13,FALSE)","v":0},"千円","令和",{"$f":"VLOOKUP($A32,④工事経歴書の作成!$B$138:$R$396,14,FALSE)","v":0},"年",{"$f":"VLOOKUP($A32,④工事経歴書の作成!$B$138:$R$396,15,FALSE)","v":0},"月","令和",{"$f":"VLOOKUP($A32,④工事経歴書の作成!$B$138:$R$396,16,FALSE)","v":0},"年",{"$f":"VLOOKUP($A32,④工事経歴書の作成!$B$138:$R$396,17,FALSE)","v":0},"月",null,null,null,{"$f":"IF(+L32=0,\"\",L32)","v":""},null,{"$f":"+N32","v":0},null,{"$f":"IF(AA33=$AF$12,L32,0)","v":0},null,{"$f":"IF(AA33=$AF$12,N32,0)","v":0}]
[null,null,null,null,null,null,null,null,null,null,null,{"$f":"VLOOKUP($A32,④工事経歴書の作成!$B$138:$R$396,10,FALSE)","v":0},null,{"$f":"VLOOKUP($A32,④工事経歴書の作成!$B$138:$R$396,12,FALSE)","v":0},null,null,null,null,null,null,null,null,null,null,null,null,{"$f":"IF(C32=$C$51,AA31,C32)","v":0},{"$f":"IF(+L33=0,\"\",L33)","v":""},null,{"$f":"+N33","v":0},null,{"$f":"IF(AA33=$AF$12,L33,0)","v":0},null,{"$f":"IF(AA33=$AF$12,N33,0)","v":0}]
[63,{"$f":"VLOOKUP($A34,④工事経歴書の作成!$B$138:$R$396,2,FALSE)","v":0},{"$f":"VLOOKUP($A34,④工事経歴書の作成!$B$138:$R$396,3,FALSE)","v":0},{"$f":"VLOOKUP($A34,④工事経歴書の作成!$B$138:$R$396,4,FALSE)","v":0},{"$f":"VLOOKUP($A34,④工事経歴書の作成!$B$138:$R$396,5,FALSE)","v":0},{"$f":"VLOOKUP($A34,④工事経歴書の作成!$B$138:$R$396,2,FALSE)","v":0},{"$f":"VLOOKUP($A34,④工事経歴書の作成!$B$138:$R$396,6,FALSE)","v":0},{"$f":"VLOOKUP($A34,④工事経歴書の作成!$B$138:$R$396,7,FALSE)","v":0},{"$f":"VLOOKUP($A34,④工事経歴書の作成!$B$138:$R$396,8,FALSE)","v":0},{"$f":"VLOOKUP($A34,④工事経歴書の作成!$B$138:$R$396,9,FALSE)","v":0},{"$f":"VLOOKUP($A34,④工事経歴書の作成!$B$138:$R$396,8,FALSE)","v":0},{"$f":"VLOOKUP($A34,④工事経歴書の作成!$B$138:$R$396,11,FALSE)","v":0},"千円",{"$f":"VLOOKUP($A34,④工事経歴書の作成!$B$138:$R$396,13,FALSE)","v":0},"千円","令和",{"$f":"VLOOKUP($A34,④工事経歴書の作成!$B$138:$R$396,14,FALSE)","v":0},"年",{"$f":"VLOOKUP($A34,④工事経歴書の作成!$B$138:$R$396,15,FALSE)","v":0},"月","令和",{"$f":"VLOOKUP($A34,④工事経歴書の作成!$B$138:$R$396,16,FALSE)","v":0},"年",{"$f":"VLOOKUP($A34,④工事経歴書の作成!$B$138:$R$396,17,FALSE)","v":0},"月",null,null,null,{"$f":"IF(+L34=0,\"\",L34)","v":""},null,{"$f":"+N34","v":0},null,{"$f":"IF(AA35=$AF$12,L34,0)","v":0},null,{"$f":"IF(AA35=$AF$12,N34,0)","v":0}]
[null,null,null,null,null,null,null,null,null,null,null,{"$f":"VLOOKUP($A34,④工事経歴書の作成!$B$138:$R$396,10,FALSE)","v":0},null,{"$f":"VLOOKUP($A34,④工事経歴書の作成!$B$138:$R$396,12,FALSE)","v":0},null,null,null,null,null,null,null,null,null,null,null,null,{"$f":"IF(C34=$C$51,AA33,C34)","v":0},{"$f":"IF(+L35=0,\"\",L35)","v":""},null,{"$f":"+N35","v":0},null,{"$f":"IF(AA35=$AF$12,L35,0)","v":0},null,{"$f":"IF(AA35=$AF$12,N35,0)","v":0}]
[64,{"$f":"VLOOKUP($A36,④工事経歴書の作成!$B$138:$R$396,2,FALSE)","v":0},{"$f":"VLOOKUP($A36,④工事経歴書の作成!$B$138:$R$396,3,FALSE)","v":0},{"$f":"VLOOKUP($A36,④工事経歴書の作成!$B$138:$R$396,4,FALSE)","v":0},{"$f":"VLOOKUP($A36,④工事経歴書の作成!$B$138:$R$396,5,FALSE)","v":0},{"$f":"VLOOKUP($A36,④工事経歴書の作成!$B$138:$R$396,2,FALSE)","v":0},{"$f":"VLOOKUP($A36,④工事経歴書の作成!$B$138:$R$396,6,FALSE)","v":0},{"$f":"VLOOKUP($A36,④工事経歴書の作成!$B$138:$R$396,7,FALSE)","v":0},{"$f":"VLOOKUP($A36,④工事経歴書の作成!$B$138:$R$396,8,FALSE)","v":0},{"$f":"VLOOKUP($A36,④工事経歴書の作成!$B$138:$R$396,9,FALSE)","v":0},{"$f":"VLOOKUP($A36,④工事経歴書の作成!$B$138:$R$396,8,FALSE)","v":0},{"$f":"VLOOKUP($A36,④工事経歴書の作成!$B$138:$R$396,11,FALSE)","v":0},"千円",{"$f":"VLOOKUP($A36,④工事経歴書の作成!$B$138:$R$396,13,FALSE)","v":0},"千円","令和",{"$f":"VLOOKUP($A36,④工事経歴書の作成!$B$138:$R$396,14,FALSE)","v":0},"年",{"$f":"VLOOKUP($A36,④工事経歴書の作成!$B$138:$R$396,15,FALSE)","v":0},"月","令和",{"$f":"VLOOKUP($A36,④工事経歴書の作成!$B$138:$R$396,16,FALSE)","v":0},"年",{"$f":"VLOOKUP($A36,④工事経歴書の作成!$B$138:$R$396,17,FALSE)","v":0},"月",null,null,null,{"$f":"IF(+L36=0,\"\",L36)","v":""},null,{"$f":"+N36","v":0},null,{"$f":"IF(AA37=$AF$12,L36,0)","v":0},null,{"$f":"IF(AA37=$AF$12,N36,0)","v":0}]
[null,null,null,null,null,null,null,null,null,null,null,{"$f":"VLOOKUP($A36,④工事経歴書の作成!$B$138:$R$396,10,FALSE)","v":0},null,{"$f":"VLOOKUP($A36,④工事経歴書の作成!$B$138:$R$396,12,FALSE)","v":0},null,null,null,null,null,null,null,null,null,null,null,null,{"$f":"IF(C36=$C$51,AA35,C36)","v":0},{"$f":"IF(+L37=0,\"\",L37)","v":""},null,{"$f":"+N37","v":0},null,{"$f":"IF(AA37=$AF$12,L37,0)","v":0},null,{"$f":"IF(AA37=$AF$12,N37,0)","v":0}]
[65,{"$f":"VLOOKUP($A38,④工事経歴書の作成!$B$138:$R$396,2,FALSE)","v":0},{"$f":"VLOOKUP($A38,④工事経歴書の作成!$B$138:$R$396,3,FALSE)","v":0},{"$f":"VLOOKUP($A38,④工事経歴書の作成!$B$138:$R$396,4,FALSE)","v":0},{"$f":"VLOOKUP($A38,④工事経歴書の作成!$B$138:$R$396,5,FALSE)","v":0},{"$f":"VLOOKUP($A38,④工事経歴書の作成!$B$138:$R$396,2,FALSE)","v":0},{"$f":"VLOOKUP($A38,④工事経歴書の作成!$B$138:$R$396,6,FALSE)","v":0},{"$f":"VLOOKUP($A38,④工事経歴書の作成!$B$138:$R$396,7,FALSE)","v":0},{"$f":"VLOOKUP($A38,④工事経歴書の作成!$B$138:$R$396,8,FALSE)","v":0},{"$f":"VLOOKUP($A38,④工事経歴書の作成!$B$138:$R$396,9,FALSE)","v":0},{"$f":"VLOOKUP($A38,④工事経歴書の作成!$B$138:$R$396,8,FALSE)","v":0},{"$f":"VLOOKUP($A38,④工事経歴書の作成!$B$138:$R$396,11,FALSE)","v":0},"千円",{"$f":"VLOOKUP($A38,④工事経歴書の作成!$B$138:$R$396,13,FALSE)","v":0},"千円","令和",{"$f":"VLOOKUP($A38,④工事経歴書の作成!$B$138:$R$396,14,FALSE)","v":0},"年",{"$f":"VLOOKUP($A38,④工事経歴書の作成!$B$138:$R$396,15,FALSE)","v":0},"月","令和",{"$f":"VLOOKUP($A38,④工事経歴書の作成!$B$138:$R$396,16,FALSE)","v":0},"年",{"$f":"VLOOKUP($A38,④工事経歴書の作成!$B$138:$R$396,17,FALSE)","v":0},"月",null,null,null,{"$f":"IF(+L38=0,\"\",L38)","v":""},null,{"$f":"+N38","v":0},null,{"$f":"IF(AA39=$AF$12,L38,0)","v":0},null,{"$f":"IF(AA39=$AF$12,N38,0)","v":0}]
[null,null,null,null,null,null,null,null,null,null,null,{"$f":"VLOOKUP($A38,④工事経歴書の作成!$B$138:$R$396,10,FALSE)","v":0},null,{"$f":"VLOOKUP($A38,④工事経歴書の作成!$B$138:$R$396,12,FALSE)","v":0},null,null,null,null,null,null,null,null,null,null,null,null,{"$f":"IF(C38=$C$51,AA37,C38)","v":0},{"$f":"IF(+L39=0,\"\",L39)","v":""},null,{"$f":"+N39","v":0},null,{"$f":"IF(AA39=$AF$12,L39,0)","v":0},null,{"$f":"IF(AA39=$AF$12,N39,0)","v":0}]
[null,null,null,null,null,null,null,null,null,null,null,null,null,null,null,null,null,null,null,null,null,null,null,null,null,null,null,{"$f":"SUM(AB14:AB39)","v":0},0,0,0,0,0,0,0]
[null,null,null,null,null,null,null,null,"小　　計",null,"件",null,"千円",null,"千円","うち　元請工事"]
[null,null,null,null,null,null,null,null,null,null,null,null,null,null,null,null,null,null,"千円",null,null,null,null,"千円"]
[]
[]
[null,null,null,null,null,null,null,null,"合　　計",null,"件",null,"千円",null,"千円","うち　元請工事"]
[null,null,null,null,null,null,null,null,null,null,null,null,null,null,null,null,null,null,"千円",null,null,null,null,"千円"]
[]
[]
[null,null,null,null,null,null,null,"小計を","小計",{"$f":"COUNT(AC14:AC39)","v":0},"件",{"$f":"+AC40","v":0},"千円",{"$f":"+AE40","v":0},"千円",{"$f":"+AG40","v":0},null,null,"千円",null,{"$f":"+AI40","v":0},null,null,"千円"]
[null,null,null,null,null,null,null,"転記しましょう",null,{"$f":"COUNT(AB14:AB39)","v":0},null,{"$f":"+AB40","v":0},null,{"$f":"+AD40","v":0},null,{"$f":"+AF40","v":0},null,null,null,null,{"$f":"+AH40","v":0}]
[null,null,null,null,null,null,null,"操作方法によっては算式がこわれる場合があります。この数値は参考程度としていただき、必ず電卓で検算してください。"]
[]
[null,null,null,null,null,null,null,null,"ﾚ"]

{"sheet":"6","index":13,"n_rows":53,"n_cols":35,"rows_kept":53,"cut":false,"hidden":false,"merged":[[4,1,4,24],[40,12,42,12],[40,14,42,14],[11,9,12,10],[13,9,14,10],[41,13,42,13],[37,16,38,16],[37,17,38,17],[37,18,38,18],[37,6,38,6],[37,12,38,12],[35,19,36,19],[41,23,42,24],[42,20,42,22],[37,23,38,23],[35,15,36,15],[35,16,36,16],[37,14,38,14],[41,18,42,19],[37,15,38,15],[37,7,38,7],[33,12,34,12],[33,7,34,7],[33,8,34,8],[35,0,36,0],[37,8,38,8],[35,20,36,20],[33,20,34,20],[35,23,36,23],[37,24,38,24],[33,22,34,22],[33,23,34,23],[33,24,34,24],[35,24,36,24],[33,21,34,21],[33,0,34,0],[33,18,34,18],[33,19,34,19],[37,19,38,19],[33,14,34,14],[35,18,36,18],[35,14,36,14],[37,0,38,0],[37,1,38,1],[37,2,38,2],[37,3,38,3],[37,4,38,5],[35,1,36,1],[35,2,36,2],[35,3,36,3],[35,4,36,5],[35,6,36,6],[31,19,32,19],[33,16,34,16],[33,17,34,17],[31,20,32,20],[33,1,34,1],[33,2,34,2],[33,3,34,3],[33,4,34,5],[31,7,32,7],[35,7,36,7],[44,8,46,8],[44,10,46,10],[44,12,46,12],[45,9,46,9],[45,11,46,11],[46,15,46,17],[31,21,32,21],[31,14,32,14],[31,15,32,15],[31,16,32,16],[31,17,32,17],[31,18,32,18],[35,21,36,21],[40,8,42,8],[41,9,42,9],[35,9,36,10],[41,11,42,11],[35,8,36,8],[37,9,38,10],[40,10,42,10],[35,12,36,12],[33,6,34,6],[27,0,28,0],[27,1,28,1],[27,2,28,2],[27,3,28,3],[27,4,28,5],[27,6,28,6],[25,12,26,12],[31,12,32,12],[27,9,28,10],[27,12,28,12],[27,8,28,8],[29,8,30,8],[31,8,32,8],[29,7,30,7],[27,7,28,7],[31,6,32,6],[29,0,30,0],[29,4,30,5],[29,2,30,2],[31,0,32,0],[31,1,32,1],[31,2,32,2],[31,3,32,3],[31,4,32,5],[29,6,30,6],[29,3,30,3],[23,24,24,24],[23,7,24,7],[23,23,24,23],[23,8,24,8],[23,14,24,14],[25,0,26,0],[25,1,26,1],[25,2,26,2],[25,3,26,3],[25,4,26,5],[25,14,26,14],[25,9,26,10],[23,0,24,0],[23,1,24,1],[23,2,24,2],[23,3,24,3],[23,4,24,5],[23,6,24,6],[25,6,26,6],[23,12,24,12],[25,7,26,7],[25,8,26,8],[23,20,24,20],[23,21,24,21],[23,16,24,16],[25,21,26,21],[29,16,30,16],[21,8,22,8],[21,20,22,20],[21,21,22,21],[21,12,22,12],[21,14,22,14],[21,15,22,15],[21,16,22,16],[21,19,22,19],[21,18,22,18],[29,17,30,17],[29,20,30,20],[29,12,30,12],[29,14,30,14],[27,16,28,16],[27,14,28,14],[27,15,28,15],[23,22,24,22],[29,15,30,15],[29,19,30,19],[17,19,18,19],[19,12,20,12],[19,14,20,14],[19,15,20,15],[17,0,18,0],[17,1,18,1],[17,2,18,2],[17,3,18,3],[17,4,18,5],[17,6,18,6],[19,8,20,8],[17,14,18,14],[17,15,18,15],[17,16,18,16],[17,9,18,10],[19,16,20,16],[21,4,22,5],[21,6,22,6],[21,7,22,7],[27,22,28,22],[27,21,28,21],[21,24,22,24],[25,24,26,24],[46,20,46,22],[37,20,38,20],[37,21,38,21],[23,19,24,19],[17,20,18,20],[17,21,18,21],[19,0,20,0],[19,1,20,1],[19,2,20,2],[19,3,20,3],[19,4,20,5],[19,17,20,17],[17,7,18,7],[17,8,18,8],[19,20,20,20],[19,6,20,6],[19,7,20,7],[21,0,22,0],[21,1,22,1],[21,2,22,2],[21,3,22,3],[21,9,22,10],[48,18,49,19],[49,20,49,22],[48,20,48,22],[27,23,28,23],[25,23,26,23],[45,13,46,13],[45,15,45,17],[44,14,46,14],[44,15,44,24],[37,22,38,22],[45,18,46,19],[45,20,45,22],[45,23,46,24],[33,15,34,15],[35,22,36,22],[19,21,20,21],[21,22,22,22],[17,18,18,18],[15,17,16,17],[15,18,16,18],[19,19,20,19],[48,8,49,8],[48,10,49,10],[48,12,49,12],[48,14,49,14],[49,15,49,17],[48,15,48,17],[25,15,26,15],[25,16,26,16],[35,17,36,17],[42,15,42,17],[41,15,41,17],[40,15,40,24],[25,22,26,22],[41,20,41,22],[27,19,28,19],[29,21,30,21],[48,23,49,24],[33,9,34,10],[11,31,11,34],[19,9,20,10],[23,9,24,10],[29,9,30,10],[31,9,32,10],[27,24,28,24],[29,22,30,22],[29,23,30,23],[29,24,30,24],[31,23,32,23],[31,22,32,22],[11,27,11,30],[31,24,32,24],[27,20,28,20],[17,12,18,12],[25,20,26,20],[21,23,22,23],[15,24,16,24],[17,22,18,22],[17,23,18,23],[17,24,18,24],[19,24,20,24],[19,22,20,22],[19,23,20,23],[13,24,14,24],[13,19,14,19],[15,20,16,20],[15,21,16,21],[15,22,16,22],[15,23,16,23],[15,19,16,19],[8,1,12,1],[13,1,14,1],[13,16,14,16],[8,15,8,24],[9,15,12,19],[9,20,10,24],[11,20,12,24],[13,21,14,21],[13,22,14,22],[13,23,14,23],[15,4,16,5],[15,6,16,6],[15,1,16,1],[15,2,16,2],[15,3,16,3],[15,8,16,8],[15,14,16,14],[10,8,10,10],[11,8,12,8],[9,7,12,7],[13,7,14,7],[15,0,16,0],[29,18,30,18],[19,18,20,18],[13,12,14,12],[15,7,16,7],[13,8,14,8],[13,15,14,15],[13,17,14,17],[13,18,14,18],[17,17,18,17],[25,18,26,18],[23,17,24,17],[23,18,24,18],[21,17,22,17],[27,17,28,17],[25,17,26,17],[15,15,16,15],[15,16,16,16],[29,1,30,1],[23,15,24,15],[0,1,0,16],[50,7,50,24],[13,6,14,6],[13,0,14,0],[13,4,14,5],[13,20,14,20],[13,2,14,2],[13,3,14,3],[25,19,26,19],[27,18,28,18],[6,2,6,4],[8,6,12,6],[8,2,12,2],[8,11,8,13],[8,4,12,5],[15,12,16,12],[15,9,16,10],[8,3,12,3],[10,13,10,14],[11,13,11,14],[8,7,8,10],[12,13,12,14],[13,14,14,14],[9,8,9,10]]}
[null,"このシートは編集できません。\n「④工事経歴書の作成」のシートの「編集加工できる工事経歴書の作成」のボタンを押してください。\n自由に編集加工できるシートができあがります。"]
[]
[]
[null,"様式第二号 （第二条、第十三条の二、第十三条の三、第十九条の八関係）",null,null,null,null,null,null,null,null,null,null,null,null,null,null,null,null,null,null,null,null,null,null,"（用紙Ａ4）"]
[null,"工　 事　 経　 歴　 書"]
[]
[null,"（建設工事の種類）",{"$f":"+①業種!D13","v":"土木一式"},null,null,"工事","（　　税込　　・","　　税抜　　）"]
[]
[null,"注　　文　　者","元請\n又は\n下請\nの別","JV\nの\n別","工　　　事　　　名",null,"工事現場の\nある都道府\n県及び市区\n町  村  名","配　置　技　術　者",null,null,null,"請　負　代　金　の　額",null,null,null,"工　　　　期"]
[null,null,null,null,null,null,null,"氏　　名","主任技術者又は監理技術者",null,null,null,null,"うち、",null,"着　工　年　月",null,null,null,null,"　完成又は"]
[null,null,null,null,null,null,null,null,"の別（該当箇所にﾚ印を記載)",null,null,null,null,"　　　・ＰＣ"]
[null,null,null,null,null,null,null,null,"主任技術者","監理技術者",null,null,null,"　　　・法面処理",null,null,null,null,null,null,"　完成予定年月",null,null,null,null,null,null,"全体",null,null,null,"元請"]
[null,null,null,null,null,null,null,null,null,null,null,null,null,"　　　・鋼橋上部",null,null,null,null,null,null,null,null,null,null,null,null,null,"下段","上段","うち、下段","うち、上段","下段","上段","うち、下段","うち、上段"]
[66,{"$f":"VLOOKUP($A14,④工事経歴書の作成!$B$138:$R$396,2,FALSE)","v":0},{"$f":"VLOOKUP($A14,④工事経歴書の作成!$B$138:$R$396,3,FALSE)","v":0},{"$f":"VLOOKUP($A14,④工事経歴書の作成!$B$138:$R$396,4,FALSE)","v":0},{"$f":"VLOOKUP($A14,④工事経歴書の作成!$B$138:$R$396,5,FALSE)","v":0},{"$f":"VLOOKUP($A14,④工事経歴書の作成!$B$138:$R$396,2,FALSE)","v":0},{"$f":"VLOOKUP($A14,④工事経歴書の作成!$B$138:$R$396,6,FALSE)","v":0},{"$f":"VLOOKUP($A14,④工事経歴書の作成!$B$138:$R$396,7,FALSE)","v":0},{"$f":"VLOOKUP($A14,④工事経歴書の作成!$B$138:$R$396,8,FALSE)","v":0},{"$f":"VLOOKUP($A14,④工事経歴書の作成!$B$138:$R$396,9,FALSE)","v":0},{"$f":"VLOOKUP($A14,④工事経歴書の作成!$B$138:$R$396,8,FALSE)","v":0},{"$f":"VLOOKUP($A14,④工事経歴書の作成!$B$138:$R$396,11,FALSE)","v":0},"千円",{"$f":"VLOOKUP($A14,④工事経歴書の作成!$B$138:$R$396,13,FALSE)","v":0},"千円","令和",{"$f":"VLOOKUP($A14,④工事経歴書の作成!$B$138:$R$396,14,FALSE)","v":0},"年",{"$f":"VLOOKUP($A14,④工事経歴書の作成!$B$138:$R$396,15,FALSE)","v":0},"月","令和",{"$f":"VLOOKUP($A14,④工事経歴書の作成!$B$138:$R$396,16,FALSE)","v":0},"年",{"$f":"VLOOKUP($A14,④工事経歴書の作成!$B$138:$R$396,17,FALSE)","v":0},"月",null,null,null,{"$f":"IF(+L14=0,\"\",L14)","v":""},null,{"$f":"+N14","v":0},null,{"$f":"IF(AA15=$AF$12,L14,0)","v":0},null,{"$f":"IF(AA15=$AF$12,N14,0)","v":0}]
[null,null,null,null,null,null,null,null,null,null,null,{"$f":"VLOOKUP($A14,④工事経歴書の作成!$B$138:$R$396,10,FALSE)","v":0},null,{"$f":"VLOOKUP($A14,④工事経歴書の作成!$B$138:$R$396,12,FALSE)","v":0},null,null,null,null,null,null,null,null,null,null,null,null,{"$f":"IF(C14=$C$51,AA13,C14)","v":0},{"$f":"IF(+L15=0,\"\",L15)","v":""},null,{"$f":"+N15","v":0},null,{"$f":"IF(AA15=$AF$12,L15,0)","v":0},null,{"$f":"IF(AA15=$AF$12,N15,0)","v":0}]
[67,{"$f":"VLOOKUP($A16,④工事経歴書の作成!$B$138:$R$396,2,FALSE)","v":0},{"$f":"VLOOKUP($A16,④工事経歴書の作成!$B$138:$R$396,3,FALSE)","v":0},{"$f":"VLOOKUP($A16,④工事経歴書の作成!$B$138:$R$396,4,FALSE)","v":0},{"$f":"VLOOKUP($A16,④工事経歴書の作成!$B$138:$R$396,5,FALSE)","v":0},{"$f":"VLOOKUP($A16,④工事経歴書の作成!$B$138:$R$396,2,FALSE)","v":0},{"$f":"VLOOKUP($A16,④工事経歴書の作成!$B$138:$R$396,6,FALSE)","v":0},{"$f":"VLOOKUP($A16,④工事経歴書の作成!$B$138:$R$396,7,FALSE)","v":0},{"$f":"VLOOKUP($A16,④工事経歴書の作成!$B$138:$R$396,8,FALSE)","v":0},{"$f":"VLOOKUP($A16,④工事経歴書の作成!$B$138:$R$396,9,FALSE)","v":0},{"$f":"VLOOKUP($A16,④工事経歴書の作成!$B$138:$R$396,8,FALSE)","v":0},{"$f":"VLOOKUP($A16,④工事経歴書の作成!$B$138:$R$396,11,FALSE)","v":0},"千円",{"$f":"VLOOKUP($A16,④工事経歴書の作成!$B$138:$R$396,13,FALSE)","v":0},"千円","令和",{"$f":"VLOOKUP($A16,④工事経歴書の作成!$B$138:$R$396,14,FALSE)","v":0},"年",{"$f":"VLOOKUP($A16,④工事経歴書の作成!$B$138:$R$396,15,FALSE)","v":0},"月","令和",{"$f":"VLOOKUP($A16,④工事経歴書の作成!$B$138:$R$396,16,FALSE)","v":0},"年",{"$f":"VLOOKUP($A16,④工事経歴書の作成!$B$138:$R$396,17,FALSE)","v":0},"月",null,null,null,{"$f":"IF(+L16=0,\"\",L16)","v":""},null,{"$f":"+N16","v":0},null,{"$f":"IF(AA17=$AF$12,L16,0)","v":0},null,{"$f":"IF(AA17=$AF$12,N16,0)","v":0}]
[null,null,null,null,null,null,null,null,null,null,null,{"$f":"VLOOKUP($A16,④工事経歴書の作成!$B$138:$R$396,10,FALSE)","v":0},null,{"$f":"VLOOKUP($A16,④工事経歴書の作成!$B$138:$R$396,12,FALSE)","v":0},null,null,null,null,null,null,null,null,null,null,null,null,{"$f":"IF(C16=$C$51,AA15,C16)","v":0},{"$f":"IF(+L17=0,\"\",L17)","v":""},null,{"$f":"+N17","v":0},null,{"$f":"IF(AA17=$AF$12,L17,0)","v":0},null,{"$f":"IF(AA17=$AF$12,N17,0)","v":0}]
[68,{"$f":"VLOOKUP($A18,④工事経歴書の作成!$B$138:$R$396,2,FALSE)","v":0},{"$f":"VLOOKUP($A18,④工事経歴書の作成!$B$138:$R$396,3,FALSE)","v":0},{"$f":"VLOOKUP($A18,④工事経歴書の作成!$B$138:$R$396,4,FALSE)","v":0},{"$f":"VLOOKUP($A18,④工事経歴書の作成!$B$138:$R$396,5,FALSE)","v":0},{"$f":"VLOOKUP($A18,④工事経歴書の作成!$B$138:$R$396,2,FALSE)","v":0},{"$f":"VLOOKUP($A18,④工事経歴書の作成!$B$138:$R$396,6,FALSE)","v":0},{"$f":"VLOOKUP($A18,④工事経歴書の作成!$B$138:$R$396,7,FALSE)","v":0},{"$f":"VLOOKUP($A18,④工事経歴書の作成!$B$138:$R$396,8,FALSE)","v":0},{"$f":"VLOOKUP($A18,④工事経歴書の作成!$B$138:$R$396,9,FALSE)","v":0},{"$f":"VLOOKUP($A18,④工事経歴書の作成!$B$138:$R$396,8,FALSE)","v":0},{"$f":"VLOOKUP($A18,④工事経歴書の作成!$B$138:$R$396,11,FALSE)","v":0},"千円",{"$f":"VLOOKUP($A18,④工事経歴書の作成!$B$138:$R$396,13,FALSE)","v":0},"千円","令和",{"$f":"VLOOKUP($A18,④工事経歴書の作成!$B$138:$R$396,14,FALSE)","v":0},"年",{"$f":"VLOOKUP($A18,④工事経歴書の作成!$B$138:$R$396,15,FALSE)","v":0},"月","令和",{"$f":"VLOOKUP($A18,④工事経歴書の作成!$B$138:$R$396,16,FALSE)","v":0},"年",{"$f":"VLOOKUP($A18,④工事経歴書の作成!$B$138:$R$396,17,FALSE)","v":0},"月",null,null,null,{"$f":"IF(+L18=0,\"\",L18)","v":""},null,{"$f":"+N18","v":0},null,{"$f":"IF(AA19=$AF$12,L18,0)","v":0},null,{"$f":"IF(AA19=$AF$12,N18,0)","v":0}]
[null,null,null,null,null,null,null,null,null,null,null,{"$f":"VLOOKUP($A18,④工事経歴書の作成!$B$138:$R$396,10,FALSE)","v":0},null,{"$f":"VLOOKUP($A18,④工事経歴書の作成!$B$138:$R$396,12,FALSE)","v":0},null,null,null,null,null,null,null,null,null,null,null,null,{"$f":"IF(C18=$C$51,AA17,C18)","v":0},{"$f":"IF(+L19=0,\"\",L19)","v":""},null,{"$f":"+N19","v":0},null,{"$f":"IF(AA19=$AF$12,L19,0)","v":0},null,{"$f":"IF(AA19=$AF$12,N19,0)","v":0}]
[69,{"$f":"VLOOKUP($A20,④工事経歴書の作成!$B$138:$R$396,2,FALSE)","v":0},{"$f":"VLOOKUP($A20,④工事経歴書の作成!$B$138:$R$396,3,FALSE)","v":0},{"$f":"VLOOKUP($A20,④工事経歴書の作成!$B$138:$R$396,4,FALSE)","v":0},{"$f":"VLOOKUP($A20,④工事経歴書の作成!$B$138:$R$396,5,FALSE)","v":0},{"$f":"VLOOKUP($A20,④工事経歴書の作成!$B$138:$R$396,2,FALSE)","v":0},{"$f":"VLOOKUP($A20,④工事経歴書の作成!$B$138:$R$396,6,FALSE)","v":0},{"$f":"VLOOKUP($A20,④工事経歴書の作成!$B$138:$R$396,7,FALSE)","v":0},{"$f":"VLOOKUP($A20,④工事経歴書の作成!$B$138:$R$396,8,FALSE)","v":0},{"$f":"VLOOKUP($A20,④工事経歴書の作成!$B$138:$R$396,9,FALSE)","v":0},{"$f":"VLOOKUP($A20,④工事経歴書の作成!$B$138:$R$396,8,FALSE)","v":0},{"$f":"VLOOKUP($A20,④工事経歴書の作成!$B$138:$R$396,11,FALSE)","v":0},"千円",{"$f":"VLOOKUP($A20,④工事経歴書の作成!$B$138:$R$396,13,FALSE)","v":0},"千円","令和",{"$f":"VLOOKUP($A20,④工事経歴書の作成!$B$138:$R$396,14,FALSE)","v":0},"年",{"$f":"VLOOKUP($A20,④工事経歴書の作成!$B$138:$R$396,15,FALSE)","v":0},"月","令和",{"$f":"VLOOKUP($A20,④工事経歴書の作成!$B$138:$R$396,16,FALSE)","v":0},"年",{"$f":"VLOOKUP($A20,④工事経歴書の作成!$B$138:$R$396,17,FALSE)","v":0},"月",null,null,null,{"$f":"IF(+L20=0,\"\",L20)","v":""},null,{"$f":"+N20","v":0},null,{"$f":"IF(AA21=$AF$12,L20,0)","v":0},null,{"$f":"IF(AA21=$AF$12,N20,0)","v":0}]
[null,null,null,null,null,null,null,null,null,null,null,{"$f":"VLOOKUP($A20,④工事経歴書の作成!$B$138:$R$396,10,FALSE)","v":0},null,{"$f":"VLOOKUP($A20,④工事経歴書の作成!$B$138:$R$396,12,FALSE)","v":0},null,null,null,null,null,null,null,null,null,null,null,null,{"$f":"IF(C20=$C$51,AA19,C20)","v":0},{"$f":"IF(+L21=0,\"\",L21)","v":""},null,{"$f":"+N21","v":0},null,{"$f":"IF(AA21=$AF$12,L21,0)","v":0},null,{"$f":"IF(AA21=$AF$12,N21,0)","v":0}]
[70,{"$f":"VLOOKUP($A22,④工事経歴書の作成!$B$138:$R$396,2,FALSE)","v":0},{"$f":"VLOOKUP($A22,④工事経歴書の作成!$B$138:$R$396,3,FALSE)","v":0},{"$f":"VLOOKUP($A22,④工事経歴書の作成!$B$138:$R$396,4,FALSE)","v":0},{"$f":"VLOOKUP($A22,④工事経歴書の作成!$B$138:$R$396,5,FALSE)","v":0},{"$f":"VLOOKUP($A22,④工事経歴書の作成!$B$138:$R$396,2,FALSE)","v":0},{"$f":"VLOOKUP($A22,④工事経歴書の作成!$B$138:$R$396,6,FALSE)","v":0},{"$f":"VLOOKUP($A22,④工事経歴書の作成!$B$138:$R$396,7,FALSE)","v":0},{"$f":"VLOOKUP($A22,④工事経歴書の作成!$B$138:$R$396,8,FALSE)","v":0},{"$f":"VLOOKUP($A22,④工事経歴書の作成!$B$138:$R$396,9,FALSE)","v":0},{"$f":"VLOOKUP($A22,④工事経歴書の作成!$B$138:$R$396,8,FALSE)","v":0},{"$f":"VLOOKUP($A22,④工事経歴書の作成!$B$138:$R$396,11,FALSE)","v":0},"千円",{"$f":"VLOOKUP($A22,④工事経歴書の作成!$B$138:$R$396,13,FALSE)","v":0},"千円","令和",{"$f":"VLOOKUP($A22,④工事経歴書の作成!$B$138:$R$396,14,FALSE)","v":0},"年",{"$f":"VLOOKUP($A22,④工事経歴書の作成!$B$138:$R$396,15,FALSE)","v":0},"月","令和",{"$f":"VLOOKUP($A22,④工事経歴書の作成!$B$138:$R$396,16,FALSE)","v":0},"年",{"$f":"VLOOKUP($A22,④工事経歴書の作成!$B$138:$R$396,17,FALSE)","v":0},"月",null,null,null,{"$f":"IF(+L22=0,\"\",L22)","v":""},null,{"$f":"+N22","v":0},null,{"$f":"IF(AA23=$AF$12,L22,0)","v":0},null,{"$f":"IF(AA23=$AF$12,N22,0)","v":0}]
[null,null,null,null,null,null,null,null,null,null,null,{"$f":"VLOOKUP($A22,④工事経歴書の作成!$B$138:$R$396,10,FALSE)","v":0},null,{"$f":"VLOOKUP($A22,④工事経歴書の作成!$B$138:$R$396,12,FALSE)","v":0},null,null,null,null,null,null,null,null,null,null,null,null,{"$f":"IF(C22=$C$51,AA21,C22)","v":0},{"$f":"IF(+L23=0,\"\",L23)","v":""},null,{"$f":"+N23","v":0},null,{"$f":"IF(AA23=$AF$12,L23,0)","v":0},null,{"$f":"IF(AA23=$AF$12,N23,0)","v":0}]
[71,{"$f":"VLOOKUP($A24,④工事経歴書の作成!$B$138:$R$396,2,FALSE)","v":0},{"$f":"VLOOKUP($A24,④工事経歴書の作成!$B$138:$R$396,3,FALSE)","v":0},{"$f":"VLOOKUP($A24,④工事経歴書の作成!$B$138:$R$396,4,FALSE)","v":0},{"$f":"VLOOKUP($A24,④工事経歴書の作成!$B$138:$R$396,5,FALSE)","v":0},{"$f":"VLOOKUP($A24,④工事経歴書の作成!$B$138:$R$396,2,FALSE)","v":0},{"$f":"VLOOKUP($A24,④工事経歴書の作成!$B$138:$R$396,6,FALSE)","v":0},{"$f":"VLOOKUP($A24,④工事経歴書の作成!$B$138:$R$396,7,FALSE)","v":0},{"$f":"VLOOKUP($A24,④工事経歴書の作成!$B$138:$R$396,8,FALSE)","v":0},{"$f":"VLOOKUP($A24,④工事経歴書の作成!$B$138:$R$396,9,FALSE)","v":0},{"$f":"VLOOKUP($A24,④工事経歴書の作成!$B$138:$R$396,8,FALSE)","v":0},{"$f":"VLOOKUP($A24,④工事経歴書の作成!$B$138:$R$396,11,FALSE)","v":0},"千円",{"$f":"VLOOKUP($A24,④工事経歴書の作成!$B$138:$R$396,13,FALSE)","v":0},"千円","令和",{"$f":"VLOOKUP($A24,④工事経歴書の作成!$B$138:$R$396,14,FALSE)","v":0},"年",{"$f":"VLOOKUP($A24,④工事経歴書の作成!$B$138:$R$396,15,FALSE)","v":0},"月","令和",{"$f":"VLOOKUP($A24,④工事経歴書の作成!$B$138:$R$396,16,FALSE)","v":0},"年",{"$f":"VLOOKUP($A24,④工事経歴書の作成!$B$138:$R$396,17,FALSE)","v":0},"月",null,null,null,{"$f":"IF(+L24=0,\"\",L24)","v":""},null,{"$f":"+N24","v":0},null,{"$f":"IF(AA25=$AF$12,L24,0)","v":0},null,{"$f":"IF(AA25=$AF$12,N24,0)","v":0}]
[null,null,null,null,null,null,null,null,null,null,null,{"$f":"VLOOKUP($A24,④工事経歴書の作成!$B$138:$R$396,10,FALSE)","v":0},null,{"$f":"VLOOKUP($A24,④工事経歴書の作成!$B$138:$R$396,12,FALSE)","v":0},null,null,null,null,null,null,null,null,null,null,null,null,{"$f":"IF(C24=$C$51,AA23,C24)","v":0},{"$f":"IF(+L25=0,\"\",L25)","v":""},null,{"$f":"+N25","v":0},null,{"$f":"IF(AA25=$AF$12,L25,0)","v":0},null,{"$f":"IF(AA25=$AF$12,N25,0)","v":0}]
[72,{"$f":"VLOOKUP($A26,④工事経歴書の作成!$B$138:$R$396,2,FALSE)","v":0},{"$f":"VLOOKUP($A26,④工事経歴書の作成!$B$138:$R$396,3,FALSE)","v":0},{"$f":"VLOOKUP($A26,④工事経歴書の作成!$B$138:$R$396,4,FALSE)","v":0},{"$f":"VLOOKUP($A26,④工事経歴書の作成!$B$138:$R$396,5,FALSE)","v":0},{"$f":"VLOOKUP($A26,④工事経歴書の作成!$B$138:$R$396,2,FALSE)","v":0},{"$f":"VLOOKUP($A26,④工事経歴書の作成!$B$138:$R$396,6,FALSE)","v":0},{"$f":"VLOOKUP($A26,④工事経歴書の作成!$B$138:$R$396,7,FALSE)","v":0},{"$f":"VLOOKUP($A26,④工事経歴書の作成!$B$138:$R$396,8,FALSE)","v":0},{"$f":"VLOOKUP($A26,④工事経歴書の作成!$B$138:$R$396,9,FALSE)","v":0},{"$f":"VLOOKUP($A26,④工事経歴書の作成!$B$138:$R$396,8,FALSE)","v":0},{"$f":"VLOOKUP($A26,④工事経歴書の作成!$B$138:$R$396,11,FALSE)","v":0},"千円",{"$f":"VLOOKUP($A26,④工事経歴書の作成!$B$138:$R$396,13,FALSE)","v":0},"千円","令和",{"$f":"VLOOKUP($A26,④工事経歴書の作成!$B$138:$R$396,14,FALSE)","v":0},"年",{"$f":"VLOOKUP($A26,④工事経歴書の作成!$B$138:$R$396,15,FALSE)","v":0},"月","令和",{"$f":"VLOOKUP($A26,④工事経歴書の作成!$B$138:$R$396,16,FALSE)","v":0},"年",{"$f":"VLOOKUP($A26,④工事経歴書の作成!$B$138:$R$396,17,FALSE)","v":0},"月",null,null,null,{"$f":"IF(+L26=0,\"\",L26)","v":""},null,{"$f":"+N26","v":0},null,{"$f":"IF(AA27=$AF$12,L26,0)","v":0},null,{"$f":"IF(AA27=$AF$12,N26,0)","v":0}]
[null,null,null,null,null,null,null,null,null,null,null,{"$f":"VLOOKUP($A26,④工事経歴書の作成!$B$138:$R$396,10,FALSE)","v":0},null,{"$f":"VLOOKUP($A26,④工事経歴書の作成!$B$138:$R$396,12,FALSE)","v":0},null,null,null,null,null,null,null,null,null,null,null,null,{"$f":"IF(C26=$C$51,AA25,C26)","v":0},{"$f":"IF(+L27=0,\"\",L27)","v":""},null,{"$f":"+N27","v":0},null,{"$f":"IF(AA27=$AF$12,L27,0)","v":0},null,{"$f":"IF(AA27=$AF$12,N27,0)","v":0}]
[73,{"$f":"VLOOKUP($A28,④工事経歴書の作成!$B$138:$R$396,2,FALSE)","v":0},{"$f":"VLOOKUP($A28,④工事経歴書の作成!$B$138:$R$396,3,FALSE)","v":0},{"$f":"VLOOKUP($A28,④工事経歴書の作成!$B$138:$R$396,4,FALSE)","v":0},{"$f":"VLOOKUP($A28,④工事経歴書の作成!$B$138:$R$396,5,FALSE)","v":0},{"$f":"VLOOKUP($A28,④工事経歴書の作成!$B$138:$R$396,2,FALSE)","v":0},{"$f":"VLOOKUP($A28,④工事経歴書の作成!$B$138:$R$396,6,FALSE)","v":0},{"$f":"VLOOKUP($A28,④工事経歴書の作成!$B$138:$R$396,7,FALSE)","v":0},{"$f":"VLOOKUP($A28,④工事経歴書の作成!$B$138:$R$396,8,FALSE)","v":0},{"$f":"VLOOKUP($A28,④工事経歴書の作成!$B$138:$R$396,9,FALSE)","v":0},{"$f":"VLOOKUP($A28,④工事経歴書の作成!$B$138:$R$396,8,FALSE)","v":0},{"$f":"VLOOKUP($A28,④工事経歴書の作成!$B$138:$R$396,11,FALSE)","v":0},"千円",{"$f":"VLOOKUP($A28,④工事経歴書の作成!$B$138:$R$396,13,FALSE)","v":0},"千円","令和",{"$f":"VLOOKUP($A28,④工事経歴書の作成!$B$138:$R$396,14,FALSE)","v":0},"年",{"$f":"VLOOKUP($A28,④工事経歴書の作成!$B$138:$R$396,15,FALSE)","v":0},"月","令和",{"$f":"VLOOKUP($A28,④工事経歴書の作成!$B$138:$R$396,16,FALSE)","v":0},"年",{"$f":"VLOOKUP($A28,④工事経歴書の作成!$B$138:$R$396,17,FALSE)","v":0},"月",null,null,null,{"$f":"IF(+L28=0,\"\",L28)","v":""},null,{"$f":"+N28","v":0},null,{"$f":"IF(AA29=$AF$12,L28,0)","v":0},null,{"$f":"IF(AA29=$AF$12,N28,0)","v":0}]
[null,null,null,null,null,null,null,null,null,null,null,{"$f":"VLOOKUP($A28,④工事経歴書の作成!$B$138:$R$396,10,FALSE)","v":0},null,{"$f":"VLOOKUP($A28,④工事経歴書の作成!$B$138:$R$396,12,FALSE)","v":0},null,null,null,null,null,null,null,null,null,null,null,null,{"$f":"IF(C28=$C$51,AA27,C28)","v":0},{"$f":"IF(+L29=0,\"\",L29)","v":""},null,{"$f":"+N29","v":0},null,{"$f":"IF(AA29=$AF$12,L29,0)","v":0},null,{"$f":"IF(AA29=$AF$12,N29,0)","v":0}]
[74,{"$f":"VLOOKUP($A30,④工事経歴書の作成!$B$138:$R$396,2,FALSE)","v":0},{"$f":"VLOOKUP($A30,④工事経歴書の作成!$B$138:$R$396,3,FALSE)","v":0},{"$f":"VLOOKUP($A30,④工事経歴書の作成!$B$138:$R$396,4,FALSE)","v":0},{"$f":"VLOOKUP($A30,④工事経歴書の作成!$B$138:$R$396,5,FALSE)","v":0},{"$f":"VLOOKUP($A30,④工事経歴書の作成!$B$138:$R$396,2,FALSE)","v":0},{"$f":"VLOOKUP($A30,④工事経歴書の作成!$B$138:$R$396,6,FALSE)","v":0},{"$f":"VLOOKUP($A30,④工事経歴書の作成!$B$138:$R$396,7,FALSE)","v":0},{"$f":"VLOOKUP($A30,④工事経歴書の作成!$B$138:$R$396,8,FALSE)","v":0},{"$f":"VLOOKUP($A30,④工事経歴書の作成!$B$138:$R$396,9,FALSE)","v":0},{"$f":"VLOOKUP($A30,④工事経歴書の作成!$B$138:$R$396,8,FALSE)","v":0},{"$f":"VLOOKUP($A30,④工事経歴書の作成!$B$138:$R$396,11,FALSE)","v":0},"千円",{"$f":"VLOOKUP($A30,④工事経歴書の作成!$B$138:$R$396,13,FALSE)","v":0},"千円","令和",{"$f":"VLOOKUP($A30,④工事経歴書の作成!$B$138:$R$396,14,FALSE)","v":0},"年",{"$f":"VLOOKUP($A30,④工事経歴書の作成!$B$138:$R$396,15,FALSE)","v":0},"月","令和",{"$f":"VLOOKUP($A30,④工事経歴書の作成!$B$138:$R$396,16,FALSE)","v":0},"年",{"$f":"VLOOKUP($A30,④工事経歴書の作成!$B$138:$R$396,17,FALSE)","v":0},"月",null,null,null,{"$f":"IF(+L30=0,\"\",L30)","v":""},null,{"$f":"+N30","v":0},null,{"$f":"IF(AA31=$AF$12,L30,0)","v":0},null,{"$f":"IF(AA31=$AF$12,N30,0)","v":0}]
[null,null,null,null,null,null,null,null,null,null,null,{"$f":"VLOOKUP($A30,④工事経歴書の作成!$B$138:$R$396,10,FALSE)","v":0},null,{"$f":"VLOOKUP($A30,④工事経歴書の作成!$B$138:$R$396,12,FALSE)","v":0},null,null,null,null,null,null,null,null,null,null,null,null,{"$f":"IF(C30=$C$51,AA29,C30)","v":0},{"$f":"IF(+L31=0,\"\",L31)","v":""},null,{"$f":"+N31","v":0},null,{"$f":"IF(AA31=$AF$12,L31,0)","v":0},null,{"$f":"IF(AA31=$AF$12,N31,0)","v":0}]
[75,{"$f":"VLOOKUP($A32,④工事経歴書の作成!$B$138:$R$396,2,FALSE)","v":0},{"$f":"VLOOKUP($A32,④工事経歴書の作成!$B$138:$R$396,3,FALSE)","v":0},{"$f":"VLOOKUP($A32,④工事経歴書の作成!$B$138:$R$396,4,FALSE)","v":0},{"$f":"VLOOKUP($A32,④工事経歴書の作成!$B$138:$R$396,5,FALSE)","v":0},{"$f":"VLOOKUP($A32,④工事経歴書の作成!$B$138:$R$396,2,FALSE)","v":0},{"$f":"VLOOKUP($A32,④工事経歴書の作成!$B$138:$R$396,6,FALSE)","v":0},{"$f":"VLOOKUP($A32,④工事経歴書の作成!$B$138:$R$396,7,FALSE)","v":0},{"$f":"VLOOKUP($A32,④工事経歴書の作成!$B$138:$R$396,8,FALSE)","v":0},{"$f":"VLOOKUP($A32,④工事経歴書の作成!$B$138:$R$396,9,FALSE)","v":0},{"$f":"VLOOKUP($A32,④工事経歴書の作成!$B$138:$R$396,8,FALSE)","v":0},{"$f":"VLOOKUP($A32,④工事経歴書の作成!$B$138:$R$396,11,FALSE)","v":0},"千円",{"$f":"VLOOKUP($A32,④工事経歴書の作成!$B$138:$R$396,13,FALSE)","v":0},"千円","令和",{"$f":"VLOOKUP($A32,④工事経歴書の作成!$B$138:$R$396,14,FALSE)","v":0},"年",{"$f":"VLOOKUP($A32,④工事経歴書の作成!$B$138:$R$396,15,FALSE)","v":0},"月","令和",{"$f":"VLOOKUP($A32,④工事経歴書の作成!$B$138:$R$396,16,FALSE)","v":0},"年",{"$f":"VLOOKUP($A32,④工事経歴書の作成!$B$138:$R$396,17,FALSE)","v":0},"月",null,null,null,{"$f":"IF(+L32=0,\"\",L32)","v":""},null,{"$f":"+N32","v":0},null,{"$f":"IF(AA33=$AF$12,L32,0)","v":0},null,{"$f":"IF(AA33=$AF$12,N32,0)","v":0}]
[null,null,null,null,null,null,null,null,null,null,null,{"$f":"VLOOKUP($A32,④工事経歴書の作成!$B$138:$R$396,10,FALSE)","v":0},null,{"$f":"VLOOKUP($A32,④工事経歴書の作成!$B$138:$R$396,12,FALSE)","v":0},null,null,null,null,null,null,null,null,null,null,null,null,{"$f":"IF(C32=$C$51,AA31,C32)","v":0},{"$f":"IF(+L33=0,\"\",L33)","v":""},null,{"$f":"+N33","v":0},null,{"$f":"IF(AA33=$AF$12,L33,0)","v":0},null,{"$f":"IF(AA33=$AF$12,N33,0)","v":0}]
[76,{"$f":"VLOOKUP($A34,④工事経歴書の作成!$B$138:$R$396,2,FALSE)","v":0},{"$f":"VLOOKUP($A34,④工事経歴書の作成!$B$138:$R$396,3,FALSE)","v":0},{"$f":"VLOOKUP($A34,④工事経歴書の作成!$B$138:$R$396,4,FALSE)","v":0},{"$f":"VLOOKUP($A34,④工事経歴書の作成!$B$138:$R$396,5,FALSE)","v":0},{"$f":"VLOOKUP($A34,④工事経歴書の作成!$B$138:$R$396,2,FALSE)","v":0},{"$f":"VLOOKUP($A34,④工事経歴書の作成!$B$138:$R$396,6,FALSE)","v":0},{"$f":"VLOOKUP($A34,④工事経歴書の作成!$B$138:$R$396,7,FALSE)","v":0},{"$f":"VLOOKUP($A34,④工事経歴書の作成!$B$138:$R$396,8,FALSE)","v":0},{"$f":"VLOOKUP($A34,④工事経歴書の作成!$B$138:$R$396,9,FALSE)","v":0},{"$f":"VLOOKUP($A34,④工事経歴書の作成!$B$138:$R$396,8,FALSE)","v":0},{"$f":"VLOOKUP($A34,④工事経歴書の作成!$B$138:$R$396,11,FALSE)","v":0},"千円",{"$f":"VLOOKUP($A34,④工事経歴書の作成!$B$138:$R$396,13,FALSE)","v":0},"千円","令和",{"$f":"VLOOKUP($A34,④工事経歴書の作成!$B$138:$R$396,14,FALSE)","v":0},"年",{"$f":"VLOOKUP($A34,④工事経歴書の作成!$B$138:$R$396,15,FALSE)","v":0},"月","令和",{"$f":"VLOOKUP($A34,④工事経歴書の作成!$B$138:$R$396,16,FALSE)","v":0},"年",{"$f":"VLOOKUP($A34,④工事経歴書の作成!$B$138:$R$396,17,FALSE)","v":0},"月",null,null,null,{"$f":"IF(+L34=0,\"\",L34)","v":""},null,{"$f":"+N34","v":0},null,{"$f":"IF(AA35=$AF$12,L34,0)","v":0},null,{"$f":"IF(AA35=$AF$12,N34,0)","v":0}]
[null,null,null,null,null,null,null,null,null,null,null,{"$f":"VLOOKUP($A34,④工事経歴書の作成!$B$138:$R$396,10,FALSE)","v":0},null,{"$f":"VLOOKUP($A34,④工事経歴書の作成!$B$138:$R$396,12,FALSE)","v":0},null,null,null,null,null,null,null,null,null,null,null,null,{"$f":"IF(C34=$C$51,AA33,C34)","v":0},{"$f":"IF(+L35=0,\"\",L35)","v":""},null,{"$f":"+N35","v":0},null,{"$f":"IF(AA35=$AF$12,L35,0)","v":0},null,{"$f":"IF(AA35=$AF$12,N35,0)","v":0}]
[77,{"$f":"VLOOKUP($A36,④工事経歴書の作成!$B$138:$R$396,2,FALSE)","v":0},{"$f":"VLOOKUP($A36,④工事経歴書の作成!$B$138:$R$396,3,FALSE)","v":0},{"$f":"VLOOKUP($A36,④工事経歴書の作成!$B$138:$R$396,4,FALSE)","v":0},{"$f":"VLOOKUP($A36,④工事経歴書の作成!$B$138:$R$396,5,FALSE)","v":0},{"$f":"VLOOKUP($A36,④工事経歴書の作成!$B$138:$R$396,2,FALSE)","v":0},{"$f":"VLOOKUP($A36,④工事経歴書の作成!$B$138:$R$396,6,FALSE)","v":0},{"$f":"VLOOKUP($A36,④工事経歴書の作成!$B$138:$R$396,7,FALSE)","v":0},{"$f":"VLOOKUP($A36,④工事経歴書の作成!$B$138:$R$396,8,FALSE)","v":0},{"$f":"VLOOKUP($A36,④工事経歴書の作成!$B$138:$R$396,9,FALSE)","v":0},{"$f":"VLOOKUP($A36,④工事経歴書の作成!$B$138:$R$396,8,FALSE)","v":0},{"$f":"VLOOKUP($A36,④工事経歴書の作成!$B$138:$R$396,11,FALSE)","v":0},"千円",{"$f":"VLOOKUP($A36,④工事経歴書の作成!$B$138:$R$396,13,FALSE)","v":0},"千円","令和",{"$f":"VLOOKUP($A36,④工事経歴書の作成!$B$138:$R$396,14,FALSE)","v":0},"年",{"$f":"VLOOKUP($A36,④工事経歴書の作成!$B$138:$R$396,15,FALSE)","v":0},"月","令和",{"$f":"VLOOKUP($A36,④工事経歴書の作成!$B$138:$R$396,16,FALSE)","v":0},"年",{"$f":"VLOOKUP($A36,④工事経歴書の作成!$B$138:$R$396,17,FALSE)","v":0},"月",null,null,null,{"$f":"IF(+L36=0,\"\",L36)","v":""},null,{"$f":"+N36","v":0},null,{"$f":"IF(AA37=$AF$12,L36,0)","v":0},null,{"$f":"IF(AA37=$AF$12,N36,0)","v":0}]
[null,null,null,null,null,null,null,null,null,null,null,{"$f":"VLOOKUP($A36,④工事経歴書の作成!$B$138:$R$396,10,FALSE)","v":0},null,{"$f":"VLOOKUP($A36,④工事経歴書の作成!$B$138:$R$396,12,FALSE)","v":0},null,null,null,null,null,null,null,null,null,null,null,null,{"$f":"IF(C36=$C$51,AA35,C36)","v":0},{"$f":"IF(+L37=0,\"\",L37)","v":""},null,{"$f":"+N37","v":0},null,{"$f":"IF(AA37=$AF$12,L37,0)","v":0},null,{"$f":"IF(AA37=$AF$12,N37,0)","v":0}]
[78,{"$f":"VLOOKUP($A38,④工事経歴書の作成!$B$138:$R$396,2,FALSE)","v":0},{"$f":"VLOOKUP($A38,④工事経歴書の作成!$B$138:$R$396,3,FALSE)","v":0},{"$f":"VLOOKUP($A38,④工事経歴書の作成!$B$138:$R$396,4,FALSE)","v":0},{"$f":"VLOOKUP($A38,④工事経歴書の作成!$B$138:$R$396,5,FALSE)","v":0},{"$f":"VLOOKUP($A38,④工事経歴書の作成!$B$138:$R$396,2,FALSE)","v":0},{"$f":"VLOOKUP($A38,④工事経歴書の作成!$B$138:$R$396,6,FALSE)","v":0},{"$f":"VLOOKUP($A38,④工事経歴書の作成!$B$138:$R$396,7,FALSE)","v":0},{"$f":"VLOOKUP($A38,④工事経歴書の作成!$B$138:$R$396,8,FALSE)","v":0},{"$f":"VLOOKUP($A38,④工事経歴書の作成!$B$138:$R$396,9,FALSE)","v":0},{"$f":"VLOOKUP($A38,④工事経歴書の作成!$B$138:$R$396,8,FALSE)","v":0},{"$f":"VLOOKUP($A38,④工事経歴書の作成!$B$138:$R$396,11,FALSE)","v":0},"千円",{"$f":"VLOOKUP($A38,④工事経歴書の作成!$B$138:$R$396,13,FALSE)","v":0},"千円","令和",{"$f":"VLOOKUP($A38,④工事経歴書の作成!$B$138:$R$396,14,FALSE)","v":0},"年",{"$f":"VLOOKUP($A38,④工事経歴書の作成!$B$138:$R$396,15,FALSE)","v":0},"月","令和",{"$f":"VLOOKUP($A38,④工事経歴書の作成!$B$138:$R$396,16,FALSE)","v":0},"年",{"$f":"VLOOKUP($A38,④工事経歴書の作成!$B$138:$R$396,17,FALSE)","v":0},"月",null,null,null,{"$f":"IF(+L38=0,\"\",L38)","v":""},null,{"$f":"+N38","v":0},null,{"$f":"IF(AA39=$AF$12,L38,0)","v":0},null,{"$f":"IF(AA39=$AF$12,N38,0)","v":0}]
[null,null,null,null,null,null,null,null,null,null,null,{"$f":"VLOOKUP($A38,④工事経歴書の作成!$B$138:$R$396,10,FALSE)","v":0},null,{"$f":"VLOOKUP($A38,④工事経歴書の作成!$B$138:$R$396,12,FALSE)","v":0},null,null,null,null,null,null,null,null,null,null,null,null,{"$f":"IF(C38=$C$51,AA37,C38)","v":0},{"$f":"IF(+L39=0,\"\",L39)","v":""},null,{"$f":"+N39","v":0},null,{"$f":"IF(AA39=$AF$12,L39,0)","v":0},null,{"$f":"IF(AA39=$AF$12,N39,0)","v":0}]
[null,null,null,null,null,null,null,null,null,null,null,null,null,null,null,null,null,null,null,null,null,null,null,null,null,null,null,{"$f":"SUM(AB14:AB39)","v":0},0,0,0,0,0,0,0]
[null,null,null,null,null,null,null,null,"小　　計",null,"件",null,"千円",null,"千円","うち　元請工事"]
[null,null,null,null,null,null,null,null,null,null,null,null,null,null,null,null,null,null,"千円",null,null,null,null,"千円"]
[]
[]
[null,null,null,null,null,null,null,null,"合　　計",null,"件",null,"千円",null,"千円","うち　元請工事"]
[null,null,null,null,null,null,null,null,null,null,null,null,null,null,null,null,null,null,"千円",null,null,null,null,"千円"]
[]
[]
[null,null,null,null,null,null,null,"小計を","小計",{"$f":"COUNT(AC14:AC39)","v":0},"件",{"$f":"+AC40","v":0},"千円",{"$f":"+AE40","v":0},"千円",{"$f":"+AG40","v":0},null,null,"千円",null,{"$f":"+AI40","v":0},null,null,"千円"]
[null,null,null,null,null,null,null,"転記しましょう",null,{"$f":"COUNT(AB14:AB39)","v":0},null,{"$f":"+AB40","v":0},null,{"$f":"+AD40","v":0},null,{"$f":"+AF40","v":0},null,null,null,null,{"$f":"+AH40","v":0}]
[null,null,null,null,null,null,null,"操作方法によっては算式がこわれる場合があります。この数値は参考程度としていただき、必ず電卓で検算してください。"]
[]
[null,null,null,null,null,null,null,null,"ﾚ"]

{"sheet":"7","index":14,"n_rows":53,"n_cols":35,"rows_kept":53,"cut":false,"hidden":false,"merged":[[8,1,12,1],[13,1,14,1],[8,15,8,24],[9,15,12,19],[9,20,10,24],[11,20,12,24],[13,19,14,19],[13,16,14,16],[13,17,14,17],[13,8,14,8],[9,8,9,10],[10,8,10,10],[11,8,12,8],[13,7,14,7],[9,7,12,7],[13,22,14,22],[13,23,14,23],[15,15,16,15],[12,13,12,14],[13,12,14,12],[13,14,14,14],[13,15,14,15],[0,1,0,16],[50,7,50,24],[13,6,14,6],[13,0,14,0],[13,4,14,5],[13,20,14,20],[13,2,14,2],[13,3,14,3],[25,19,26,19],[27,18,28,18],[6,2,6,4],[8,6,12,6],[8,2,12,2],[8,11,8,13],[8,4,12,5],[8,3,12,3],[10,13,10,14],[11,13,11,14],[8,7,8,10],[25,24,26,24],[25,22,26,22],[25,23,26,23],[23,24,24,24],[21,23,22,23],[17,22,18,22],[17,23,18,23],[19,23,20,23],[23,23,24,23],[17,24,18,24],[19,24,20,24],[21,24,22,24],[23,22,24,22],[19,21,20,21],[19,22,20,22],[13,24,14,24],[15,24,16,24],[15,23,16,23],[13,21,14,21],[15,4,16,5],[15,6,16,6],[15,8,16,8],[15,12,16,12],[15,7,16,7],[15,19,16,19],[15,17,16,17],[15,14,16,14],[15,18,16,18],[15,16,16,16],[15,20,16,20],[13,18,14,18],[17,17,18,17],[15,21,16,21],[15,22,16,22],[17,18,18,18],[17,4,18,5],[17,6,18,6],[19,17,20,17],[19,20,20,20],[19,18,20,18],[19,19,20,19],[23,16,24,16],[23,17,24,17],[23,18,24,18],[21,17,22,17],[19,16,20,16],[23,20,24,20],[21,18,22,18],[23,21,24,21],[23,14,24,14],[35,18,36,18],[35,17,36,17],[29,19,30,19],[27,19,28,19],[23,19,24,19],[25,18,26,18],[25,15,26,15],[25,16,26,16],[27,16,28,16],[27,17,28,17],[29,18,30,18],[25,17,26,17],[29,15,30,15],[23,15,24,15],[11,31,11,34],[19,9,20,10],[23,9,24,10],[29,9,30,10],[31,9,32,10],[33,9,34,10],[17,19,18,19],[17,20,18,20],[17,16,18,16],[29,24,30,24],[33,16,34,16],[33,17,34,17],[29,17,30,17],[31,16,32,16],[31,17,32,17],[29,23,30,23],[17,21,18,21],[21,21,22,21],[21,22,22,22],[21,20,22,20],[27,23,28,23],[25,20,26,20],[25,21,26,21],[27,24,28,24],[48,18,49,19],[49,20,49,22],[48,20,48,22],[37,20,38,20],[37,21,38,21],[37,22,38,22],[35,20,36,20],[48,23,49,24],[11,27,11,30],[21,19,22,19],[29,20,30,20],[29,21,30,21],[33,18,34,18],[33,19,34,19],[33,20,34,20],[41,20,41,22],[41,23,42,24],[42,20,42,22],[37,23,38,23],[37,24,38,24],[29,22,30,22],[27,20,28,20],[27,21,28,21],[27,22,28,22],[46,15,46,17],[31,22,32,22],[29,16,30,16],[25,0,26,0],[25,1,26,1],[25,2,26,2],[25,3,26,3],[44,10,46,10],[44,12,46,12],[45,9,46,9],[45,11,46,11],[44,14,46,14],[44,15,44,24],[45,13,46,13],[45,15,45,17],[45,18,46,19],[45,20,45,22],[45,23,46,24],[46,20,46,22],[37,7,38,7],[25,7,26,7],[25,8,26,8],[29,7,30,7],[29,8,30,8],[15,0,16,0],[15,1,16,1],[15,2,16,2],[15,3,16,3],[17,0,18,0],[17,1,18,1],[17,2,18,2],[17,3,18,3],[35,0,36,0],[21,0,22,0],[21,1,22,1],[21,2,22,2],[21,3,22,3],[23,0,24,0],[23,1,24,1],[23,2,24,2],[29,0,30,0],[29,1,30,1],[29,2,30,2],[29,3,30,3],[33,0,34,0],[33,2,34,2],[33,1,34,1],[33,3,34,3],[17,7,18,7],[17,8,18,8],[25,4,26,5],[19,6,20,6],[19,7,20,7],[23,4,24,5],[21,4,22,5],[17,14,18,14],[17,15,18,15],[19,8,20,8],[19,12,20,12],[19,14,20,14],[19,15,20,15],[17,12,18,12],[21,9,22,10],[25,12,26,12],[21,6,22,6],[21,7,22,7],[21,8,22,8],[48,12,49,12],[48,14,49,14],[49,15,49,17],[48,15,48,17],[21,12,22,12],[19,0,20,0],[19,1,20,1],[19,2,20,2],[19,3,20,3],[19,4,20,5],[23,3,24,3],[23,6,24,6],[23,7,24,7],[23,8,24,8],[48,8,49,8],[48,10,49,10],[25,6,26,6],[27,7,28,7],[27,8,28,8],[40,8,42,8],[44,8,46,8],[21,14,22,14],[21,15,22,15],[21,16,22,16],[37,8,38,8],[23,12,24,12],[25,14,26,14],[25,9,26,10],[29,12,30,12],[35,8,36,8],[27,6,28,6],[31,8,32,8],[33,8,34,8],[37,9,38,10],[41,9,42,9],[41,11,42,11],[35,14,36,14],[33,12,34,12],[27,12,28,12],[27,14,28,14],[35,9,36,10],[29,14,30,14],[35,12,36,12],[27,9,28,10],[31,12,32,12],[33,14,34,14],[37,14,38,14],[40,10,42,10],[31,0,32,0],[31,1,32,1],[31,2,32,2],[31,3,32,3],[31,4,32,5],[31,21,32,21],[27,0,28,0],[31,19,32,19],[31,20,32,20],[27,1,28,1],[27,2,28,2],[27,3,28,3],[31,14,32,14],[31,15,32,15],[31,6,32,6],[31,7,32,7],[29,4,30,5],[29,6,30,6],[27,4,28,5],[27,15,28,15],[33,4,34,5],[33,6,34,6],[31,18,32,18],[33,7,34,7],[33,24,34,24],[33,21,34,21],[33,15,34,15],[35,1,36,1],[35,2,36,2],[35,3,36,3],[35,4,36,5],[35,6,36,6],[35,7,36,7],[35,15,36,15],[35,16,36,16],[35,19,36,19],[33,22,34,22],[33,23,34,23],[35,24,36,24],[35,21,36,21],[35,22,36,22],[35,23,36,23],[31,23,32,23],[31,24,32,24],[37,0,38,0],[37,1,38,1],[37,2,38,2],[37,3,38,3],[37,4,38,5],[37,6,38,6],[4,1,4,24],[40,12,42,12],[40,14,42,14],[11,9,12,10],[13,9,14,10],[15,9,16,10],[17,9,18,10],[40,15,40,24],[41,18,42,19],[37,12,38,12],[41,13,42,13],[37,16,38,16],[37,17,38,17],[37,18,38,18],[37,19,38,19],[42,15,42,17],[41,15,41,17],[37,15,38,15]]}
[null,"このシートは編集できません。\n「④工事経歴書の作成」のシートの「編集加工できる工事経歴書の作成」のボタンを押してください。\n自由に編集加工できるシートができあがります。"]
[]
[]
[null,"様式第二号 （第二条、第十三条の二、第十三条の三、第十九条の八関係）",null,null,null,null,null,null,null,null,null,null,null,null,null,null,null,null,null,null,null,null,null,null,"（用紙Ａ4）"]
[null,"工　 事　 経　 歴　 書"]
[]
[null,"（建設工事の種類）",{"$f":"+①業種!D13","v":"土木一式"},null,null,"工事","（　　税込　　・","　　税抜　　）"]
[]
[null,"注　　文　　者","元請\n又は\n下請\nの別","JV\nの\n別","工　　　事　　　名",null,"工事現場の\nある都道府\n県及び市区\n町  村  名","配　置　技　術　者",null,null,null,"請　負　代　金　の　額",null,null,null,"工　　　　期"]
[null,null,null,null,null,null,null,"氏　　名","主任技術者又は監理技術者",null,null,null,null,"うち、",null,"着　工　年　月",null,null,null,null,"　完成又は"]
[null,null,null,null,null,null,null,null,"の別（該当箇所にﾚ印を記載)",null,null,null,null,"　　　・ＰＣ"]
[null,null,null,null,null,null,null,null,"主任技術者","監理技術者",null,null,null,"　　　・法面処理",null,null,null,null,null,null,"　完成予定年月",null,null,null,null,null,null,"全体",null,null,null,"元請"]
[null,null,null,null,null,null,null,null,null,null,null,null,null,"　　　・鋼橋上部",null,null,null,null,null,null,null,null,null,null,null,null,null,"下段","上段","うち、下段","うち、上段","下段","上段","うち、下段","うち、上段"]
[79,{"$f":"VLOOKUP($A14,④工事経歴書の作成!$B$138:$R$396,2,FALSE)","v":0},{"$f":"VLOOKUP($A14,④工事経歴書の作成!$B$138:$R$396,3,FALSE)","v":0},{"$f":"VLOOKUP($A14,④工事経歴書の作成!$B$138:$R$396,4,FALSE)","v":0},{"$f":"VLOOKUP($A14,④工事経歴書の作成!$B$138:$R$396,5,FALSE)","v":0},{"$f":"VLOOKUP($A14,④工事経歴書の作成!$B$138:$R$396,2,FALSE)","v":0},{"$f":"VLOOKUP($A14,④工事経歴書の作成!$B$138:$R$396,6,FALSE)","v":0},{"$f":"VLOOKUP($A14,④工事経歴書の作成!$B$138:$R$396,7,FALSE)","v":0},{"$f":"VLOOKUP($A14,④工事経歴書の作成!$B$138:$R$396,8,FALSE)","v":0},{"$f":"VLOOKUP($A14,④工事経歴書の作成!$B$138:$R$396,9,FALSE)","v":0},{"$f":"VLOOKUP($A14,④工事経歴書の作成!$B$138:$R$396,8,FALSE)","v":0},{"$f":"VLOOKUP($A14,④工事経歴書の作成!$B$138:$R$396,11,FALSE)","v":0},"千円",{"$f":"VLOOKUP($A14,④工事経歴書の作成!$B$138:$R$396,13,FALSE)","v":0},"千円","令和",{"$f":"VLOOKUP($A14,④工事経歴書の作成!$B$138:$R$396,14,FALSE)","v":0},"年",{"$f":"VLOOKUP($A14,④工事経歴書の作成!$B$138:$R$396,15,FALSE)","v":0},"月","令和",{"$f":"VLOOKUP($A14,④工事経歴書の作成!$B$138:$R$396,16,FALSE)","v":0},"年",{"$f":"VLOOKUP($A14,④工事経歴書の作成!$B$138:$R$396,17,FALSE)","v":0},"月",null,null,null,{"$f":"IF(+L14=0,\"\",L14)","v":""},null,{"$f":"+N14","v":0},null,{"$f":"IF(AA15=$AF$12,L14,0)","v":0},null,{"$f":"IF(AA15=$AF$12,N14,0)","v":0}]
[null,null,null,null,null,null,null,null,null,null,null,{"$f":"VLOOKUP($A14,④工事経歴書の作成!$B$138:$R$396,10,FALSE)","v":0},null,{"$f":"VLOOKUP($A14,④工事経歴書の作成!$B$138:$R$396,12,FALSE)","v":0},null,null,null,null,null,null,null,null,null,null,null,null,{"$f":"IF(C14=$C$51,AA13,C14)","v":0},{"$f":"IF(+L15=0,\"\",L15)","v":""},null,{"$f":"+N15","v":0},null,{"$f":"IF(AA15=$AF$12,L15,0)","v":0},null,{"$f":"IF(AA15=$AF$12,N15,0)","v":0}]
[80,{"$f":"VLOOKUP($A16,④工事経歴書の作成!$B$138:$R$396,2,FALSE)","v":0},{"$f":"VLOOKUP($A16,④工事経歴書の作成!$B$138:$R$396,3,FALSE)","v":0},{"$f":"VLOOKUP($A16,④工事経歴書の作成!$B$138:$R$396,4,FALSE)","v":0},{"$f":"VLOOKUP($A16,④工事経歴書の作成!$B$138:$R$396,5,FALSE)","v":0},{"$f":"VLOOKUP($A16,④工事経歴書の作成!$B$138:$R$396,2,FALSE)","v":0},{"$f":"VLOOKUP($A16,④工事経歴書の作成!$B$138:$R$396,6,FALSE)","v":0},{"$f":"VLOOKUP($A16,④工事経歴書の作成!$B$138:$R$396,7,FALSE)","v":0},{"$f":"VLOOKUP($A16,④工事経歴書の作成!$B$138:$R$396,8,FALSE)","v":0},{"$f":"VLOOKUP($A16,④工事経歴書の作成!$B$138:$R$396,9,FALSE)","v":0},{"$f":"VLOOKUP($A16,④工事経歴書の作成!$B$138:$R$396,8,FALSE)","v":0},{"$f":"VLOOKUP($A16,④工事経歴書の作成!$B$138:$R$396,11,FALSE)","v":0},"千円",{"$f":"VLOOKUP($A16,④工事経歴書の作成!$B$138:$R$396,13,FALSE)","v":0},"千円","令和",{"$f":"VLOOKUP($A16,④工事経歴書の作成!$B$138:$R$396,14,FALSE)","v":0},"年",{"$f":"VLOOKUP($A16,④工事経歴書の作成!$B$138:$R$396,15,FALSE)","v":0},"月","令和",{"$f":"VLOOKUP($A16,④工事経歴書の作成!$B$138:$R$396,16,FALSE)","v":0},"年",{"$f":"VLOOKUP($A16,④工事経歴書の作成!$B$138:$R$396,17,FALSE)","v":0},"月",null,null,null,{"$f":"IF(+L16=0,\"\",L16)","v":""},null,{"$f":"+N16","v":0},null,{"$f":"IF(AA17=$AF$12,L16,0)","v":0},null,{"$f":"IF(AA17=$AF$12,N16,0)","v":0}]
[null,null,null,null,null,null,null,null,null,null,null,{"$f":"VLOOKUP($A16,④工事経歴書の作成!$B$138:$R$396,10,FALSE)","v":0},null,{"$f":"VLOOKUP($A16,④工事経歴書の作成!$B$138:$R$396,12,FALSE)","v":0},null,null,null,null,null,null,null,null,null,null,null,null,{"$f":"IF(C16=$C$51,AA15,C16)","v":0},{"$f":"IF(+L17=0,\"\",L17)","v":""},null,{"$f":"+N17","v":0},null,{"$f":"IF(AA17=$AF$12,L17,0)","v":0},null,{"$f":"IF(AA17=$AF$12,N17,0)","v":0}]
[81,{"$f":"VLOOKUP($A18,④工事経歴書の作成!$B$138:$R$396,2,FALSE)","v":0},{"$f":"VLOOKUP($A18,④工事経歴書の作成!$B$138:$R$396,3,FALSE)","v":0},{"$f":"VLOOKUP($A18,④工事経歴書の作成!$B$138:$R$396,4,FALSE)","v":0},{"$f":"VLOOKUP($A18,④工事経歴書の作成!$B$138:$R$396,5,FALSE)","v":0},{"$f":"VLOOKUP($A18,④工事経歴書の作成!$B$138:$R$396,2,FALSE)","v":0},{"$f":"VLOOKUP($A18,④工事経歴書の作成!$B$138:$R$396,6,FALSE)","v":0},{"$f":"VLOOKUP($A18,④工事経歴書の作成!$B$138:$R$396,7,FALSE)","v":0},{"$f":"VLOOKUP($A18,④工事経歴書の作成!$B$138:$R$396,8,FALSE)","v":0},{"$f":"VLOOKUP($A18,④工事経歴書の作成!$B$138:$R$396,9,FALSE)","v":0},{"$f":"VLOOKUP($A18,④工事経歴書の作成!$B$138:$R$396,8,FALSE)","v":0},{"$f":"VLOOKUP($A18,④工事経歴書の作成!$B$138:$R$396,11,FALSE)","v":0},"千円",{"$f":"VLOOKUP($A18,④工事経歴書の作成!$B$138:$R$396,13,FALSE)","v":0},"千円","令和",{"$f":"VLOOKUP($A18,④工事経歴書の作成!$B$138:$R$396,14,FALSE)","v":0},"年",{"$f":"VLOOKUP($A18,④工事経歴書の作成!$B$138:$R$396,15,FALSE)","v":0},"月","令和",{"$f":"VLOOKUP($A18,④工事経歴書の作成!$B$138:$R$396,16,FALSE)","v":0},"年",{"$f":"VLOOKUP($A18,④工事経歴書の作成!$B$138:$R$396,17,FALSE)","v":0},"月",null,null,null,{"$f":"IF(+L18=0,\"\",L18)","v":""},null,{"$f":"+N18","v":0},null,{"$f":"IF(AA19=$AF$12,L18,0)","v":0},null,{"$f":"IF(AA19=$AF$12,N18,0)","v":0}]
[null,null,null,null,null,null,null,null,null,null,null,{"$f":"VLOOKUP($A18,④工事経歴書の作成!$B$138:$R$396,10,FALSE)","v":0},null,{"$f":"VLOOKUP($A18,④工事経歴書の作成!$B$138:$R$396,12,FALSE)","v":0},null,null,null,null,null,null,null,null,null,null,null,null,{"$f":"IF(C18=$C$51,AA17,C18)","v":0},{"$f":"IF(+L19=0,\"\",L19)","v":""},null,{"$f":"+N19","v":0},null,{"$f":"IF(AA19=$AF$12,L19,0)","v":0},null,{"$f":"IF(AA19=$AF$12,N19,0)","v":0}]
[82,{"$f":"VLOOKUP($A20,④工事経歴書の作成!$B$138:$R$396,2,FALSE)","v":0},{"$f":"VLOOKUP($A20,④工事経歴書の作成!$B$138:$R$396,3,FALSE)","v":0},{"$f":"VLOOKUP($A20,④工事経歴書の作成!$B$138:$R$396,4,FALSE)","v":0},{"$f":"VLOOKUP($A20,④工事経歴書の作成!$B$138:$R$396,5,FALSE)","v":0},{"$f":"VLOOKUP($A20,④工事経歴書の作成!$B$138:$R$396,2,FALSE)","v":0},{"$f":"VLOOKUP($A20,④工事経歴書の作成!$B$138:$R$396,6,FALSE)","v":0},{"$f":"VLOOKUP($A20,④工事経歴書の作成!$B$138:$R$396,7,FALSE)","v":0},{"$f":"VLOOKUP($A20,④工事経歴書の作成!$B$138:$R$396,8,FALSE)","v":0},{"$f":"VLOOKUP($A20,④工事経歴書の作成!$B$138:$R$396,9,FALSE)","v":0},{"$f":"VLOOKUP($A20,④工事経歴書の作成!$B$138:$R$396,8,FALSE)","v":0},{"$f":"VLOOKUP($A20,④工事経歴書の作成!$B$138:$R$396,11,FALSE)","v":0},"千円",{"$f":"VLOOKUP($A20,④工事経歴書の作成!$B$138:$R$396,13,FALSE)","v":0},"千円","令和",{"$f":"VLOOKUP($A20,④工事経歴書の作成!$B$138:$R$396,14,FALSE)","v":0},"年",{"$f":"VLOOKUP($A20,④工事経歴書の作成!$B$138:$R$396,15,FALSE)","v":0},"月","令和",{"$f":"VLOOKUP($A20,④工事経歴書の作成!$B$138:$R$396,16,FALSE)","v":0},"年",{"$f":"VLOOKUP($A20,④工事経歴書の作成!$B$138:$R$396,17,FALSE)","v":0},"月",null,null,null,{"$f":"IF(+L20=0,\"\",L20)","v":""},null,{"$f":"+N20","v":0},null,{"$f":"IF(AA21=$AF$12,L20,0)","v":0},null,{"$f":"IF(AA21=$AF$12,N20,0)","v":0}]
[null,null,null,null,null,null,null,null,null,null,null,{"$f":"VLOOKUP($A20,④工事経歴書の作成!$B$138:$R$396,10,FALSE)","v":0},null,{"$f":"VLOOKUP($A20,④工事経歴書の作成!$B$138:$R$396,12,FALSE)","v":0},null,null,null,null,null,null,null,null,null,null,null,null,{"$f":"IF(C20=$C$51,AA19,C20)","v":0},{"$f":"IF(+L21=0,\"\",L21)","v":""},null,{"$f":"+N21","v":0},null,{"$f":"IF(AA21=$AF$12,L21,0)","v":0},null,{"$f":"IF(AA21=$AF$12,N21,0)","v":0}]
[83,{"$f":"VLOOKUP($A22,④工事経歴書の作成!$B$138:$R$396,2,FALSE)","v":0},{"$f":"VLOOKUP($A22,④工事経歴書の作成!$B$138:$R$396,3,FALSE)","v":0},{"$f":"VLOOKUP($A22,④工事経歴書の作成!$B$138:$R$396,4,FALSE)","v":0},{"$f":"VLOOKUP($A22,④工事経歴書の作成!$B$138:$R$396,5,FALSE)","v":0},{"$f":"VLOOKUP($A22,④工事経歴書の作成!$B$138:$R$396,2,FALSE)","v":0},{"$f":"VLOOKUP($A22,④工事経歴書の作成!$B$138:$R$396,6,FALSE)","v":0},{"$f":"VLOOKUP($A22,④工事経歴書の作成!$B$138:$R$396,7,FALSE)","v":0},{"$f":"VLOOKUP($A22,④工事経歴書の作成!$B$138:$R$396,8,FALSE)","v":0},{"$f":"VLOOKUP($A22,④工事経歴書の作成!$B$138:$R$396,9,FALSE)","v":0},{"$f":"VLOOKUP($A22,④工事経歴書の作成!$B$138:$R$396,8,FALSE)","v":0},{"$f":"VLOOKUP($A22,④工事経歴書の作成!$B$138:$R$396,11,FALSE)","v":0},"千円",{"$f":"VLOOKUP($A22,④工事経歴書の作成!$B$138:$R$396,13,FALSE)","v":0},"千円","令和",{"$f":"VLOOKUP($A22,④工事経歴書の作成!$B$138:$R$396,14,FALSE)","v":0},"年",{"$f":"VLOOKUP($A22,④工事経歴書の作成!$B$138:$R$396,15,FALSE)","v":0},"月","令和",{"$f":"VLOOKUP($A22,④工事経歴書の作成!$B$138:$R$396,16,FALSE)","v":0},"年",{"$f":"VLOOKUP($A22,④工事経歴書の作成!$B$138:$R$396,17,FALSE)","v":0},"月",null,null,null,{"$f":"IF(+L22=0,\"\",L22)","v":""},null,{"$f":"+N22","v":0},null,{"$f":"IF(AA23=$AF$12,L22,0)","v":0},null,{"$f":"IF(AA23=$AF$12,N22,0)","v":0}]
[null,null,null,null,null,null,null,null,null,null,null,{"$f":"VLOOKUP($A22,④工事経歴書の作成!$B$138:$R$396,10,FALSE)","v":0},null,{"$f":"VLOOKUP($A22,④工事経歴書の作成!$B$138:$R$396,12,FALSE)","v":0},null,null,null,null,null,null,null,null,null,null,null,null,{"$f":"IF(C22=$C$51,AA21,C22)","v":0},{"$f":"IF(+L23=0,\"\",L23)","v":""},null,{"$f":"+N23","v":0},null,{"$f":"IF(AA23=$AF$12,L23,0)","v":0},null,{"$f":"IF(AA23=$AF$12,N23,0)","v":0}]
[84,{"$f":"VLOOKUP($A24,④工事経歴書の作成!$B$138:$R$396,2,FALSE)","v":0},{"$f":"VLOOKUP($A24,④工事経歴書の作成!$B$138:$R$396,3,FALSE)","v":0},{"$f":"VLOOKUP($A24,④工事経歴書の作成!$B$138:$R$396,4,FALSE)","v":0},{"$f":"VLOOKUP($A24,④工事経歴書の作成!$B$138:$R$396,5,FALSE)","v":0},{"$f":"VLOOKUP($A24,④工事経歴書の作成!$B$138:$R$396,2,FALSE)","v":0},{"$f":"VLOOKUP($A24,④工事経歴書の作成!$B$138:$R$396,6,FALSE)","v":0},{"$f":"VLOOKUP($A24,④工事経歴書の作成!$B$138:$R$396,7,FALSE)","v":0},{"$f":"VLOOKUP($A24,④工事経歴書の作成!$B$138:$R$396,8,FALSE)","v":0},{"$f":"VLOOKUP($A24,④工事経歴書の作成!$B$138:$R$396,9,FALSE)","v":0},{"$f":"VLOOKUP($A24,④工事経歴書の作成!$B$138:$R$396,8,FALSE)","v":0},{"$f":"VLOOKUP($A24,④工事経歴書の作成!$B$138:$R$396,11,FALSE)","v":0},"千円",{"$f":"VLOOKUP($A24,④工事経歴書の作成!$B$138:$R$396,13,FALSE)","v":0},"千円","令和",{"$f":"VLOOKUP($A24,④工事経歴書の作成!$B$138:$R$396,14,FALSE)","v":0},"年",{"$f":"VLOOKUP($A24,④工事経歴書の作成!$B$138:$R$396,15,FALSE)","v":0},"月","令和",{"$f":"VLOOKUP($A24,④工事経歴書の作成!$B$138:$R$396,16,FALSE)","v":0},"年",{"$f":"VLOOKUP($A24,④工事経歴書の作成!$B$138:$R$396,17,FALSE)","v":0},"月",null,null,null,{"$f":"IF(+L24=0,\"\",L24)","v":""},null,{"$f":"+N24","v":0},null,{"$f":"IF(AA25=$AF$12,L24,0)","v":0},null,{"$f":"IF(AA25=$AF$12,N24,0)","v":0}]
[null,null,null,null,null,null,null,null,null,null,null,{"$f":"VLOOKUP($A24,④工事経歴書の作成!$B$138:$R$396,10,FALSE)","v":0},null,{"$f":"VLOOKUP($A24,④工事経歴書の作成!$B$138:$R$396,12,FALSE)","v":0},null,null,null,null,null,null,null,null,null,null,null,null,{"$f":"IF(C24=$C$51,AA23,C24)","v":0},{"$f":"IF(+L25=0,\"\",L25)","v":""},null,{"$f":"+N25","v":0},null,{"$f":"IF(AA25=$AF$12,L25,0)","v":0},null,{"$f":"IF(AA25=$AF$12,N25,0)","v":0}]
[85,{"$f":"VLOOKUP($A26,④工事経歴書の作成!$B$138:$R$396,2,FALSE)","v":0},{"$f":"VLOOKUP($A26,④工事経歴書の作成!$B$138:$R$396,3,FALSE)","v":0},{"$f":"VLOOKUP($A26,④工事経歴書の作成!$B$138:$R$396,4,FALSE)","v":0},{"$f":"VLOOKUP($A26,④工事経歴書の作成!$B$138:$R$396,5,FALSE)","v":0},{"$f":"VLOOKUP($A26,④工事経歴書の作成!$B$138:$R$396,2,FALSE)","v":0},{"$f":"VLOOKUP($A26,④工事経歴書の作成!$B$138:$R$396,6,FALSE)","v":0},{"$f":"VLOOKUP($A26,④工事経歴書の作成!$B$138:$R$396,7,FALSE)","v":0},{"$f":"VLOOKUP($A26,④工事経歴書の作成!$B$138:$R$396,8,FALSE)","v":0},{"$f":"VLOOKUP($A26,④工事経歴書の作成!$B$138:$R$396,9,FALSE)","v":0},{"$f":"VLOOKUP($A26,④工事経歴書の作成!$B$138:$R$396,8,FALSE)","v":0},{"$f":"VLOOKUP($A26,④工事経歴書の作成!$B$138:$R$396,11,FALSE)","v":0},"千円",{"$f":"VLOOKUP($A26,④工事経歴書の作成!$B$138:$R$396,13,FALSE)","v":0},"千円","令和",{"$f":"VLOOKUP($A26,④工事経歴書の作成!$B$138:$R$396,14,FALSE)","v":0},"年",{"$f":"VLOOKUP($A26,④工事経歴書の作成!$B$138:$R$396,15,FALSE)","v":0},"月","令和",{"$f":"VLOOKUP($A26,④工事経歴書の作成!$B$138:$R$396,16,FALSE)","v":0},"年",{"$f":"VLOOKUP($A26,④工事経歴書の作成!$B$138:$R$396,17,FALSE)","v":0},"月",null,null,null,{"$f":"IF(+L26=0,\"\",L26)","v":""},null,{"$f":"+N26","v":0},null,{"$f":"IF(AA27=$AF$12,L26,0)","v":0},null,{"$f":"IF(AA27=$AF$12,N26,0)","v":0}]
[null,null,null,null,null,null,null,null,null,null,null,{"$f":"VLOOKUP($A26,④工事経歴書の作成!$B$138:$R$396,10,FALSE)","v":0},null,{"$f":"VLOOKUP($A26,④工事経歴書の作成!$B$138:$R$396,12,FALSE)","v":0},null,null,null,null,null,null,null,null,null,null,null,null,{"$f":"IF(C26=$C$51,AA25,C26)","v":0},{"$f":"IF(+L27=0,\"\",L27)","v":""},null,{"$f":"+N27","v":0},null,{"$f":"IF(AA27=$AF$12,L27,0)","v":0},null,{"$f":"IF(AA27=$AF$12,N27,0)","v":0}]
[86,{"$f":"VLOOKUP($A28,④工事経歴書の作成!$B$138:$R$396,2,FALSE)","v":0},{"$f":"VLOOKUP($A28,④工事経歴書の作成!$B$138:$R$396,3,FALSE)","v":0},{"$f":"VLOOKUP($A28,④工事経歴書の作成!$B$138:$R$396,4,FALSE)","v":0},{"$f":"VLOOKUP($A28,④工事経歴書の作成!$B$138:$R$396,5,FALSE)","v":0},{"$f":"VLOOKUP($A28,④工事経歴書の作成!$B$138:$R$396,2,FALSE)","v":0},{"$f":"VLOOKUP($A28,④工事経歴書の作成!$B$138:$R$396,6,FALSE)","v":0},{"$f":"VLOOKUP($A28,④工事経歴書の作成!$B$138:$R$396,7,FALSE)","v":0},{"$f":"VLOOKUP($A28,④工事経歴書の作成!$B$138:$R$396,8,FALSE)","v":0},{"$f":"VLOOKUP($A28,④工事経歴書の作成!$B$138:$R$396,9,FALSE)","v":0},{"$f":"VLOOKUP($A28,④工事経歴書の作成!$B$138:$R$396,8,FALSE)","v":0},{"$f":"VLOOKUP($A28,④工事経歴書の作成!$B$138:$R$396,11,FALSE)","v":0},"千円",{"$f":"VLOOKUP($A28,④工事経歴書の作成!$B$138:$R$396,13,FALSE)","v":0},"千円","令和",{"$f":"VLOOKUP($A28,④工事経歴書の作成!$B$138:$R$396,14,FALSE)","v":0},"年",{"$f":"VLOOKUP($A28,④工事経歴書の作成!$B$138:$R$396,15,FALSE)","v":0},"月","令和",{"$f":"VLOOKUP($A28,④工事経歴書の作成!$B$138:$R$396,16,FALSE)","v":0},"年",{"$f":"VLOOKUP($A28,④工事経歴書の作成!$B$138:$R$396,17,FALSE)","v":0},"月",null,null,null,{"$f":"IF(+L28=0,\"\",L28)","v":""},null,{"$f":"+N28","v":0},null,{"$f":"IF(AA29=$AF$12,L28,0)","v":0},null,{"$f":"IF(AA29=$AF$12,N28,0)","v":0}]
[null,null,null,null,null,null,null,null,null,null,null,{"$f":"VLOOKUP($A28,④工事経歴書の作成!$B$138:$R$396,10,FALSE)","v":0},null,{"$f":"VLOOKUP($A28,④工事経歴書の作成!$B$138:$R$396,12,FALSE)","v":0},null,null,null,null,null,null,null,null,null,null,null,null,{"$f":"IF(C28=$C$51,AA27,C28)","v":0},{"$f":"IF(+L29=0,\"\",L29)","v":""},null,{"$f":"+N29","v":0},null,{"$f":"IF(AA29=$AF$12,L29,0)","v":0},null,{"$f":"IF(AA29=$AF$12,N29,0)","v":0}]
[87,{"$f":"VLOOKUP($A30,④工事経歴書の作成!$B$138:$R$396,2,FALSE)","v":0},{"$f":"VLOOKUP($A30,④工事経歴書の作成!$B$138:$R$396,3,FALSE)","v":0},{"$f":"VLOOKUP($A30,④工事経歴書の作成!$B$138:$R$396,4,FALSE)","v":0},{"$f":"VLOOKUP($A30,④工事経歴書の作成!$B$138:$R$396,5,FALSE)","v":0},{"$f":"VLOOKUP($A30,④工事経歴書の作成!$B$138:$R$396,2,FALSE)","v":0},{"$f":"VLOOKUP($A30,④工事経歴書の作成!$B$138:$R$396,6,FALSE)","v":0},{"$f":"VLOOKUP($A30,④工事経歴書の作成!$B$138:$R$396,7,FALSE)","v":0},{"$f":"VLOOKUP($A30,④工事経歴書の作成!$B$138:$R$396,8,FALSE)","v":0},{"$f":"VLOOKUP($A30,④工事経歴書の作成!$B$138:$R$396,9,FALSE)","v":0},{"$f":"VLOOKUP($A30,④工事経歴書の作成!$B$138:$R$396,8,FALSE)","v":0},{"$f":"VLOOKUP($A30,④工事経歴書の作成!$B$138:$R$396,11,FALSE)","v":0},"千円",{"$f":"VLOOKUP($A30,④工事経歴書の作成!$B$138:$R$396,13,FALSE)","v":0},"千円","令和",{"$f":"VLOOKUP($A30,④工事経歴書の作成!$B$138:$R$396,14,FALSE)","v":0},"年",{"$f":"VLOOKUP($A30,④工事経歴書の作成!$B$138:$R$396,15,FALSE)","v":0},"月","令和",{"$f":"VLOOKUP($A30,④工事経歴書の作成!$B$138:$R$396,16,FALSE)","v":0},"年",{"$f":"VLOOKUP($A30,④工事経歴書の作成!$B$138:$R$396,17,FALSE)","v":0},"月",null,null,null,{"$f":"IF(+L30=0,\"\",L30)","v":""},null,{"$f":"+N30","v":0},null,{"$f":"IF(AA31=$AF$12,L30,0)","v":0},null,{"$f":"IF(AA31=$AF$12,N30,0)","v":0}]
[null,null,null,null,null,null,null,null,null,null,null,{"$f":"VLOOKUP($A30,④工事経歴書の作成!$B$138:$R$396,10,FALSE)","v":0},null,{"$f":"VLOOKUP($A30,④工事経歴書の作成!$B$138:$R$396,12,FALSE)","v":0},null,null,null,null,null,null,null,null,null,null,null,null,{"$f":"IF(C30=$C$51,AA29,C30)","v":0},{"$f":"IF(+L31=0,\"\",L31)","v":""},null,{"$f":"+N31","v":0},null,{"$f":"IF(AA31=$AF$12,L31,0)","v":0},null,{"$f":"IF(AA31=$AF$12,N31,0)","v":0}]
[88,{"$f":"VLOOKUP($A32,④工事経歴書の作成!$B$138:$R$396,2,FALSE)","v":0},{"$f":"VLOOKUP($A32,④工事経歴書の作成!$B$138:$R$396,3,FALSE)","v":0},{"$f":"VLOOKUP($A32,④工事経歴書の作成!$B$138:$R$396,4,FALSE)","v":0},{"$f":"VLOOKUP($A32,④工事経歴書の作成!$B$138:$R$396,5,FALSE)","v":0},{"$f":"VLOOKUP($A32,④工事経歴書の作成!$B$138:$R$396,2,FALSE)","v":0},{"$f":"VLOOKUP($A32,④工事経歴書の作成!$B$138:$R$396,6,FALSE)","v":0},{"$f":"VLOOKUP($A32,④工事経歴書の作成!$B$138:$R$396,7,FALSE)","v":0},{"$f":"VLOOKUP($A32,④工事経歴書の作成!$B$138:$R$396,8,FALSE)","v":0},{"$f":"VLOOKUP($A32,④工事経歴書の作成!$B$138:$R$396,9,FALSE)","v":0},{"$f":"VLOOKUP($A32,④工事経歴書の作成!$B$138:$R$396,8,FALSE)","v":0},{"$f":"VLOOKUP($A32,④工事経歴書の作成!$B$138:$R$396,11,FALSE)","v":0},"千円",{"$f":"VLOOKUP($A32,④工事経歴書の作成!$B$138:$R$396,13,FALSE)","v":0},"千円","令和",{"$f":"VLOOKUP($A32,④工事経歴書の作成!$B$138:$R$396,14,FALSE)","v":0},"年",{"$f":"VLOOKUP($A32,④工事経歴書の作成!$B$138:$R$396,15,FALSE)","v":0},"月","令和",{"$f":"VLOOKUP($A32,④工事経歴書の作成!$B$138:$R$396,16,FALSE)","v":0},"年",{"$f":"VLOOKUP($A32,④工事経歴書の作成!$B$138:$R$396,17,FALSE)","v":0},"月",null,null,null,{"$f":"IF(+L32=0,\"\",L32)","v":""},null,{"$f":"+N32","v":0},null,{"$f":"IF(AA33=$AF$12,L32,0)","v":0},null,{"$f":"IF(AA33=$AF$12,N32,0)","v":0}]
[null,null,null,null,null,null,null,null,null,null,null,{"$f":"VLOOKUP($A32,④工事経歴書の作成!$B$138:$R$396,10,FALSE)","v":0},null,{"$f":"VLOOKUP($A32,④工事経歴書の作成!$B$138:$R$396,12,FALSE)","v":0},null,null,null,null,null,null,null,null,null,null,null,null,{"$f":"IF(C32=$C$51,AA31,C32)","v":0},{"$f":"IF(+L33=0,\"\",L33)","v":""},null,{"$f":"+N33","v":0},null,{"$f":"IF(AA33=$AF$12,L33,0)","v":0},null,{"$f":"IF(AA33=$AF$12,N33,0)","v":0}]
[89,{"$f":"VLOOKUP($A34,④工事経歴書の作成!$B$138:$R$396,2,FALSE)","v":0},{"$f":"VLOOKUP($A34,④工事経歴書の作成!$B$138:$R$396,3,FALSE)","v":0},{"$f":"VLOOKUP($A34,④工事経歴書の作成!$B$138:$R$396,4,FALSE)","v":0},{"$f":"VLOOKUP($A34,④工事経歴書の作成!$B$138:$R$396,5,FALSE)","v":0},{"$f":"VLOOKUP($A34,④工事経歴書の作成!$B$138:$R$396,2,FALSE)","v":0},{"$f":"VLOOKUP($A34,④工事経歴書の作成!$B$138:$R$396,6,FALSE)","v":0},{"$f":"VLOOKUP($A34,④工事経歴書の作成!$B$138:$R$396,7,FALSE)","v":0},{"$f":"VLOOKUP($A34,④工事経歴書の作成!$B$138:$R$396,8,FALSE)","v":0},{"$f":"VLOOKUP($A34,④工事経歴書の作成!$B$138:$R$396,9,FALSE)","v":0},{"$f":"VLOOKUP($A34,④工事経歴書の作成!$B$138:$R$396,8,FALSE)","v":0},{"$f":"VLOOKUP($A34,④工事経歴書の作成!$B$138:$R$396,11,FALSE)","v":0},"千円",{"$f":"VLOOKUP($A34,④工事経歴書の作成!$B$138:$R$396,13,FALSE)","v":0},"千円","令和",{"$f":"VLOOKUP($A34,④工事経歴書の作成!$B$138:$R$396,14,FALSE)","v":0},"年",{"$f":"VLOOKUP($A34,④工事経歴書の作成!$B$138:$R$396,15,FALSE)","v":0},"月","令和",{"$f":"VLOOKUP($A34,④工事経歴書の作成!$B$138:$R$396,16,FALSE)","v":0},"年",{"$f":"VLOOKUP($A34,④工事経歴書の作成!$B$138:$R$396,17,FALSE)","v":0},"月",null,null,null,{"$f":"IF(+L34=0,\"\",L34)","v":""},null,{"$f":"+N34","v":0},null,{"$f":"IF(AA35=$AF$12,L34,0)","v":0},null,{"$f":"IF(AA35=$AF$12,N34,0)","v":0}]
[null,null,null,null,null,null,null,null,null,null,null,{"$f":"VLOOKUP($A34,④工事経歴書の作成!$B$138:$R$396,10,FALSE)","v":0},null,{"$f":"VLOOKUP($A34,④工事経歴書の作成!$B$138:$R$396,12,FALSE)","v":0},null,null,null,null,null,null,null,null,null,null,null,null,{"$f":"IF(C34=$C$51,AA33,C34)","v":0},{"$f":"IF(+L35=0,\"\",L35)","v":""},null,{"$f":"+N35","v":0},null,{"$f":"IF(AA35=$AF$12,L35,0)","v":0},null,{"$f":"IF(AA35=$AF$12,N35,0)","v":0}]
[90,{"$f":"VLOOKUP($A36,④工事経歴書の作成!$B$138:$R$396,2,FALSE)","v":0},{"$f":"VLOOKUP($A36,④工事経歴書の作成!$B$138:$R$396,3,FALSE)","v":0},{"$f":"VLOOKUP($A36,④工事経歴書の作成!$B$138:$R$396,4,FALSE)","v":0},{"$f":"VLOOKUP($A36,④工事経歴書の作成!$B$138:$R$396,5,FALSE)","v":0},{"$f":"VLOOKUP($A36,④工事経歴書の作成!$B$138:$R$396,2,FALSE)","v":0},{"$f":"VLOOKUP($A36,④工事経歴書の作成!$B$138:$R$396,6,FALSE)","v":0},{"$f":"VLOOKUP($A36,④工事経歴書の作成!$B$138:$R$396,7,FALSE)","v":0},{"$f":"VLOOKUP($A36,④工事経歴書の作成!$B$138:$R$396,8,FALSE)","v":0},{"$f":"VLOOKUP($A36,④工事経歴書の作成!$B$138:$R$396,9,FALSE)","v":0},{"$f":"VLOOKUP($A36,④工事経歴書の作成!$B$138:$R$396,8,FALSE)","v":0},{"$f":"VLOOKUP($A36,④工事経歴書の作成!$B$138:$R$396,11,FALSE)","v":0},"千円",{"$f":"VLOOKUP($A36,④工事経歴書の作成!$B$138:$R$396,13,FALSE)","v":0},"千円","令和",{"$f":"VLOOKUP($A36,④工事経歴書の作成!$B$138:$R$396,14,FALSE)","v":0},"年",{"$f":"VLOOKUP($A36,④工事経歴書の作成!$B$138:$R$396,15,FALSE)","v":0},"月","令和",{"$f":"VLOOKUP($A36,④工事経歴書の作成!$B$138:$R$396,16,FALSE)","v":0},"年",{"$f":"VLOOKUP($A36,④工事経歴書の作成!$B$138:$R$396,17,FALSE)","v":0},"月",null,null,null,{"$f":"IF(+L36=0,\"\",L36)","v":""},null,{"$f":"+N36","v":0},null,{"$f":"IF(AA37=$AF$12,L36,0)","v":0},null,{"$f":"IF(AA37=$AF$12,N36,0)","v":0}]
[null,null,null,null,null,null,null,null,null,null,null,{"$f":"VLOOKUP($A36,④工事経歴書の作成!$B$138:$R$396,10,FALSE)","v":0},null,{"$f":"VLOOKUP($A36,④工事経歴書の作成!$B$138:$R$396,12,FALSE)","v":0},null,null,null,null,null,null,null,null,null,null,null,null,{"$f":"IF(C36=$C$51,AA35,C36)","v":0},{"$f":"IF(+L37=0,\"\",L37)","v":""},null,{"$f":"+N37","v":0},null,{"$f":"IF(AA37=$AF$12,L37,0)","v":0},null,{"$f":"IF(AA37=$AF$12,N37,0)","v":0}]
[91,{"$f":"VLOOKUP($A38,④工事経歴書の作成!$B$138:$R$396,2,FALSE)","v":0},{"$f":"VLOOKUP($A38,④工事経歴書の作成!$B$138:$R$396,3,FALSE)","v":0},{"$f":"VLOOKUP($A38,④工事経歴書の作成!$B$138:$R$396,4,FALSE)","v":0},{"$f":"VLOOKUP($A38,④工事経歴書の作成!$B$138:$R$396,5,FALSE)","v":0},{"$f":"VLOOKUP($A38,④工事経歴書の作成!$B$138:$R$396,2,FALSE)","v":0},{"$f":"VLOOKUP($A38,④工事経歴書の作成!$B$138:$R$396,6,FALSE)","v":0},{"$f":"VLOOKUP($A38,④工事経歴書の作成!$B$138:$R$396,7,FALSE)","v":0},{"$f":"VLOOKUP($A38,④工事経歴書の作成!$B$138:$R$396,8,FALSE)","v":0},{"$f":"VLOOKUP($A38,④工事経歴書の作成!$B$138:$R$396,9,FALSE)","v":0},{"$f":"VLOOKUP($A38,④工事経歴書の作成!$B$138:$R$396,8,FALSE)","v":0},{"$f":"VLOOKUP($A38,④工事経歴書の作成!$B$138:$R$396,11,FALSE)","v":0},"千円",{"$f":"VLOOKUP($A38,④工事経歴書の作成!$B$138:$R$396,13,FALSE)","v":0},"千円","令和",{"$f":"VLOOKUP($A38,④工事経歴書の作成!$B$138:$R$396,14,FALSE)","v":0},"年",{"$f":"VLOOKUP($A38,④工事経歴書の作成!$B$138:$R$396,15,FALSE)","v":0},"月","令和",{"$f":"VLOOKUP($A38,④工事経歴書の作成!$B$138:$R$396,16,FALSE)","v":0},"年",{"$f":"VLOOKUP($A38,④工事経歴書の作成!$B$138:$R$396,17,FALSE)","v":0},"月",null,null,null,{"$f":"IF(+L38=0,\"\",L38)","v":""},null,{"$f":"+N38","v":0},null,{"$f":"IF(AA39=$AF$12,L38,0)","v":0},null,{"$f":"IF(AA39=$AF$12,N38,0)","v":0}]
[null,null,null,null,null,null,null,null,null,null,null,{"$f":"VLOOKUP($A38,④工事経歴書の作成!$B$138:$R$396,10,FALSE)","v":0},null,{"$f":"VLOOKUP($A38,④工事経歴書の作成!$B$138:$R$396,12,FALSE)","v":0},null,null,null,null,null,null,null,null,null,null,null,null,{"$f":"IF(C38=$C$51,AA37,C38)","v":0},{"$f":"IF(+L39=0,\"\",L39)","v":""},null,{"$f":"+N39","v":0},null,{"$f":"IF(AA39=$AF$12,L39,0)","v":0},null,{"$f":"IF(AA39=$AF$12,N39,0)","v":0}]
[null,null,null,null,null,null,null,null,null,null,null,null,null,null,null,null,null,null,null,null,null,null,null,null,null,null,null,{"$f":"SUM(AB14:AB39)","v":0},0,0,0,0,0,0,0]
[null,null,null,null,null,null,null,null,"小　　計",null,"件",null,"千円",null,"千円","うち　元請工事"]
[null,null,null,null,null,null,null,null,null,null,null,null,null,null,null,null,null,null,"千円",null,null,null,null,"千円"]
[]
[]
[null,null,null,null,null,null,null,null,"合　　計",null,"件",null,"千円",null,"千円","うち　元請工事"]
[null,null,null,null,null,null,null,null,null,null,null,null,null,null,null,null,null,null,"千円",null,null,null,null,"千円"]
[]
[]
[null,null,null,null,null,null,null,"小計を","小計",{"$f":"COUNT(AC14:AC39)","v":0},"件",{"$f":"+AC40","v":0},"千円",{"$f":"+AE40","v":0},"千円",{"$f":"+AG40","v":0},null,null,"千円",null,{"$f":"+AI40","v":0},null,null,"千円"]
[null,null,null,null,null,null,null,"転記しましょう",null,{"$f":"COUNT(AB14:AB39)","v":0},null,{"$f":"+AB40","v":0},null,{"$f":"+AD40","v":0},null,{"$f":"+AF40","v":0},null,null,null,null,{"$f":"+AH40","v":0}]
[null,null,null,null,null,null,null,"操作方法によっては算式がこわれる場合があります。この数値は参考程度としていただき、必ず電卓で検算してください。"]
[]
[null,null,null,null,null,null,null,null,"ﾚ"]

{"sheet":"8","index":15,"n_rows":53,"n_cols":35,"rows_kept":53,"cut":false,"hidden":false,"merged":[[4,1,4,24],[40,12,42,12],[40,14,42,14],[11,9,12,10],[13,9,14,10],[41,13,42,13],[37,16,38,16],[37,17,38,17],[37,18,38,18],[37,6,38,6],[37,12,38,12],[35,19,36,19],[41,23,42,24],[42,20,42,22],[37,23,38,23],[35,15,36,15],[35,16,36,16],[37,14,38,14],[41,18,42,19],[37,15,38,15],[37,7,38,7],[33,12,34,12],[33,7,34,7],[33,8,34,8],[35,0,36,0],[37,8,38,8],[35,20,36,20],[33,20,34,20],[35,23,36,23],[37,24,38,24],[33,22,34,22],[33,23,34,23],[33,24,34,24],[35,24,36,24],[33,21,34,21],[33,0,34,0],[33,18,34,18],[33,19,34,19],[37,19,38,19],[33,14,34,14],[35,18,36,18],[35,14,36,14],[37,0,38,0],[37,1,38,1],[37,2,38,2],[37,3,38,3],[37,4,38,5],[35,1,36,1],[35,2,36,2],[35,3,36,3],[35,4,36,5],[35,6,36,6],[31,19,32,19],[33,16,34,16],[33,17,34,17],[31,20,32,20],[33,1,34,1],[33,2,34,2],[33,3,34,3],[33,4,34,5],[31,7,32,7],[35,7,36,7],[44,8,46,8],[44,10,46,10],[44,12,46,12],[45,9,46,9],[45,11,46,11],[46,15,46,17],[31,21,32,21],[31,14,32,14],[31,15,32,15],[31,16,32,16],[31,17,32,17],[31,18,32,18],[35,21,36,21],[40,8,42,8],[41,9,42,9],[35,9,36,10],[41,11,42,11],[35,8,36,8],[37,9,38,10],[40,10,42,10],[35,12,36,12],[33,6,34,6],[27,0,28,0],[27,1,28,1],[27,2,28,2],[27,3,28,3],[27,4,28,5],[27,6,28,6],[25,12,26,12],[31,12,32,12],[27,9,28,10],[27,12,28,12],[27,8,28,8],[29,8,30,8],[31,8,32,8],[29,7,30,7],[27,7,28,7],[31,6,32,6],[29,0,30,0],[29,4,30,5],[29,2,30,2],[31,0,32,0],[31,1,32,1],[31,2,32,2],[31,3,32,3],[31,4,32,5],[29,6,30,6],[29,3,30,3],[23,24,24,24],[23,7,24,7],[23,23,24,23],[23,8,24,8],[23,14,24,14],[25,0,26,0],[25,1,26,1],[25,2,26,2],[25,3,26,3],[25,4,26,5],[25,14,26,14],[25,9,26,10],[23,0,24,0],[23,1,24,1],[23,2,24,2],[23,3,24,3],[23,4,24,5],[23,6,24,6],[25,6,26,6],[23,12,24,12],[25,7,26,7],[25,8,26,8],[23,20,24,20],[23,21,24,21],[23,16,24,16],[25,21,26,21],[29,16,30,16],[21,8,22,8],[21,20,22,20],[21,21,22,21],[21,12,22,12],[21,14,22,14],[21,15,22,15],[21,16,22,16],[21,19,22,19],[21,18,22,18],[29,17,30,17],[29,20,30,20],[29,12,30,12],[29,14,30,14],[27,16,28,16],[27,14,28,14],[27,15,28,15],[23,22,24,22],[29,15,30,15],[29,19,30,19],[17,19,18,19],[19,12,20,12],[19,14,20,14],[19,15,20,15],[17,0,18,0],[17,1,18,1],[17,2,18,2],[17,3,18,3],[17,4,18,5],[17,6,18,6],[19,8,20,8],[17,14,18,14],[17,15,18,15],[17,16,18,16],[17,9,18,10],[19,16,20,16],[21,4,22,5],[21,6,22,6],[21,7,22,7],[27,22,28,22],[27,21,28,21],[21,24,22,24],[25,24,26,24],[46,20,46,22],[37,20,38,20],[37,21,38,21],[23,19,24,19],[17,20,18,20],[17,21,18,21],[19,0,20,0],[19,1,20,1],[19,2,20,2],[19,3,20,3],[19,4,20,5],[19,17,20,17],[17,7,18,7],[17,8,18,8],[19,20,20,20],[19,6,20,6],[19,7,20,7],[21,0,22,0],[21,1,22,1],[21,2,22,2],[21,3,22,3],[21,9,22,10],[48,18,49,19],[49,20,49,22],[48,20,48,22],[27,23,28,23],[25,23,26,23],[45,13,46,13],[45,15,45,17],[44,14,46,14],[44,15,44,24],[37,22,38,22],[45,18,46,19],[45,20,45,22],[45,23,46,24],[33,15,34,15],[35,22,36,22],[19,21,20,21],[21,22,22,22],[17,18,18,18],[15,17,16,17],[15,18,16,18],[19,19,20,19],[48,8,49,8],[48,10,49,10],[48,12,49,12],[48,14,49,14],[49,15,49,17],[48,15,48,17],[25,15,26,15],[25,16,26,16],[35,17,36,17],[42,15,42,17],[41,15,41,17],[40,15,40,24],[25,22,26,22],[41,20,41,22],[27,19,28,19],[29,21,30,21],[48,23,49,24],[33,9,34,10],[11,31,11,34],[19,9,20,10],[23,9,24,10],[29,9,30,10],[31,9,32,10],[27,24,28,24],[29,22,30,22],[29,23,30,23],[29,24,30,24],[31,23,32,23],[31,22,32,22],[11,27,11,30],[31,24,32,24],[27,20,28,20],[17,12,18,12],[25,20,26,20],[21,23,22,23],[15,24,16,24],[17,22,18,22],[17,23,18,23],[17,24,18,24],[19,24,20,24],[19,22,20,22],[19,23,20,23],[13,24,14,24],[13,19,14,19],[15,20,16,20],[15,21,16,21],[15,22,16,22],[15,23,16,23],[15,19,16,19],[8,1,12,1],[13,1,14,1],[13,16,14,16],[8,15,8,24],[9,15,12,19],[9,20,10,24],[11,20,12,24],[13,21,14,21],[13,22,14,22],[13,23,14,23],[15,4,16,5],[15,6,16,6],[15,1,16,1],[15,2,16,2],[15,3,16,3],[15,8,16,8],[15,14,16,14],[10,8,10,10],[11,8,12,8],[9,7,12,7],[13,7,14,7],[15,0,16,0],[29,18,30,18],[19,18,20,18],[13,12,14,12],[15,7,16,7],[13,8,14,8],[13,15,14,15],[13,17,14,17],[13,18,14,18],[17,17,18,17],[25,18,26,18],[23,17,24,17],[23,18,24,18],[21,17,22,17],[27,17,28,17],[25,17,26,17],[15,15,16,15],[15,16,16,16],[29,1,30,1],[23,15,24,15],[0,1,0,16],[50,7,50,24],[13,6,14,6],[13,0,14,0],[13,4,14,5],[13,20,14,20],[13,2,14,2],[13,3,14,3],[25,19,26,19],[27,18,28,18],[6,2,6,4],[8,6,12,6],[8,2,12,2],[8,11,8,13],[8,4,12,5],[15,12,16,12],[15,9,16,10],[8,3,12,3],[10,13,10,14],[11,13,11,14],[8,7,8,10],[12,13,12,14],[13,14,14,14],[9,8,9,10]]}
[null,"このシートは編集できません。\n「④工事経歴書の作成」のシートの「編集加工できる工事経歴書の作成」のボタンを押してください。\n自由に編集加工できるシートができあがります。"]
[]
[]
[null,"様式第二号 （第二条、第十三条の二、第十三条の三、第十九条の八関係）",null,null,null,null,null,null,null,null,null,null,null,null,null,null,null,null,null,null,null,null,null,null,"（用紙Ａ4）"]
[null,"工　 事　 経　 歴　 書"]
[]
[null,"（建設工事の種類）",{"$f":"+①業種!D13","v":"土木一式"},null,null,"工事","（　　税込　　・","　　税抜　　）"]
[]
[null,"注　　文　　者","元請\n又は\n下請\nの別","JV\nの\n別","工　　　事　　　名",null,"工事現場の\nある都道府\n県及び市区\n町  村  名","配　置　技　術　者",null,null,null,"請　負　代　金　の　額",null,null,null,"工　　　　期"]
[null,null,null,null,null,null,null,"氏　　名","主任技術者又は監理技術者",null,null,null,null,"うち、",null,"着　工　年　月",null,null,null,null,"　完成又は"]
[null,null,null,null,null,null,null,null,"の別（該当箇所にﾚ印を記載)",null,null,null,null,"　　　・ＰＣ"]
[null,null,null,null,null,null,null,null,"主任技術者","監理技術者",null,null,null,"　　　・法面処理",null,null,null,null,null,null,"　完成予定年月",null,null,null,null,null,null,"全体",null,null,null,"元請"]
[null,null,null,null,null,null,null,null,null,null,null,null,null,"　　　・鋼橋上部",null,null,null,null,null,null,null,null,null,null,null,null,null,"下段","上段","うち、下段","うち、上段","下段","上段","うち、下段","うち、上段"]
[92,{"$f":"VLOOKUP($A14,④工事経歴書の作成!$B$138:$R$396,2,FALSE)","v":0},{"$f":"VLOOKUP($A14,④工事経歴書の作成!$B$138:$R$396,3,FALSE)","v":0},{"$f":"VLOOKUP($A14,④工事経歴書の作成!$B$138:$R$396,4,FALSE)","v":0},{"$f":"VLOOKUP($A14,④工事経歴書の作成!$B$138:$R$396,5,FALSE)","v":0},{"$f":"VLOOKUP($A14,④工事経歴書の作成!$B$138:$R$396,2,FALSE)","v":0},{"$f":"VLOOKUP($A14,④工事経歴書の作成!$B$138:$R$396,6,FALSE)","v":0},{"$f":"VLOOKUP($A14,④工事経歴書の作成!$B$138:$R$396,7,FALSE)","v":0},{"$f":"VLOOKUP($A14,④工事経歴書の作成!$B$138:$R$396,8,FALSE)","v":0},{"$f":"VLOOKUP($A14,④工事経歴書の作成!$B$138:$R$396,9,FALSE)","v":0},{"$f":"VLOOKUP($A14,④工事経歴書の作成!$B$138:$R$396,8,FALSE)","v":0},{"$f":"VLOOKUP($A14,④工事経歴書の作成!$B$138:$R$396,11,FALSE)","v":0},"千円",{"$f":"VLOOKUP($A14,④工事経歴書の作成!$B$138:$R$396,13,FALSE)","v":0},"千円","令和",{"$f":"VLOOKUP($A14,④工事経歴書の作成!$B$138:$R$396,14,FALSE)","v":0},"年",{"$f":"VLOOKUP($A14,④工事経歴書の作成!$B$138:$R$396,15,FALSE)","v":0},"月","令和",{"$f":"VLOOKUP($A14,④工事経歴書の作成!$B$138:$R$396,16,FALSE)","v":0},"年",{"$f":"VLOOKUP($A14,④工事経歴書の作成!$B$138:$R$396,17,FALSE)","v":0},"月",null,null,null,{"$f":"IF(+L14=0,\"\",L14)","v":""},null,{"$f":"+N14","v":0},null,{"$f":"IF(AA15=$AF$12,L14,0)","v":0},null,{"$f":"IF(AA15=$AF$12,N14,0)","v":0}]
[null,null,null,null,null,null,null,null,null,null,null,{"$f":"VLOOKUP($A14,④工事経歴書の作成!$B$138:$R$396,10,FALSE)","v":0},null,{"$f":"VLOOKUP($A14,④工事経歴書の作成!$B$138:$R$396,12,FALSE)","v":0},null,null,null,null,null,null,null,null,null,null,null,null,{"$f":"IF(C14=$C$51,AA13,C14)","v":0},{"$f":"IF(+L15=0,\"\",L15)","v":""},null,{"$f":"+N15","v":0},null,{"$f":"IF(AA15=$AF$12,L15,0)","v":0},null,{"$f":"IF(AA15=$AF$12,N15,0)","v":0}]
[93,{"$f":"VLOOKUP($A16,④工事経歴書の作成!$B$138:$R$396,2,FALSE)","v":0},{"$f":"VLOOKUP($A16,④工事経歴書の作成!$B$138:$R$396,3,FALSE)","v":0},{"$f":"VLOOKUP($A16,④工事経歴書の作成!$B$138:$R$396,4,FALSE)","v":0},{"$f":"VLOOKUP($A16,④工事経歴書の作成!$B$138:$R$396,5,FALSE)","v":0},{"$f":"VLOOKUP($A16,④工事経歴書の作成!$B$138:$R$396,2,FALSE)","v":0},{"$f":"VLOOKUP($A16,④工事経歴書の作成!$B$138:$R$396,6,FALSE)","v":0},{"$f":"VLOOKUP($A16,④工事経歴書の作成!$B$138:$R$396,7,FALSE)","v":0},{"$f":"VLOOKUP($A16,④工事経歴書の作成!$B$138:$R$396,8,FALSE)","v":0},{"$f":"VLOOKUP($A16,④工事経歴書の作成!$B$138:$R$396,9,FALSE)","v":0},{"$f":"VLOOKUP($A16,④工事経歴書の作成!$B$138:$R$396,8,FALSE)","v":0},{"$f":"VLOOKUP($A16,④工事経歴書の作成!$B$138:$R$396,11,FALSE)","v":0},"千円",{"$f":"VLOOKUP($A16,④工事経歴書の作成!$B$138:$R$396,13,FALSE)","v":0},"千円","令和",{"$f":"VLOOKUP($A16,④工事経歴書の作成!$B$138:$R$396,14,FALSE)","v":0},"年",{"$f":"VLOOKUP($A16,④工事経歴書の作成!$B$138:$R$396,15,FALSE)","v":0},"月","令和",{"$f":"VLOOKUP($A16,④工事経歴書の作成!$B$138:$R$396,16,FALSE)","v":0},"年",{"$f":"VLOOKUP($A16,④工事経歴書の作成!$B$138:$R$396,17,FALSE)","v":0},"月",null,null,null,{"$f":"IF(+L16=0,\"\",L16)","v":""},null,{"$f":"+N16","v":0},null,{"$f":"IF(AA17=$AF$12,L16,0)","v":0},null,{"$f":"IF(AA17=$AF$12,N16,0)","v":0}]
[null,null,null,null,null,null,null,null,null,null,null,{"$f":"VLOOKUP($A16,④工事経歴書の作成!$B$138:$R$396,10,FALSE)","v":0},null,{"$f":"VLOOKUP($A16,④工事経歴書の作成!$B$138:$R$396,12,FALSE)","v":0},null,null,null,null,null,null,null,null,null,null,null,null,{"$f":"IF(C16=$C$51,AA15,C16)","v":0},{"$f":"IF(+L17=0,\"\",L17)","v":""},null,{"$f":"+N17","v":0},null,{"$f":"IF(AA17=$AF$12,L17,0)","v":0},null,{"$f":"IF(AA17=$AF$12,N17,0)","v":0}]
[94,{"$f":"VLOOKUP($A18,④工事経歴書の作成!$B$138:$R$396,2,FALSE)","v":0},{"$f":"VLOOKUP($A18,④工事経歴書の作成!$B$138:$R$396,3,FALSE)","v":0},{"$f":"VLOOKUP($A18,④工事経歴書の作成!$B$138:$R$396,4,FALSE)","v":0},{"$f":"VLOOKUP($A18,④工事経歴書の作成!$B$138:$R$396,5,FALSE)","v":0},{"$f":"VLOOKUP($A18,④工事経歴書の作成!$B$138:$R$396,2,FALSE)","v":0},{"$f":"VLOOKUP($A18,④工事経歴書の作成!$B$138:$R$396,6,FALSE)","v":0},{"$f":"VLOOKUP($A18,④工事経歴書の作成!$B$138:$R$396,7,FALSE)","v":0},{"$f":"VLOOKUP($A18,④工事経歴書の作成!$B$138:$R$396,8,FALSE)","v":0},{"$f":"VLOOKUP($A18,④工事経歴書の作成!$B$138:$R$396,9,FALSE)","v":0},{"$f":"VLOOKUP($A18,④工事経歴書の作成!$B$138:$R$396,8,FALSE)","v":0},{"$f":"VLOOKUP($A18,④工事経歴書の作成!$B$138:$R$396,11,FALSE)","v":0},"千円",{"$f":"VLOOKUP($A18,④工事経歴書の作成!$B$138:$R$396,13,FALSE)","v":0},"千円","令和",{"$f":"VLOOKUP($A18,④工事経歴書の作成!$B$138:$R$396,14,FALSE)","v":0},"年",{"$f":"VLOOKUP($A18,④工事経歴書の作成!$B$138:$R$396,15,FALSE)","v":0},"月","令和",{"$f":"VLOOKUP($A18,④工事経歴書の作成!$B$138:$R$396,16,FALSE)","v":0},"年",{"$f":"VLOOKUP($A18,④工事経歴書の作成!$B$138:$R$396,17,FALSE)","v":0},"月",null,null,null,{"$f":"IF(+L18=0,\"\",L18)","v":""},null,{"$f":"+N18","v":0},null,{"$f":"IF(AA19=$AF$12,L18,0)","v":0},null,{"$f":"IF(AA19=$AF$12,N18,0)","v":0}]
[null,null,null,null,null,null,null,null,null,null,null,{"$f":"VLOOKUP($A18,④工事経歴書の作成!$B$138:$R$396,10,FALSE)","v":0},null,{"$f":"VLOOKUP($A18,④工事経歴書の作成!$B$138:$R$396,12,FALSE)","v":0},null,null,null,null,null,null,null,null,null,null,null,null,{"$f":"IF(C18=$C$51,AA17,C18)","v":0},{"$f":"IF(+L19=0,\"\",L19)","v":""},null,{"$f":"+N19","v":0},null,{"$f":"IF(AA19=$AF$12,L19,0)","v":0},null,{"$f":"IF(AA19=$AF$12,N19,0)","v":0}]
[95,{"$f":"VLOOKUP($A20,④工事経歴書の作成!$B$138:$R$396,2,FALSE)","v":0},{"$f":"VLOOKUP($A20,④工事経歴書の作成!$B$138:$R$396,3,FALSE)","v":0},{"$f":"VLOOKUP($A20,④工事経歴書の作成!$B$138:$R$396,4,FALSE)","v":0},{"$f":"VLOOKUP($A20,④工事経歴書の作成!$B$138:$R$396,5,FALSE)","v":0},{"$f":"VLOOKUP($A20,④工事経歴書の作成!$B$138:$R$396,2,FALSE)","v":0},{"$f":"VLOOKUP($A20,④工事経歴書の作成!$B$138:$R$396,6,FALSE)","v":0},{"$f":"VLOOKUP($A20,④工事経歴書の作成!$B$138:$R$396,7,FALSE)","v":0},{"$f":"VLOOKUP($A20,④工事経歴書の作成!$B$138:$R$396,8,FALSE)","v":0},{"$f":"VLOOKUP($A20,④工事経歴書の作成!$B$138:$R$396,9,FALSE)","v":0},{"$f":"VLOOKUP($A20,④工事経歴書の作成!$B$138:$R$396,8,FALSE)","v":0},{"$f":"VLOOKUP($A20,④工事経歴書の作成!$B$138:$R$396,11,FALSE)","v":0},"千円",{"$f":"VLOOKUP($A20,④工事経歴書の作成!$B$138:$R$396,13,FALSE)","v":0},"千円","令和",{"$f":"VLOOKUP($A20,④工事経歴書の作成!$B$138:$R$396,14,FALSE)","v":0},"年",{"$f":"VLOOKUP($A20,④工事経歴書の作成!$B$138:$R$396,15,FALSE)","v":0},"月","令和",{"$f":"VLOOKUP($A20,④工事経歴書の作成!$B$138:$R$396,16,FALSE)","v":0},"年",{"$f":"VLOOKUP($A20,④工事経歴書の作成!$B$138:$R$396,17,FALSE)","v":0},"月",null,null,null,{"$f":"IF(+L20=0,\"\",L20)","v":""},null,{"$f":"+N20","v":0},null,{"$f":"IF(AA21=$AF$12,L20,0)","v":0},null,{"$f":"IF(AA21=$AF$12,N20,0)","v":0}]
[null,null,null,null,null,null,null,null,null,null,null,{"$f":"VLOOKUP($A20,④工事経歴書の作成!$B$138:$R$396,10,FALSE)","v":0},null,{"$f":"VLOOKUP($A20,④工事経歴書の作成!$B$138:$R$396,12,FALSE)","v":0},null,null,null,null,null,null,null,null,null,null,null,null,{"$f":"IF(C20=$C$51,AA19,C20)","v":0},{"$f":"IF(+L21=0,\"\",L21)","v":""},null,{"$f":"+N21","v":0},null,{"$f":"IF(AA21=$AF$12,L21,0)","v":0},null,{"$f":"IF(AA21=$AF$12,N21,0)","v":0}]
[96,{"$f":"VLOOKUP($A22,④工事経歴書の作成!$B$138:$R$396,2,FALSE)","v":0},{"$f":"VLOOKUP($A22,④工事経歴書の作成!$B$138:$R$396,3,FALSE)","v":0},{"$f":"VLOOKUP($A22,④工事経歴書の作成!$B$138:$R$396,4,FALSE)","v":0},{"$f":"VLOOKUP($A22,④工事経歴書の作成!$B$138:$R$396,5,FALSE)","v":0},{"$f":"VLOOKUP($A22,④工事経歴書の作成!$B$138:$R$396,2,FALSE)","v":0},{"$f":"VLOOKUP($A22,④工事経歴書の作成!$B$138:$R$396,6,FALSE)","v":0},{"$f":"VLOOKUP($A22,④工事経歴書の作成!$B$138:$R$396,7,FALSE)","v":0},{"$f":"VLOOKUP($A22,④工事経歴書の作成!$B$138:$R$396,8,FALSE)","v":0},{"$f":"VLOOKUP($A22,④工事経歴書の作成!$B$138:$R$396,9,FALSE)","v":0},{"$f":"VLOOKUP($A22,④工事経歴書の作成!$B$138:$R$396,8,FALSE)","v":0},{"$f":"VLOOKUP($A22,④工事経歴書の作成!$B$138:$R$396,11,FALSE)","v":0},"千円",{"$f":"VLOOKUP($A22,④工事経歴書の作成!$B$138:$R$396,13,FALSE)","v":0},"千円","令和",{"$f":"VLOOKUP($A22,④工事経歴書の作成!$B$138:$R$396,14,FALSE)","v":0},"年",{"$f":"VLOOKUP($A22,④工事経歴書の作成!$B$138:$R$396,15,FALSE)","v":0},"月","令和",{"$f":"VLOOKUP($A22,④工事経歴書の作成!$B$138:$R$396,16,FALSE)","v":0},"年",{"$f":"VLOOKUP($A22,④工事経歴書の作成!$B$138:$R$396,17,FALSE)","v":0},"月",null,null,null,{"$f":"IF(+L22=0,\"\",L22)","v":""},null,{"$f":"+N22","v":0},null,{"$f":"IF(AA23=$AF$12,L22,0)","v":0},null,{"$f":"IF(AA23=$AF$12,N22,0)","v":0}]
[null,null,null,null,null,null,null,null,null,null,null,{"$f":"VLOOKUP($A22,④工事経歴書の作成!$B$138:$R$396,10,FALSE)","v":0},null,{"$f":"VLOOKUP($A22,④工事経歴書の作成!$B$138:$R$396,12,FALSE)","v":0},null,null,null,null,null,null,null,null,null,null,null,null,{"$f":"IF(C22=$C$51,AA21,C22)","v":0},{"$f":"IF(+L23=0,\"\",L23)","v":""},null,{"$f":"+N23","v":0},null,{"$f":"IF(AA23=$AF$12,L23,0)","v":0},null,{"$f":"IF(AA23=$AF$12,N23,0)","v":0}]
[97,{"$f":"VLOOKUP($A24,④工事経歴書の作成!$B$138:$R$396,2,FALSE)","v":0},{"$f":"VLOOKUP($A24,④工事経歴書の作成!$B$138:$R$396,3,FALSE)","v":0},{"$f":"VLOOKUP($A24,④工事経歴書の作成!$B$138:$R$396,4,FALSE)","v":0},{"$f":"VLOOKUP($A24,④工事経歴書の作成!$B$138:$R$396,5,FALSE)","v":0},{"$f":"VLOOKUP($A24,④工事経歴書の作成!$B$138:$R$396,2,FALSE)","v":0},{"$f":"VLOOKUP($A24,④工事経歴書の作成!$B$138:$R$396,6,FALSE)","v":0},{"$f":"VLOOKUP($A24,④工事経歴書の作成!$B$138:$R$396,7,FALSE)","v":0},{"$f":"VLOOKUP($A24,④工事経歴書の作成!$B$138:$R$396,8,FALSE)","v":0},{"$f":"VLOOKUP($A24,④工事経歴書の作成!$B$138:$R$396,9,FALSE)","v":0},{"$f":"VLOOKUP($A24,④工事経歴書の作成!$B$138:$R$396,8,FALSE)","v":0},{"$f":"VLOOKUP($A24,④工事経歴書の作成!$B$138:$R$396,11,FALSE)","v":0},"千円",{"$f":"VLOOKUP($A24,④工事経歴書の作成!$B$138:$R$396,13,FALSE)","v":0},"千円","令和",{"$f":"VLOOKUP($A24,④工事経歴書の作成!$B$138:$R$396,14,FALSE)","v":0},"年",{"$f":"VLOOKUP($A24,④工事経歴書の作成!$B$138:$R$396,15,FALSE)","v":0},"月","令和",{"$f":"VLOOKUP($A24,④工事経歴書の作成!$B$138:$R$396,16,FALSE)","v":0},"年",{"$f":"VLOOKUP($A24,④工事経歴書の作成!$B$138:$R$396,17,FALSE)","v":0},"月",null,null,null,{"$f":"IF(+L24=0,\"\",L24)","v":""},null,{"$f":"+N24","v":0},null,{"$f":"IF(AA25=$AF$12,L24,0)","v":0},null,{"$f":"IF(AA25=$AF$12,N24,0)","v":0}]
[null,null,null,null,null,null,null,null,null,null,null,{"$f":"VLOOKUP($A24,④工事経歴書の作成!$B$138:$R$396,10,FALSE)","v":0},null,{"$f":"VLOOKUP($A24,④工事経歴書の作成!$B$138:$R$396,12,FALSE)","v":0},null,null,null,null,null,null,null,null,null,null,null,null,{"$f":"IF(C24=$C$51,AA23,C24)","v":0},{"$f":"IF(+L25=0,\"\",L25)","v":""},null,{"$f":"+N25","v":0},null,{"$f":"IF(AA25=$AF$12,L25,0)","v":0},null,{"$f":"IF(AA25=$AF$12,N25,0)","v":0}]
[98,{"$f":"VLOOKUP($A26,④工事経歴書の作成!$B$138:$R$396,2,FALSE)","v":0},{"$f":"VLOOKUP($A26,④工事経歴書の作成!$B$138:$R$396,3,FALSE)","v":0},{"$f":"VLOOKUP($A26,④工事経歴書の作成!$B$138:$R$396,4,FALSE)","v":0},{"$f":"VLOOKUP($A26,④工事経歴書の作成!$B$138:$R$396,5,FALSE)","v":0},{"$f":"VLOOKUP($A26,④工事経歴書の作成!$B$138:$R$396,2,FALSE)","v":0},{"$f":"VLOOKUP($A26,④工事経歴書の作成!$B$138:$R$396,6,FALSE)","v":0},{"$f":"VLOOKUP($A26,④工事経歴書の作成!$B$138:$R$396,7,FALSE)","v":0},{"$f":"VLOOKUP($A26,④工事経歴書の作成!$B$138:$R$396,8,FALSE)","v":0},{"$f":"VLOOKUP($A26,④工事経歴書の作成!$B$138:$R$396,9,FALSE)","v":0},{"$f":"VLOOKUP($A26,④工事経歴書の作成!$B$138:$R$396,8,FALSE)","v":0},{"$f":"VLOOKUP($A26,④工事経歴書の作成!$B$138:$R$396,11,FALSE)","v":0},"千円",{"$f":"VLOOKUP($A26,④工事経歴書の作成!$B$138:$R$396,13,FALSE)","v":0},"千円","令和",{"$f":"VLOOKUP($A26,④工事経歴書の作成!$B$138:$R$396,14,FALSE)","v":0},"年",{"$f":"VLOOKUP($A26,④工事経歴書の作成!$B$138:$R$396,15,FALSE)","v":0},"月","令和",{"$f":"VLOOKUP($A26,④工事経歴書の作成!$B$138:$R$396,16,FALSE)","v":0},"年",{"$f":"VLOOKUP($A26,④工事経歴書の作成!$B$138:$R$396,17,FALSE)","v":0},"月",null,null,null,{"$f":"IF(+L26=0,\"\",L26)","v":""},null,{"$f":"+N26","v":0},null,{"$f":"IF(AA27=$AF$12,L26,0)","v":0},null,{"$f":"IF(AA27=$AF$12,N26,0)","v":0}]
[null,null,null,null,null,null,null,null,null,null,null,{"$f":"VLOOKUP($A26,④工事経歴書の作成!$B$138:$R$396,10,FALSE)","v":0},null,{"$f":"VLOOKUP($A26,④工事経歴書の作成!$B$138:$R$396,12,FALSE)","v":0},null,null,null,null,null,null,null,null,null,null,null,null,{"$f":"IF(C26=$C$51,AA25,C26)","v":0},{"$f":"IF(+L27=0,\"\",L27)","v":""},null,{"$f":"+N27","v":0},null,{"$f":"IF(AA27=$AF$12,L27,0)","v":0},null,{"$f":"IF(AA27=$AF$12,N27,0)","v":0}]
[99,{"$f":"VLOOKUP($A28,④工事経歴書の作成!$B$138:$R$396,2,FALSE)","v":0},{"$f":"VLOOKUP($A28,④工事経歴書の作成!$B$138:$R$396,3,FALSE)","v":0},{"$f":"VLOOKUP($A28,④工事経歴書の作成!$B$138:$R$396,4,FALSE)","v":0},{"$f":"VLOOKUP($A28,④工事経歴書の作成!$B$138:$R$396,5,FALSE)","v":0},{"$f":"VLOOKUP($A28,④工事経歴書の作成!$B$138:$R$396,2,FALSE)","v":0},{"$f":"VLOOKUP($A28,④工事経歴書の作成!$B$138:$R$396,6,FALSE)","v":0},{"$f":"VLOOKUP($A28,④工事経歴書の作成!$B$138:$R$396,7,FALSE)","v":0},{"$f":"VLOOKUP($A28,④工事経歴書の作成!$B$138:$R$396,8,FALSE)","v":0},{"$f":"VLOOKUP($A28,④工事経歴書の作成!$B$138:$R$396,9,FALSE)","v":0},{"$f":"VLOOKUP($A28,④工事経歴書の作成!$B$138:$R$396,8,FALSE)","v":0},{"$f":"VLOOKUP($A28,④工事経歴書の作成!$B$138:$R$396,11,FALSE)","v":0},"千円",{"$f":"VLOOKUP($A28,④工事経歴書の作成!$B$138:$R$396,13,FALSE)","v":0},"千円","令和",{"$f":"VLOOKUP($A28,④工事経歴書の作成!$B$138:$R$396,14,FALSE)","v":0},"年",{"$f":"VLOOKUP($A28,④工事経歴書の作成!$B$138:$R$396,15,FALSE)","v":0},"月","令和",{"$f":"VLOOKUP($A28,④工事経歴書の作成!$B$138:$R$396,16,FALSE)","v":0},"年",{"$f":"VLOOKUP($A28,④工事経歴書の作成!$B$138:$R$396,17,FALSE)","v":0},"月",null,null,null,{"$f":"IF(+L28=0,\"\",L28)","v":""},null,{"$f":"+N28","v":0},null,{"$f":"IF(AA29=$AF$12,L28,0)","v":0},null,{"$f":"IF(AA29=$AF$12,N28,0)","v":0}]
[null,null,null,null,null,null,null,null,null,null,null,{"$f":"VLOOKUP($A28,④工事経歴書の作成!$B$138:$R$396,10,FALSE)","v":0},null,{"$f":"VLOOKUP($A28,④工事経歴書の作成!$B$138:$R$396,12,FALSE)","v":0},null,null,null,null,null,null,null,null,null,null,null,null,{"$f":"IF(C28=$C$51,AA27,C28)","v":0},{"$f":"IF(+L29=0,\"\",L29)","v":""},null,{"$f":"+N29","v":0},null,{"$f":"IF(AA29=$AF$12,L29,0)","v":0},null,{"$f":"IF(AA29=$AF$12,N29,0)","v":0}]
[100,{"$f":"VLOOKUP($A30,④工事経歴書の作成!$B$138:$R$396,2,FALSE)","v":0},{"$f":"VLOOKUP($A30,④工事経歴書の作成!$B$138:$R$396,3,FALSE)","v":0},{"$f":"VLOOKUP($A30,④工事経歴書の作成!$B$138:$R$396,4,FALSE)","v":0},{"$f":"VLOOKUP($A30,④工事経歴書の作成!$B$138:$R$396,5,FALSE)","v":0},{"$f":"VLOOKUP($A30,④工事経歴書の作成!$B$138:$R$396,2,FALSE)","v":0},{"$f":"VLOOKUP($A30,④工事経歴書の作成!$B$138:$R$396,6,FALSE)","v":0},{"$f":"VLOOKUP($A30,④工事経歴書の作成!$B$138:$R$396,7,FALSE)","v":0},{"$f":"VLOOKUP($A30,④工事経歴書の作成!$B$138:$R$396,8,FALSE)","v":0},{"$f":"VLOOKUP($A30,④工事経歴書の作成!$B$138:$R$396,9,FALSE)","v":0},{"$f":"VLOOKUP($A30,④工事経歴書の作成!$B$138:$R$396,8,FALSE)","v":0},{"$f":"VLOOKUP($A30,④工事経歴書の作成!$B$138:$R$396,11,FALSE)","v":0},"千円",{"$f":"VLOOKUP($A30,④工事経歴書の作成!$B$138:$R$396,13,FALSE)","v":0},"千円","令和",{"$f":"VLOOKUP($A30,④工事経歴書の作成!$B$138:$R$396,14,FALSE)","v":0},"年",{"$f":"VLOOKUP($A30,④工事経歴書の作成!$B$138:$R$396,15,FALSE)","v":0},"月","令和",{"$f":"VLOOKUP($A30,④工事経歴書の作成!$B$138:$R$396,16,FALSE)","v":0},"年",{"$f":"VLOOKUP($A30,④工事経歴書の作成!$B$138:$R$396,17,FALSE)","v":0},"月",null,null,null,{"$f":"IF(+L30=0,\"\",L30)","v":""},null,{"$f":"+N30","v":0},null,{"$f":"IF(AA31=$AF$12,L30,0)","v":0},null,{"$f":"IF(AA31=$AF$12,N30,0)","v":0}]
[null,null,null,null,null,null,null,null,null,null,null,{"$f":"VLOOKUP($A30,④工事経歴書の作成!$B$138:$R$396,10,FALSE)","v":0},null,{"$f":"VLOOKUP($A30,④工事経歴書の作成!$B$138:$R$396,12,FALSE)","v":0},null,null,null,null,null,null,null,null,null,null,null,null,{"$f":"IF(C30=$C$51,AA29,C30)","v":0},{"$f":"IF(+L31=0,\"\",L31)","v":""},null,{"$f":"+N31","v":0},null,{"$f":"IF(AA31=$AF$12,L31,0)","v":0},null,{"$f":"IF(AA31=$AF$12,N31,0)","v":0}]
[101,{"$f":"VLOOKUP($A32,④工事経歴書の作成!$B$138:$R$396,2,FALSE)","v":0},{"$f":"VLOOKUP($A32,④工事経歴書の作成!$B$138:$R$396,3,FALSE)","v":0},{"$f":"VLOOKUP($A32,④工事経歴書の作成!$B$138:$R$396,4,FALSE)","v":0},{"$f":"VLOOKUP($A32,④工事経歴書の作成!$B$138:$R$396,5,FALSE)","v":0},{"$f":"VLOOKUP($A32,④工事経歴書の作成!$B$138:$R$396,2,FALSE)","v":0},{"$f":"VLOOKUP($A32,④工事経歴書の作成!$B$138:$R$396,6,FALSE)","v":0},{"$f":"VLOOKUP($A32,④工事経歴書の作成!$B$138:$R$396,7,FALSE)","v":0},{"$f":"VLOOKUP($A32,④工事経歴書の作成!$B$138:$R$396,8,FALSE)","v":0},{"$f":"VLOOKUP($A32,④工事経歴書の作成!$B$138:$R$396,9,FALSE)","v":0},{"$f":"VLOOKUP($A32,④工事経歴書の作成!$B$138:$R$396,8,FALSE)","v":0},{"$f":"VLOOKUP($A32,④工事経歴書の作成!$B$138:$R$396,11,FALSE)","v":0},"千円",{"$f":"VLOOKUP($A32,④工事経歴書の作成!$B$138:$R$396,13,FALSE)","v":0},"千円","令和",{"$f":"VLOOKUP($A32,④工事経歴書の作成!$B$138:$R$396,14,FALSE)","v":0},"年",{"$f":"VLOOKUP($A32,④工事経歴書の作成!$B$138:$R$396,15,FALSE)","v":0},"月","令和",{"$f":"VLOOKUP($A32,④工事経歴書の作成!$B$138:$R$396,16,FALSE)","v":0},"年",{"$f":"VLOOKUP($A32,④工事経歴書の作成!$B$138:$R$396,17,FALSE)","v":0},"月",null,null,null,{"$f":"IF(+L32=0,\"\",L32)","v":""},null,{"$f":"+N32","v":0},null,{"$f":"IF(AA33=$AF$12,L32,0)","v":0},null,{"$f":"IF(AA33=$AF$12,N32,0)","v":0}]
[null,null,null,null,null,null,null,null,null,null,null,{"$f":"VLOOKUP($A32,④工事経歴書の作成!$B$138:$R$396,10,FALSE)","v":0},null,{"$f":"VLOOKUP($A32,④工事経歴書の作成!$B$138:$R$396,12,FALSE)","v":0},null,null,null,null,null,null,null,null,null,null,null,null,{"$f":"IF(C32=$C$51,AA31,C32)","v":0},{"$f":"IF(+L33=0,\"\",L33)","v":""},null,{"$f":"+N33","v":0},null,{"$f":"IF(AA33=$AF$12,L33,0)","v":0},null,{"$f":"IF(AA33=$AF$12,N33,0)","v":0}]
[102,{"$f":"VLOOKUP($A34,④工事経歴書の作成!$B$138:$R$396,2,FALSE)","v":0},{"$f":"VLOOKUP($A34,④工事経歴書の作成!$B$138:$R$396,3,FALSE)","v":0},{"$f":"VLOOKUP($A34,④工事経歴書の作成!$B$138:$R$396,4,FALSE)","v":0},{"$f":"VLOOKUP($A34,④工事経歴書の作成!$B$138:$R$396,5,FALSE)","v":0},{"$f":"VLOOKUP($A34,④工事経歴書の作成!$B$138:$R$396,2,FALSE)","v":0},{"$f":"VLOOKUP($A34,④工事経歴書の作成!$B$138:$R$396,6,FALSE)","v":0},{"$f":"VLOOKUP($A34,④工事経歴書の作成!$B$138:$R$396,7,FALSE)","v":0},{"$f":"VLOOKUP($A34,④工事経歴書の作成!$B$138:$R$396,8,FALSE)","v":0},{"$f":"VLOOKUP($A34,④工事経歴書の作成!$B$138:$R$396,9,FALSE)","v":0},{"$f":"VLOOKUP($A34,④工事経歴書の作成!$B$138:$R$396,8,FALSE)","v":0},{"$f":"VLOOKUP($A34,④工事経歴書の作成!$B$138:$R$396,11,FALSE)","v":0},"千円",{"$f":"VLOOKUP($A34,④工事経歴書の作成!$B$138:$R$396,13,FALSE)","v":0},"千円","令和",{"$f":"VLOOKUP($A34,④工事経歴書の作成!$B$138:$R$396,14,FALSE)","v":0},"年",{"$f":"VLOOKUP($A34,④工事経歴書の作成!$B$138:$R$396,15,FALSE)","v":0},"月","令和",{"$f":"VLOOKUP($A34,④工事経歴書の作成!$B$138:$R$396,16,FALSE)","v":0},"年",{"$f":"VLOOKUP($A34,④工事経歴書の作成!$B$138:$R$396,17,FALSE)","v":0},"月",null,null,null,{"$f":"IF(+L34=0,\"\",L34)","v":""},null,{"$f":"+N34","v":0},null,{"$f":"IF(AA35=$AF$12,L34,0)","v":0},null,{"$f":"IF(AA35=$AF$12,N34,0)","v":0}]
[null,null,null,null,null,null,null,null,null,null,null,{"$f":"VLOOKUP($A34,④工事経歴書の作成!$B$138:$R$396,10,FALSE)","v":0},null,{"$f":"VLOOKUP($A34,④工事経歴書の作成!$B$138:$R$396,12,FALSE)","v":0},null,null,null,null,null,null,null,null,null,null,null,null,{"$f":"IF(C34=$C$51,AA33,C34)","v":0},{"$f":"IF(+L35=0,\"\",L35)","v":""},null,{"$f":"+N35","v":0},null,{"$f":"IF(AA35=$AF$12,L35,0)","v":0},null,{"$f":"IF(AA35=$AF$12,N35,0)","v":0}]
[103,{"$f":"VLOOKUP($A36,④工事経歴書の作成!$B$138:$R$396,2,FALSE)","v":0},{"$f":"VLOOKUP($A36,④工事経歴書の作成!$B$138:$R$396,3,FALSE)","v":0},{"$f":"VLOOKUP($A36,④工事経歴書の作成!$B$138:$R$396,4,FALSE)","v":0},{"$f":"VLOOKUP($A36,④工事経歴書の作成!$B$138:$R$396,5,FALSE)","v":0},{"$f":"VLOOKUP($A36,④工事経歴書の作成!$B$138:$R$396,2,FALSE)","v":0},{"$f":"VLOOKUP($A36,④工事経歴書の作成!$B$138:$R$396,6,FALSE)","v":0},{"$f":"VLOOKUP($A36,④工事経歴書の作成!$B$138:$R$396,7,FALSE)","v":0},{"$f":"VLOOKUP($A36,④工事経歴書の作成!$B$138:$R$396,8,FALSE)","v":0},{"$f":"VLOOKUP($A36,④工事経歴書の作成!$B$138:$R$396,9,FALSE)","v":0},{"$f":"VLOOKUP($A36,④工事経歴書の作成!$B$138:$R$396,8,FALSE)","v":0},{"$f":"VLOOKUP($A36,④工事経歴書の作成!$B$138:$R$396,11,FALSE)","v":0},"千円",{"$f":"VLOOKUP($A36,④工事経歴書の作成!$B$138:$R$396,13,FALSE)","v":0},"千円","令和",{"$f":"VLOOKUP($A36,④工事経歴書の作成!$B$138:$R$396,14,FALSE)","v":0},"年",{"$f":"VLOOKUP($A36,④工事経歴書の作成!$B$138:$R$396,15,FALSE)","v":0},"月","令和",{"$f":"VLOOKUP($A36,④工事経歴書の作成!$B$138:$R$396,16,FALSE)","v":0},"年",{"$f":"VLOOKUP($A36,④工事経歴書の作成!$B$138:$R$396,17,FALSE)","v":0},"月",null,null,null,{"$f":"IF(+L36=0,\"\",L36)","v":""},null,{"$f":"+N36","v":0},null,{"$f":"IF(AA37=$AF$12,L36,0)","v":0},null,{"$f":"IF(AA37=$AF$12,N36,0)","v":0}]
[null,null,null,null,null,null,null,null,null,null,null,{"$f":"VLOOKUP($A36,④工事経歴書の作成!$B$138:$R$396,10,FALSE)","v":0},null,{"$f":"VLOOKUP($A36,④工事経歴書の作成!$B$138:$R$396,12,FALSE)","v":0},null,null,null,null,null,null,null,null,null,null,null,null,{"$f":"IF(C36=$C$51,AA35,C36)","v":0},{"$f":"IF(+L37=0,\"\",L37)","v":""},null,{"$f":"+N37","v":0},null,{"$f":"IF(AA37=$AF$12,L37,0)","v":0},null,{"$f":"IF(AA37=$AF$12,N37,0)","v":0}]
[104,{"$f":"VLOOKUP($A38,④工事経歴書の作成!$B$138:$R$396,2,FALSE)","v":0},{"$f":"VLOOKUP($A38,④工事経歴書の作成!$B$138:$R$396,3,FALSE)","v":0},{"$f":"VLOOKUP($A38,④工事経歴書の作成!$B$138:$R$396,4,FALSE)","v":0},{"$f":"VLOOKUP($A38,④工事経歴書の作成!$B$138:$R$396,5,FALSE)","v":0},{"$f":"VLOOKUP($A38,④工事経歴書の作成!$B$138:$R$396,2,FALSE)","v":0},{"$f":"VLOOKUP($A38,④工事経歴書の作成!$B$138:$R$396,6,FALSE)","v":0},{"$f":"VLOOKUP($A38,④工事経歴書の作成!$B$138:$R$396,7,FALSE)","v":0},{"$f":"VLOOKUP($A38,④工事経歴書の作成!$B$138:$R$396,8,FALSE)","v":0},{"$f":"VLOOKUP($A38,④工事経歴書の作成!$B$138:$R$396,9,FALSE)","v":0},{"$f":"VLOOKUP($A38,④工事経歴書の作成!$B$138:$R$396,8,FALSE)","v":0},{"$f":"VLOOKUP($A38,④工事経歴書の作成!$B$138:$R$396,11,FALSE)","v":0},"千円",{"$f":"VLOOKUP($A38,④工事経歴書の作成!$B$138:$R$396,13,FALSE)","v":0},"千円","令和",{"$f":"VLOOKUP($A38,④工事経歴書の作成!$B$138:$R$396,14,FALSE)","v":0},"年",{"$f":"VLOOKUP($A38,④工事経歴書の作成!$B$138:$R$396,15,FALSE)","v":0},"月","令和",{"$f":"VLOOKUP($A38,④工事経歴書の作成!$B$138:$R$396,16,FALSE)","v":0},"年",{"$f":"VLOOKUP($A38,④工事経歴書の作成!$B$138:$R$396,17,FALSE)","v":0},"月",null,null,null,{"$f":"IF(+L38=0,\"\",L38)","v":""},null,{"$f":"+N38","v":0},null,{"$f":"IF(AA39=$AF$12,L38,0)","v":0},null,{"$f":"IF(AA39=$AF$12,N38,0)","v":0}]
[null,null,null,null,null,null,null,null,null,null,null,{"$f":"VLOOKUP($A38,④工事経歴書の作成!$B$138:$R$396,10,FALSE)","v":0},null,{"$f":"VLOOKUP($A38,④工事経歴書の作成!$B$138:$R$396,12,FALSE)","v":0},null,null,null,null,null,null,null,null,null,null,null,null,{"$f":"IF(C38=$C$51,AA37,C38)","v":0},{"$f":"IF(+L39=0,\"\",L39)","v":""},null,{"$f":"+N39","v":0},null,{"$f":"IF(AA39=$AF$12,L39,0)","v":0},null,{"$f":"IF(AA39=$AF$12,N39,0)","v":0}]
[null,null,null,null,null,null,null,null,null,null,null,null,null,null,null,null,null,null,null,null,null,null,null,null,null,null,null,{"$f":"SUM(AB14:AB39)","v":0},0,0,0,0,0,0,0]
[null,null,null,null,null,null,null,null,"小　　計",null,"件",null,"千円",null,"千円","うち　元請工事"]
[null,null,null,null,null,null,null,null,null,null,null,null,null,null,null,null,null,null,"千円",null,null,null,null,"千円"]
[]
[]
[null,null,null,null,null,null,null,null,"合　　計",null,"件",null,"千円",null,"千円","うち　元請工事"]
[null,null,null,null,null,null,null,null,null,null,null,null,null,null,null,null,null,null,"千円",null,null,null,null,"千円"]
[]
[]
[null,null,null,null,null,null,null,"小計を","小計",{"$f":"COUNT(AC14:AC39)","v":0},"件",{"$f":"+AC40","v":0},"千円",{"$f":"+AE40","v":0},"千円",{"$f":"+AG40","v":0},null,null,"千円",null,{"$f":"+AI40","v":0},null,null,"千円"]
[null,null,null,null,null,null,null,"転記しましょう",null,{"$f":"COUNT(AB14:AB39)","v":0},null,{"$f":"+AB40","v":0},null,{"$f":"+AD40","v":0},null,{"$f":"+AF40","v":0},null,null,null,null,{"$f":"+AH40","v":0}]
[null,null,null,null,null,null,null,"操作方法によっては算式がこわれる場合があります。この数値は参考程度としていただき、必ず電卓で検算してください。"]
[]
[null,null,null,null,null,null,null,null,"ﾚ"]

{"sheet":"9","index":16,"n_rows":53,"n_cols":35,"rows_kept":53,"cut":false,"hidden":false,"merged":[[8,1,12,1],[13,1,14,1],[8,15,8,24],[9,15,12,19],[9,20,10,24],[11,20,12,24],[13,19,14,19],[13,16,14,16],[13,17,14,17],[13,8,14,8],[9,8,9,10],[10,8,10,10],[11,8,12,8],[13,7,14,7],[9,7,12,7],[13,22,14,22],[13,23,14,23],[15,15,16,15],[12,13,12,14],[13,12,14,12],[13,14,14,14],[13,15,14,15],[0,1,0,16],[50,7,50,24],[13,6,14,6],[13,0,14,0],[13,4,14,5],[13,20,14,20],[13,2,14,2],[13,3,14,3],[25,19,26,19],[27,18,28,18],[6,2,6,4],[8,6,12,6],[8,2,12,2],[8,11,8,13],[8,4,12,5],[8,3,12,3],[10,13,10,14],[11,13,11,14],[8,7,8,10],[25,24,26,24],[25,22,26,22],[25,23,26,23],[23,24,24,24],[21,23,22,23],[17,22,18,22],[17,23,18,23],[19,23,20,23],[23,23,24,23],[17,24,18,24],[19,24,20,24],[21,24,22,24],[23,22,24,22],[19,21,20,21],[19,22,20,22],[13,24,14,24],[15,24,16,24],[15,23,16,23],[13,21,14,21],[15,4,16,5],[15,6,16,6],[15,8,16,8],[15,12,16,12],[15,7,16,7],[15,19,16,19],[15,17,16,17],[15,14,16,14],[15,18,16,18],[15,16,16,16],[15,20,16,20],[13,18,14,18],[17,17,18,17],[15,21,16,21],[15,22,16,22],[17,18,18,18],[17,4,18,5],[17,6,18,6],[19,17,20,17],[19,20,20,20],[19,18,20,18],[19,19,20,19],[23,16,24,16],[23,17,24,17],[23,18,24,18],[21,17,22,17],[19,16,20,16],[23,20,24,20],[21,18,22,18],[23,21,24,21],[23,14,24,14],[35,18,36,18],[35,17,36,17],[29,19,30,19],[27,19,28,19],[23,19,24,19],[25,18,26,18],[25,15,26,15],[25,16,26,16],[27,16,28,16],[27,17,28,17],[29,18,30,18],[25,17,26,17],[29,15,30,15],[23,15,24,15],[11,31,11,34],[19,9,20,10],[23,9,24,10],[29,9,30,10],[31,9,32,10],[33,9,34,10],[17,19,18,19],[17,20,18,20],[17,16,18,16],[29,24,30,24],[33,16,34,16],[33,17,34,17],[29,17,30,17],[31,16,32,16],[31,17,32,17],[29,23,30,23],[17,21,18,21],[21,21,22,21],[21,22,22,22],[21,20,22,20],[27,23,28,23],[25,20,26,20],[25,21,26,21],[27,24,28,24],[48,18,49,19],[49,20,49,22],[48,20,48,22],[37,20,38,20],[37,21,38,21],[37,22,38,22],[35,20,36,20],[48,23,49,24],[11,27,11,30],[21,19,22,19],[29,20,30,20],[29,21,30,21],[33,18,34,18],[33,19,34,19],[33,20,34,20],[41,20,41,22],[41,23,42,24],[42,20,42,22],[37,23,38,23],[37,24,38,24],[29,22,30,22],[27,20,28,20],[27,21,28,21],[27,22,28,22],[46,15,46,17],[31,22,32,22],[29,16,30,16],[25,0,26,0],[25,1,26,1],[25,2,26,2],[25,3,26,3],[44,10,46,10],[44,12,46,12],[45,9,46,9],[45,11,46,11],[44,14,46,14],[44,15,44,24],[45,13,46,13],[45,15,45,17],[45,18,46,19],[45,20,45,22],[45,23,46,24],[46,20,46,22],[37,7,38,7],[25,7,26,7],[25,8,26,8],[29,7,30,7],[29,8,30,8],[15,0,16,0],[15,1,16,1],[15,2,16,2],[15,3,16,3],[17,0,18,0],[17,1,18,1],[17,2,18,2],[17,3,18,3],[35,0,36,0],[21,0,22,0],[21,1,22,1],[21,2,22,2],[21,3,22,3],[23,0,24,0],[23,1,24,1],[23,2,24,2],[29,0,30,0],[29,1,30,1],[29,2,30,2],[29,3,30,3],[33,0,34,0],[33,2,34,2],[33,1,34,1],[33,3,34,3],[17,7,18,7],[17,8,18,8],[25,4,26,5],[19,6,20,6],[19,7,20,7],[23,4,24,5],[21,4,22,5],[17,14,18,14],[17,15,18,15],[19,8,20,8],[19,12,20,12],[19,14,20,14],[19,15,20,15],[17,12,18,12],[21,9,22,10],[25,12,26,12],[21,6,22,6],[21,7,22,7],[21,8,22,8],[48,12,49,12],[48,14,49,14],[49,15,49,17],[48,15,48,17],[21,12,22,12],[19,0,20,0],[19,1,20,1],[19,2,20,2],[19,3,20,3],[19,4,20,5],[23,3,24,3],[23,6,24,6],[23,7,24,7],[23,8,24,8],[48,8,49,8],[48,10,49,10],[25,6,26,6],[27,7,28,7],[27,8,28,8],[40,8,42,8],[44,8,46,8],[21,14,22,14],[21,15,22,15],[21,16,22,16],[37,8,38,8],[23,12,24,12],[25,14,26,14],[25,9,26,10],[29,12,30,12],[35,8,36,8],[27,6,28,6],[31,8,32,8],[33,8,34,8],[37,9,38,10],[41,9,42,9],[41,11,42,11],[35,14,36,14],[33,12,34,12],[27,12,28,12],[27,14,28,14],[35,9,36,10],[29,14,30,14],[35,12,36,12],[27,9,28,10],[31,12,32,12],[33,14,34,14],[37,14,38,14],[40,10,42,10],[31,0,32,0],[31,1,32,1],[31,2,32,2],[31,3,32,3],[31,4,32,5],[31,21,32,21],[27,0,28,0],[31,19,32,19],[31,20,32,20],[27,1,28,1],[27,2,28,2],[27,3,28,3],[31,14,32,14],[31,15,32,15],[31,6,32,6],[31,7,32,7],[29,4,30,5],[29,6,30,6],[27,4,28,5],[27,15,28,15],[33,4,34,5],[33,6,34,6],[31,18,32,18],[33,7,34,7],[33,24,34,24],[33,21,34,21],[33,15,34,15],[35,1,36,1],[35,2,36,2],[35,3,36,3],[35,4,36,5],[35,6,36,6],[35,7,36,7],[35,15,36,15],[35,16,36,16],[35,19,36,19],[33,22,34,22],[33,23,34,23],[35,24,36,24],[35,21,36,21],[35,22,36,22],[35,23,36,23],[31,23,32,23],[31,24,32,24],[37,0,38,0],[37,1,38,1],[37,2,38,2],[37,3,38,3],[37,4,38,5],[37,6,38,6],[4,1,4,24],[40,12,42,12],[40,14,42,14],[11,9,12,10],[13,9,14,10],[15,9,16,10],[17,9,18,10],[40,15,40,24],[41,18,42,19],[37,12,38,12],[41,13,42,13],[37,16,38,16],[37,17,38,17],[37,18,38,18],[37,19,38,19],[42,15,42,17],[41,15,41,17],[37,15,38,15]]}
[null,"このシートは編集できません。\n「④工事経歴書の作成」のシートの「編集加工できる工事経歴書の作成」のボタンを押してください。\n自由に編集加工できるシートができあがります。"]
[]
[]
[null,"様式第二号 （第二条、第十三条の二、第十三条の三、第十九条の八関係）",null,null,null,null,null,null,null,null,null,null,null,null,null,null,null,null,null,null,null,null,null,null,"（用紙Ａ4）"]
[null,"工　 事　 経　 歴　 書"]
[]
[null,"（建設工事の種類）",{"$f":"+①業種!D13","v":"土木一式"},null,null,"工事","（　　税込　　・","　　税抜　　）"]
[]
[null,"注　　文　　者","元請\n又は\n下請\nの別","JV\nの\n別","工　　　事　　　名",null,"工事現場の\nある都道府\n県及び市区\n町  村  名","配　置　技　術　者",null,null,null,"請　負　代　金　の　額",null,null,null,"工　　　　期"]
[null,null,null,null,null,null,null,"氏　　名","主任技術者又は監理技術者",null,null,null,null,"うち、",null,"着　工　年　月",null,null,null,null,"　完成又は"]
[null,null,null,null,null,null,null,null,"の別（該当箇所にﾚ印を記載)",null,null,null,null,"　　　・ＰＣ"]
[null,null,null,null,null,null,null,null,"主任技術者","監理技術者",null,null,null,"　　　・法面処理",null,null,null,null,null,null,"　完成予定年月",null,null,null,null,null,null,"全体",null,null,null,"元請"]
[null,null,null,null,null,null,null,null,null,null,null,null,null,"　　　・鋼橋上部",null,null,null,null,null,null,null,null,null,null,null,null,null,"下段","上段","うち、下段","うち、上段","下段","上段","うち、下段","うち、上段"]
[105,{"$f":"VLOOKUP($A14,④工事経歴書の作成!$B$138:$R$396,2,FALSE)","v":0},{"$f":"VLOOKUP($A14,④工事経歴書の作成!$B$138:$R$396,3,FALSE)","v":0},{"$f":"VLOOKUP($A14,④工事経歴書の作成!$B$138:$R$396,4,FALSE)","v":0},{"$f":"VLOOKUP($A14,④工事経歴書の作成!$B$138:$R$396,5,FALSE)","v":0},{"$f":"VLOOKUP($A14,④工事経歴書の作成!$B$138:$R$396,2,FALSE)","v":0},{"$f":"VLOOKUP($A14,④工事経歴書の作成!$B$138:$R$396,6,FALSE)","v":0},{"$f":"VLOOKUP($A14,④工事経歴書の作成!$B$138:$R$396,7,FALSE)","v":0},{"$f":"VLOOKUP($A14,④工事経歴書の作成!$B$138:$R$396,8,FALSE)","v":0},{"$f":"VLOOKUP($A14,④工事経歴書の作成!$B$138:$R$396,9,FALSE)","v":0},{"$f":"VLOOKUP($A14,④工事経歴書の作成!$B$138:$R$396,8,FALSE)","v":0},{"$f":"VLOOKUP($A14,④工事経歴書の作成!$B$138:$R$396,11,FALSE)","v":0},"千円",{"$f":"VLOOKUP($A14,④工事経歴書の作成!$B$138:$R$396,13,FALSE)","v":0},"千円","令和",{"$f":"VLOOKUP($A14,④工事経歴書の作成!$B$138:$R$396,14,FALSE)","v":0},"年",{"$f":"VLOOKUP($A14,④工事経歴書の作成!$B$138:$R$396,15,FALSE)","v":0},"月","令和",{"$f":"VLOOKUP($A14,④工事経歴書の作成!$B$138:$R$396,16,FALSE)","v":0},"年",{"$f":"VLOOKUP($A14,④工事経歴書の作成!$B$138:$R$396,17,FALSE)","v":0},"月",null,null,null,{"$f":"IF(+L14=0,\"\",L14)","v":""},null,{"$f":"+N14","v":0},null,{"$f":"IF(AA15=$AF$12,L14,0)","v":0},null,{"$f":"IF(AA15=$AF$12,N14,0)","v":0}]
[null,null,null,null,null,null,null,null,null,null,null,{"$f":"VLOOKUP($A14,④工事経歴書の作成!$B$138:$R$396,10,FALSE)","v":0},null,{"$f":"VLOOKUP($A14,④工事経歴書の作成!$B$138:$R$396,12,FALSE)","v":0},null,null,null,null,null,null,null,null,null,null,null,null,{"$f":"IF(C14=$C$51,AA13,C14)","v":0},{"$f":"IF(+L15=0,\"\",L15)","v":""},null,{"$f":"+N15","v":0},null,{"$f":"IF(AA15=$AF$12,L15,0)","v":0},null,{"$f":"IF(AA15=$AF$12,N15,0)","v":0}]
[106,{"$f":"VLOOKUP($A16,④工事経歴書の作成!$B$138:$R$396,2,FALSE)","v":0},{"$f":"VLOOKUP($A16,④工事経歴書の作成!$B$138:$R$396,3,FALSE)","v":0},{"$f":"VLOOKUP($A16,④工事経歴書の作成!$B$138:$R$396,4,FALSE)","v":0},{"$f":"VLOOKUP($A16,④工事経歴書の作成!$B$138:$R$396,5,FALSE)","v":0},{"$f":"VLOOKUP($A16,④工事経歴書の作成!$B$138:$R$396,2,FALSE)","v":0},{"$f":"VLOOKUP($A16,④工事経歴書の作成!$B$138:$R$396,6,FALSE)","v":0},{"$f":"VLOOKUP($A16,④工事経歴書の作成!$B$138:$R$396,7,FALSE)","v":0},{"$f":"VLOOKUP($A16,④工事経歴書の作成!$B$138:$R$396,8,FALSE)","v":0},{"$f":"VLOOKUP($A16,④工事経歴書の作成!$B$138:$R$396,9,FALSE)","v":0},{"$f":"VLOOKUP($A16,④工事経歴書の作成!$B$138:$R$396,8,FALSE)","v":0},{"$f":"VLOOKUP($A16,④工事経歴書の作成!$B$138:$R$396,11,FALSE)","v":0},"千円",{"$f":"VLOOKUP($A16,④工事経歴書の作成!$B$138:$R$396,13,FALSE)","v":0},"千円","令和",{"$f":"VLOOKUP($A16,④工事経歴書の作成!$B$138:$R$396,14,FALSE)","v":0},"年",{"$f":"VLOOKUP($A16,④工事経歴書の作成!$B$138:$R$396,15,FALSE)","v":0},"月","令和",{"$f":"VLOOKUP($A16,④工事経歴書の作成!$B$138:$R$396,16,FALSE)","v":0},"年",{"$f":"VLOOKUP($A16,④工事経歴書の作成!$B$138:$R$396,17,FALSE)","v":0},"月",null,null,null,{"$f":"IF(+L16=0,\"\",L16)","v":""},null,{"$f":"+N16","v":0},null,{"$f":"IF(AA17=$AF$12,L16,0)","v":0},null,{"$f":"IF(AA17=$AF$12,N16,0)","v":0}]
[null,null,null,null,null,null,null,null,null,null,null,{"$f":"VLOOKUP($A16,④工事経歴書の作成!$B$138:$R$396,10,FALSE)","v":0},null,{"$f":"VLOOKUP($A16,④工事経歴書の作成!$B$138:$R$396,12,FALSE)","v":0},null,null,null,null,null,null,null,null,null,null,null,null,{"$f":"IF(C16=$C$51,AA15,C16)","v":0},{"$f":"IF(+L17=0,\"\",L17)","v":""},null,{"$f":"+N17","v":0},null,{"$f":"IF(AA17=$AF$12,L17,0)","v":0},null,{"$f":"IF(AA17=$AF$12,N17,0)","v":0}]
[107,{"$f":"VLOOKUP($A18,④工事経歴書の作成!$B$138:$R$396,2,FALSE)","v":0},{"$f":"VLOOKUP($A18,④工事経歴書の作成!$B$138:$R$396,3,FALSE)","v":0},{"$f":"VLOOKUP($A18,④工事経歴書の作成!$B$138:$R$396,4,FALSE)","v":0},{"$f":"VLOOKUP($A18,④工事経歴書の作成!$B$138:$R$396,5,FALSE)","v":0},{"$f":"VLOOKUP($A18,④工事経歴書の作成!$B$138:$R$396,2,FALSE)","v":0},{"$f":"VLOOKUP($A18,④工事経歴書の作成!$B$138:$R$396,6,FALSE)","v":0},{"$f":"VLOOKUP($A18,④工事経歴書の作成!$B$138:$R$396,7,FALSE)","v":0},{"$f":"VLOOKUP($A18,④工事経歴書の作成!$B$138:$R$396,8,FALSE)","v":0},{"$f":"VLOOKUP($A18,④工事経歴書の作成!$B$138:$R$396,9,FALSE)","v":0},{"$f":"VLOOKUP($A18,④工事経歴書の作成!$B$138:$R$396,8,FALSE)","v":0},{"$f":"VLOOKUP($A18,④工事経歴書の作成!$B$138:$R$396,11,FALSE)","v":0},"千円",{"$f":"VLOOKUP($A18,④工事経歴書の作成!$B$138:$R$396,13,FALSE)","v":0},"千円","令和",{"$f":"VLOOKUP($A18,④工事経歴書の作成!$B$138:$R$396,14,FALSE)","v":0},"年",{"$f":"VLOOKUP($A18,④工事経歴書の作成!$B$138:$R$396,15,FALSE)","v":0},"月","令和",{"$f":"VLOOKUP($A18,④工事経歴書の作成!$B$138:$R$396,16,FALSE)","v":0},"年",{"$f":"VLOOKUP($A18,④工事経歴書の作成!$B$138:$R$396,17,FALSE)","v":0},"月",null,null,null,{"$f":"IF(+L18=0,\"\",L18)","v":""},null,{"$f":"+N18","v":0},null,{"$f":"IF(AA19=$AF$12,L18,0)","v":0},null,{"$f":"IF(AA19=$AF$12,N18,0)","v":0}]
[null,null,null,null,null,null,null,null,null,null,null,{"$f":"VLOOKUP($A18,④工事経歴書の作成!$B$138:$R$396,10,FALSE)","v":0},null,{"$f":"VLOOKUP($A18,④工事経歴書の作成!$B$138:$R$396,12,FALSE)","v":0},null,null,null,null,null,null,null,null,null,null,null,null,{"$f":"IF(C18=$C$51,AA17,C18)","v":0},{"$f":"IF(+L19=0,\"\",L19)","v":""},null,{"$f":"+N19","v":0},null,{"$f":"IF(AA19=$AF$12,L19,0)","v":0},null,{"$f":"IF(AA19=$AF$12,N19,0)","v":0}]
[108,{"$f":"VLOOKUP($A20,④工事経歴書の作成!$B$138:$R$396,2,FALSE)","v":0},{"$f":"VLOOKUP($A20,④工事経歴書の作成!$B$138:$R$396,3,FALSE)","v":0},{"$f":"VLOOKUP($A20,④工事経歴書の作成!$B$138:$R$396,4,FALSE)","v":0},{"$f":"VLOOKUP($A20,④工事経歴書の作成!$B$138:$R$396,5,FALSE)","v":0},{"$f":"VLOOKUP($A20,④工事経歴書の作成!$B$138:$R$396,2,FALSE)","v":0},{"$f":"VLOOKUP($A20,④工事経歴書の作成!$B$138:$R$396,6,FALSE)","v":0},{"$f":"VLOOKUP($A20,④工事経歴書の作成!$B$138:$R$396,7,FALSE)","v":0},{"$f":"VLOOKUP($A20,④工事経歴書の作成!$B$138:$R$396,8,FALSE)","v":0},{"$f":"VLOOKUP($A20,④工事経歴書の作成!$B$138:$R$396,9,FALSE)","v":0},{"$f":"VLOOKUP($A20,④工事経歴書の作成!$B$138:$R$396,8,FALSE)","v":0},{"$f":"VLOOKUP($A20,④工事経歴書の作成!$B$138:$R$396,11,FALSE)","v":0},"千円",{"$f":"VLOOKUP($A20,④工事経歴書の作成!$B$138:$R$396,13,FALSE)","v":0},"千円","令和",{"$f":"VLOOKUP($A20,④工事経歴書の作成!$B$138:$R$396,14,FALSE)","v":0},"年",{"$f":"VLOOKUP($A20,④工事経歴書の作成!$B$138:$R$396,15,FALSE)","v":0},"月","令和",{"$f":"VLOOKUP($A20,④工事経歴書の作成!$B$138:$R$396,16,FALSE)","v":0},"年",{"$f":"VLOOKUP($A20,④工事経歴書の作成!$B$138:$R$396,17,FALSE)","v":0},"月",null,null,null,{"$f":"IF(+L20=0,\"\",L20)","v":""},null,{"$f":"+N20","v":0},null,{"$f":"IF(AA21=$AF$12,L20,0)","v":0},null,{"$f":"IF(AA21=$AF$12,N20,0)","v":0}]
[null,null,null,null,null,null,null,null,null,null,null,{"$f":"VLOOKUP($A20,④工事経歴書の作成!$B$138:$R$396,10,FALSE)","v":0},null,{"$f":"VLOOKUP($A20,④工事経歴書の作成!$B$138:$R$396,12,FALSE)","v":0},null,null,null,null,null,null,null,null,null,null,null,null,{"$f":"IF(C20=$C$51,AA19,C20)","v":0},{"$f":"IF(+L21=0,\"\",L21)","v":""},null,{"$f":"+N21","v":0},null,{"$f":"IF(AA21=$AF$12,L21,0)","v":0},null,{"$f":"IF(AA21=$AF$12,N21,0)","v":0}]
[109,{"$f":"VLOOKUP($A22,④工事経歴書の作成!$B$138:$R$396,2,FALSE)","v":0},{"$f":"VLOOKUP($A22,④工事経歴書の作成!$B$138:$R$396,3,FALSE)","v":0},{"$f":"VLOOKUP($A22,④工事経歴書の作成!$B$138:$R$396,4,FALSE)","v":0},{"$f":"VLOOKUP($A22,④工事経歴書の作成!$B$138:$R$396,5,FALSE)","v":0},{"$f":"VLOOKUP($A22,④工事経歴書の作成!$B$138:$R$396,2,FALSE)","v":0},{"$f":"VLOOKUP($A22,④工事経歴書の作成!$B$138:$R$396,6,FALSE)","v":0},{"$f":"VLOOKUP($A22,④工事経歴書の作成!$B$138:$R$396,7,FALSE)","v":0},{"$f":"VLOOKUP($A22,④工事経歴書の作成!$B$138:$R$396,8,FALSE)","v":0},{"$f":"VLOOKUP($A22,④工事経歴書の作成!$B$138:$R$396,9,FALSE)","v":0},{"$f":"VLOOKUP($A22,④工事経歴書の作成!$B$138:$R$396,8,FALSE)","v":0},{"$f":"VLOOKUP($A22,④工事経歴書の作成!$B$138:$R$396,11,FALSE)","v":0},"千円",{"$f":"VLOOKUP($A22,④工事経歴書の作成!$B$138:$R$396,13,FALSE)","v":0},"千円","令和",{"$f":"VLOOKUP($A22,④工事経歴書の作成!$B$138:$R$396,14,FALSE)","v":0},"年",{"$f":"VLOOKUP($A22,④工事経歴書の作成!$B$138:$R$396,15,FALSE)","v":0},"月","令和",{"$f":"VLOOKUP($A22,④工事経歴書の作成!$B$138:$R$396,16,FALSE)","v":0},"年",{"$f":"VLOOKUP($A22,④工事経歴書の作成!$B$138:$R$396,17,FALSE)","v":0},"月",null,null,null,{"$f":"IF(+L22=0,\"\",L22)","v":""},null,{"$f":"+N22","v":0},null,{"$f":"IF(AA23=$AF$12,L22,0)","v":0},null,{"$f":"IF(AA23=$AF$12,N22,0)","v":0}]
[null,null,null,null,null,null,null,null,null,null,null,{"$f":"VLOOKUP($A22,④工事経歴書の作成!$B$138:$R$396,10,FALSE)","v":0},null,{"$f":"VLOOKUP($A22,④工事経歴書の作成!$B$138:$R$396,12,FALSE)","v":0},null,null,null,null,null,null,null,null,null,null,null,null,{"$f":"IF(C22=$C$51,AA21,C22)","v":0},{"$f":"IF(+L23=0,\"\",L23)","v":""},null,{"$f":"+N23","v":0},null,{"$f":"IF(AA23=$AF$12,L23,0)","v":0},null,{"$f":"IF(AA23=$AF$12,N23,0)","v":0}]
[110,{"$f":"VLOOKUP($A24,④工事経歴書の作成!$B$138:$R$396,2,FALSE)","v":0},{"$f":"VLOOKUP($A24,④工事経歴書の作成!$B$138:$R$396,3,FALSE)","v":0},{"$f":"VLOOKUP($A24,④工事経歴書の作成!$B$138:$R$396,4,FALSE)","v":0},{"$f":"VLOOKUP($A24,④工事経歴書の作成!$B$138:$R$396,5,FALSE)","v":0},{"$f":"VLOOKUP($A24,④工事経歴書の作成!$B$138:$R$396,2,FALSE)","v":0},{"$f":"VLOOKUP($A24,④工事経歴書の作成!$B$138:$R$396,6,FALSE)","v":0},{"$f":"VLOOKUP($A24,④工事経歴書の作成!$B$138:$R$396,7,FALSE)","v":0},{"$f":"VLOOKUP($A24,④工事経歴書の作成!$B$138:$R$396,8,FALSE)","v":0},{"$f":"VLOOKUP($A24,④工事経歴書の作成!$B$138:$R$396,9,FALSE)","v":0},{"$f":"VLOOKUP($A24,④工事経歴書の作成!$B$138:$R$396,8,FALSE)","v":0},{"$f":"VLOOKUP($A24,④工事経歴書の作成!$B$138:$R$396,11,FALSE)","v":0},"千円",{"$f":"VLOOKUP($A24,④工事経歴書の作成!$B$138:$R$396,13,FALSE)","v":0},"千円","令和",{"$f":"VLOOKUP($A24,④工事経歴書の作成!$B$138:$R$396,14,FALSE)","v":0},"年",{"$f":"VLOOKUP($A24,④工事経歴書の作成!$B$138:$R$396,15,FALSE)","v":0},"月","令和",{"$f":"VLOOKUP($A24,④工事経歴書の作成!$B$138:$R$396,16,FALSE)","v":0},"年",{"$f":"VLOOKUP($A24,④工事経歴書の作成!$B$138:$R$396,17,FALSE)","v":0},"月",null,null,null,{"$f":"IF(+L24=0,\"\",L24)","v":""},null,{"$f":"+N24","v":0},null,{"$f":"IF(AA25=$AF$12,L24,0)","v":0},null,{"$f":"IF(AA25=$AF$12,N24,0)","v":0}]
[null,null,null,null,null,null,null,null,null,null,null,{"$f":"VLOOKUP($A24,④工事経歴書の作成!$B$138:$R$396,10,FALSE)","v":0},null,{"$f":"VLOOKUP($A24,④工事経歴書の作成!$B$138:$R$396,12,FALSE)","v":0},null,null,null,null,null,null,null,null,null,null,null,null,{"$f":"IF(C24=$C$51,AA23,C24)","v":0},{"$f":"IF(+L25=0,\"\",L25)","v":""},null,{"$f":"+N25","v":0},null,{"$f":"IF(AA25=$AF$12,L25,0)","v":0},null,{"$f":"IF(AA25=$AF$12,N25,0)","v":0}]
[111,{"$f":"VLOOKUP($A26,④工事経歴書の作成!$B$138:$R$396,2,FALSE)","v":0},{"$f":"VLOOKUP($A26,④工事経歴書の作成!$B$138:$R$396,3,FALSE)","v":0},{"$f":"VLOOKUP($A26,④工事経歴書の作成!$B$138:$R$396,4,FALSE)","v":0},{"$f":"VLOOKUP($A26,④工事経歴書の作成!$B$138:$R$396,5,FALSE)","v":0},{"$f":"VLOOKUP($A26,④工事経歴書の作成!$B$138:$R$396,2,FALSE)","v":0},{"$f":"VLOOKUP($A26,④工事経歴書の作成!$B$138:$R$396,6,FALSE)","v":0},{"$f":"VLOOKUP($A26,④工事経歴書の作成!$B$138:$R$396,7,FALSE)","v":0},{"$f":"VLOOKUP($A26,④工事経歴書の作成!$B$138:$R$396,8,FALSE)","v":0},{"$f":"VLOOKUP($A26,④工事経歴書の作成!$B$138:$R$396,9,FALSE)","v":0},{"$f":"VLOOKUP($A26,④工事経歴書の作成!$B$138:$R$396,8,FALSE)","v":0},{"$f":"VLOOKUP($A26,④工事経歴書の作成!$B$138:$R$396,11,FALSE)","v":0},"千円",{"$f":"VLOOKUP($A26,④工事経歴書の作成!$B$138:$R$396,13,FALSE)","v":0},"千円","令和",{"$f":"VLOOKUP($A26,④工事経歴書の作成!$B$138:$R$396,14,FALSE)","v":0},"年",{"$f":"VLOOKUP($A26,④工事経歴書の作成!$B$138:$R$396,15,FALSE)","v":0},"月","令和",{"$f":"VLOOKUP($A26,④工事経歴書の作成!$B$138:$R$396,16,FALSE)","v":0},"年",{"$f":"VLOOKUP($A26,④工事経歴書の作成!$B$138:$R$396,17,FALSE)","v":0},"月",null,null,null,{"$f":"IF(+L26=0,\"\",L26)","v":""},null,{"$f":"+N26","v":0},null,{"$f":"IF(AA27=$AF$12,L26,0)","v":0},null,{"$f":"IF(AA27=$AF$12,N26,0)","v":0}]
[null,null,null,null,null,null,null,null,null,null,null,{"$f":"VLOOKUP($A26,④工事経歴書の作成!$B$138:$R$396,10,FALSE)","v":0},null,{"$f":"VLOOKUP($A26,④工事経歴書の作成!$B$138:$R$396,12,FALSE)","v":0},null,null,null,null,null,null,null,null,null,null,null,null,{"$f":"IF(C26=$C$51,AA25,C26)","v":0},{"$f":"IF(+L27=0,\"\",L27)","v":""},null,{"$f":"+N27","v":0},null,{"$f":"IF(AA27=$AF$12,L27,0)","v":0},null,{"$f":"IF(AA27=$AF$12,N27,0)","v":0}]
[112,{"$f":"VLOOKUP($A28,④工事経歴書の作成!$B$138:$R$396,2,FALSE)","v":0},{"$f":"VLOOKUP($A28,④工事経歴書の作成!$B$138:$R$396,3,FALSE)","v":0},{"$f":"VLOOKUP($A28,④工事経歴書の作成!$B$138:$R$396,4,FALSE)","v":0},{"$f":"VLOOKUP($A28,④工事経歴書の作成!$B$138:$R$396,5,FALSE)","v":0},{"$f":"VLOOKUP($A28,④工事経歴書の作成!$B$138:$R$396,2,FALSE)","v":0},{"$f":"VLOOKUP($A28,④工事経歴書の作成!$B$138:$R$396,6,FALSE)","v":0},{"$f":"VLOOKUP($A28,④工事経歴書の作成!$B$138:$R$396,7,FALSE)","v":0},{"$f":"VLOOKUP($A28,④工事経歴書の作成!$B$138:$R$396,8,FALSE)","v":0},{"$f":"VLOOKUP($A28,④工事経歴書の作成!$B$138:$R$396,9,FALSE)","v":0},{"$f":"VLOOKUP($A28,④工事経歴書の作成!$B$138:$R$396,8,FALSE)","v":0},{"$f":"VLOOKUP($A28,④工事経歴書の作成!$B$138:$R$396,11,FALSE)","v":0},"千円",{"$f":"VLOOKUP($A28,④工事経歴書の作成!$B$138:$R$396,13,FALSE)","v":0},"千円","令和",{"$f":"VLOOKUP($A28,④工事経歴書の作成!$B$138:$R$396,14,FALSE)","v":0},"年",{"$f":"VLOOKUP($A28,④工事経歴書の作成!$B$138:$R$396,15,FALSE)","v":0},"月","令和",{"$f":"VLOOKUP($A28,④工事経歴書の作成!$B$138:$R$396,16,FALSE)","v":0},"年",{"$f":"VLOOKUP($A28,④工事経歴書の作成!$B$138:$R$396,17,FALSE)","v":0},"月",null,null,null,{"$f":"IF(+L28=0,\"\",L28)","v":""},null,{"$f":"+N28","v":0},null,{"$f":"IF(AA29=$AF$12,L28,0)","v":0},null,{"$f":"IF(AA29=$AF$12,N28,0)","v":0}]
[null,null,null,null,null,null,null,null,null,null,null,{"$f":"VLOOKUP($A28,④工事経歴書の作成!$B$138:$R$396,10,FALSE)","v":0},null,{"$f":"VLOOKUP($A28,④工事経歴書の作成!$B$138:$R$396,12,FALSE)","v":0},null,null,null,null,null,null,null,null,null,null,null,null,{"$f":"IF(C28=$C$51,AA27,C28)","v":0},{"$f":"IF(+L29=0,\"\",L29)","v":""},null,{"$f":"+N29","v":0},null,{"$f":"IF(AA29=$AF$12,L29,0)","v":0},null,{"$f":"IF(AA29=$AF$12,N29,0)","v":0}]
[113,{"$f":"VLOOKUP($A30,④工事経歴書の作成!$B$138:$R$396,2,FALSE)","v":0},{"$f":"VLOOKUP($A30,④工事経歴書の作成!$B$138:$R$396,3,FALSE)","v":0},{"$f":"VLOOKUP($A30,④工事経歴書の作成!$B$138:$R$396,4,FALSE)","v":0},{"$f":"VLOOKUP($A30,④工事経歴書の作成!$B$138:$R$396,5,FALSE)","v":0},{"$f":"VLOOKUP($A30,④工事経歴書の作成!$B$138:$R$396,2,FALSE)","v":0},{"$f":"VLOOKUP($A30,④工事経歴書の作成!$B$138:$R$396,6,FALSE)","v":0},{"$f":"VLOOKUP($A30,④工事経歴書の作成!$B$138:$R$396,7,FALSE)","v":0},{"$f":"VLOOKUP($A30,④工事経歴書の作成!$B$138:$R$396,8,FALSE)","v":0},{"$f":"VLOOKUP($A30,④工事経歴書の作成!$B$138:$R$396,9,FALSE)","v":0},{"$f":"VLOOKUP($A30,④工事経歴書の作成!$B$138:$R$396,8,FALSE)","v":0},{"$f":"VLOOKUP($A30,④工事経歴書の作成!$B$138:$R$396,11,FALSE)","v":0},"千円",{"$f":"VLOOKUP($A30,④工事経歴書の作成!$B$138:$R$396,13,FALSE)","v":0},"千円","令和",{"$f":"VLOOKUP($A30,④工事経歴書の作成!$B$138:$R$396,14,FALSE)","v":0},"年",{"$f":"VLOOKUP($A30,④工事経歴書の作成!$B$138:$R$396,15,FALSE)","v":0},"月","令和",{"$f":"VLOOKUP($A30,④工事経歴書の作成!$B$138:$R$396,16,FALSE)","v":0},"年",{"$f":"VLOOKUP($A30,④工事経歴書の作成!$B$138:$R$396,17,FALSE)","v":0},"月",null,null,null,{"$f":"IF(+L30=0,\"\",L30)","v":""},null,{"$f":"+N30","v":0},null,{"$f":"IF(AA31=$AF$12,L30,0)","v":0},null,{"$f":"IF(AA31=$AF$12,N30,0)","v":0}]
[null,null,null,null,null,null,null,null,null,null,null,{"$f":"VLOOKUP($A30,④工事経歴書の作成!$B$138:$R$396,10,FALSE)","v":0},null,{"$f":"VLOOKUP($A30,④工事経歴書の作成!$B$138:$R$396,12,FALSE)","v":0},null,null,null,null,null,null,null,null,null,null,null,null,{"$f":"IF(C30=$C$51,AA29,C30)","v":0},{"$f":"IF(+L31=0,\"\",L31)","v":""},null,{"$f":"+N31","v":0},null,{"$f":"IF(AA31=$AF$12,L31,0)","v":0},null,{"$f":"IF(AA31=$AF$12,N31,0)","v":0}]
[114,{"$f":"VLOOKUP($A32,④工事経歴書の作成!$B$138:$R$396,2,FALSE)","v":0},{"$f":"VLOOKUP($A32,④工事経歴書の作成!$B$138:$R$396,3,FALSE)","v":0},{"$f":"VLOOKUP($A32,④工事経歴書の作成!$B$138:$R$396,4,FALSE)","v":0},{"$f":"VLOOKUP($A32,④工事経歴書の作成!$B$138:$R$396,5,FALSE)","v":0},{"$f":"VLOOKUP($A32,④工事経歴書の作成!$B$138:$R$396,2,FALSE)","v":0},{"$f":"VLOOKUP($A32,④工事経歴書の作成!$B$138:$R$396,6,FALSE)","v":0},{"$f":"VLOOKUP($A32,④工事経歴書の作成!$B$138:$R$396,7,FALSE)","v":0},{"$f":"VLOOKUP($A32,④工事経歴書の作成!$B$138:$R$396,8,FALSE)","v":0},{"$f":"VLOOKUP($A32,④工事経歴書の作成!$B$138:$R$396,9,FALSE)","v":0},{"$f":"VLOOKUP($A32,④工事経歴書の作成!$B$138:$R$396,8,FALSE)","v":0},{"$f":"VLOOKUP($A32,④工事経歴書の作成!$B$138:$R$396,11,FALSE)","v":0},"千円",{"$f":"VLOOKUP($A32,④工事経歴書の作成!$B$138:$R$396,13,FALSE)","v":0},"千円","令和",{"$f":"VLOOKUP($A32,④工事経歴書の作成!$B$138:$R$396,14,FALSE)","v":0},"年",{"$f":"VLOOKUP($A32,④工事経歴書の作成!$B$138:$R$396,15,FALSE)","v":0},"月","令和",{"$f":"VLOOKUP($A32,④工事経歴書の作成!$B$138:$R$396,16,FALSE)","v":0},"年",{"$f":"VLOOKUP($A32,④工事経歴書の作成!$B$138:$R$396,17,FALSE)","v":0},"月",null,null,null,{"$f":"IF(+L32=0,\"\",L32)","v":""},null,{"$f":"+N32","v":0},null,{"$f":"IF(AA33=$AF$12,L32,0)","v":0},null,{"$f":"IF(AA33=$AF$12,N32,0)","v":0}]
[null,null,null,null,null,null,null,null,null,null,null,{"$f":"VLOOKUP($A32,④工事経歴書の作成!$B$138:$R$396,10,FALSE)","v":0},null,{"$f":"VLOOKUP($A32,④工事経歴書の作成!$B$138:$R$396,12,FALSE)","v":0},null,null,null,null,null,null,null,null,null,null,null,null,{"$f":"IF(C32=$C$51,AA31,C32)","v":0},{"$f":"IF(+L33=0,\"\",L33)","v":""},null,{"$f":"+N33","v":0},null,{"$f":"IF(AA33=$AF$12,L33,0)","v":0},null,{"$f":"IF(AA33=$AF$12,N33,0)","v":0}]
[115,{"$f":"VLOOKUP($A34,④工事経歴書の作成!$B$138:$R$396,2,FALSE)","v":0},{"$f":"VLOOKUP($A34,④工事経歴書の作成!$B$138:$R$396,3,FALSE)","v":0},{"$f":"VLOOKUP($A34,④工事経歴書の作成!$B$138:$R$396,4,FALSE)","v":0},{"$f":"VLOOKUP($A34,④工事経歴書の作成!$B$138:$R$396,5,FALSE)","v":0},{"$f":"VLOOKUP($A34,④工事経歴書の作成!$B$138:$R$396,2,FALSE)","v":0},{"$f":"VLOOKUP($A34,④工事経歴書の作成!$B$138:$R$396,6,FALSE)","v":0},{"$f":"VLOOKUP($A34,④工事経歴書の作成!$B$138:$R$396,7,FALSE)","v":0},{"$f":"VLOOKUP($A34,④工事経歴書の作成!$B$138:$R$396,8,FALSE)","v":0},{"$f":"VLOOKUP($A34,④工事経歴書の作成!$B$138:$R$396,9,FALSE)","v":0},{"$f":"VLOOKUP($A34,④工事経歴書の作成!$B$138:$R$396,8,FALSE)","v":0},{"$f":"VLOOKUP($A34,④工事経歴書の作成!$B$138:$R$396,11,FALSE)","v":0},"千円",{"$f":"VLOOKUP($A34,④工事経歴書の作成!$B$138:$R$396,13,FALSE)","v":0},"千円","令和",{"$f":"VLOOKUP($A34,④工事経歴書の作成!$B$138:$R$396,14,FALSE)","v":0},"年",{"$f":"VLOOKUP($A34,④工事経歴書の作成!$B$138:$R$396,15,FALSE)","v":0},"月","令和",{"$f":"VLOOKUP($A34,④工事経歴書の作成!$B$138:$R$396,16,FALSE)","v":0},"年",{"$f":"VLOOKUP($A34,④工事経歴書の作成!$B$138:$R$396,17,FALSE)","v":0},"月",null,null,null,{"$f":"IF(+L34=0,\"\",L34)","v":""},null,{"$f":"+N34","v":0},null,{"$f":"IF(AA35=$AF$12,L34,0)","v":0},null,{"$f":"IF(AA35=$AF$12,N34,0)","v":0}]
[null,null,null,null,null,null,null,null,null,null,null,{"$f":"VLOOKUP($A34,④工事経歴書の作成!$B$138:$R$396,10,FALSE)","v":0},null,{"$f":"VLOOKUP($A34,④工事経歴書の作成!$B$138:$R$396,12,FALSE)","v":0},null,null,null,null,null,null,null,null,null,null,null,null,{"$f":"IF(C34=$C$51,AA33,C34)","v":0},{"$f":"IF(+L35=0,\"\",L35)","v":""},null,{"$f":"+N35","v":0},null,{"$f":"IF(AA35=$AF$12,L35,0)","v":0},null,{"$f":"IF(AA35=$AF$12,N35,0)","v":0}]
[116,{"$f":"VLOOKUP($A36,④工事経歴書の作成!$B$138:$R$396,2,FALSE)","v":0},{"$f":"VLOOKUP($A36,④工事経歴書の作成!$B$138:$R$396,3,FALSE)","v":0},{"$f":"VLOOKUP($A36,④工事経歴書の作成!$B$138:$R$396,4,FALSE)","v":0},{"$f":"VLOOKUP($A36,④工事経歴書の作成!$B$138:$R$396,5,FALSE)","v":0},{"$f":"VLOOKUP($A36,④工事経歴書の作成!$B$138:$R$396,2,FALSE)","v":0},{"$f":"VLOOKUP($A36,④工事経歴書の作成!$B$138:$R$396,6,FALSE)","v":0},{"$f":"VLOOKUP($A36,④工事経歴書の作成!$B$138:$R$396,7,FALSE)","v":0},{"$f":"VLOOKUP($A36,④工事経歴書の作成!$B$138:$R$396,8,FALSE)","v":0},{"$f":"VLOOKUP($A36,④工事経歴書の作成!$B$138:$R$396,9,FALSE)","v":0},{"$f":"VLOOKUP($A36,④工事経歴書の作成!$B$138:$R$396,8,FALSE)","v":0},{"$f":"VLOOKUP($A36,④工事経歴書の作成!$B$138:$R$396,11,FALSE)","v":0},"千円",{"$f":"VLOOKUP($A36,④工事経歴書の作成!$B$138:$R$396,13,FALSE)","v":0},"千円","令和",{"$f":"VLOOKUP($A36,④工事経歴書の作成!$B$138:$R$396,14,FALSE)","v":0},"年",{"$f":"VLOOKUP($A36,④工事経歴書の作成!$B$138:$R$396,15,FALSE)","v":0},"月","令和",{"$f":"VLOOKUP($A36,④工事経歴書の作成!$B$138:$R$396,16,FALSE)","v":0},"年",{"$f":"VLOOKUP($A36,④工事経歴書の作成!$B$138:$R$396,17,FALSE)","v":0},"月",null,null,null,{"$f":"IF(+L36=0,\"\",L36)","v":""},null,{"$f":"+N36","v":0},null,{"$f":"IF(AA37=$AF$12,L36,0)","v":0},null,{"$f":"IF(AA37=$AF$12,N36,0)","v":0}]
[null,null,null,null,null,null,null,null,null,null,null,{"$f":"VLOOKUP($A36,④工事経歴書の作成!$B$138:$R$396,10,FALSE)","v":0},null,{"$f":"VLOOKUP($A36,④工事経歴書の作成!$B$138:$R$396,12,FALSE)","v":0},null,null,null,null,null,null,null,null,null,null,null,null,{"$f":"IF(C36=$C$51,AA35,C36)","v":0},{"$f":"IF(+L37=0,\"\",L37)","v":""},null,{"$f":"+N37","v":0},null,{"$f":"IF(AA37=$AF$12,L37,0)","v":0},null,{"$f":"IF(AA37=$AF$12,N37,0)","v":0}]
[117,{"$f":"VLOOKUP($A38,④工事経歴書の作成!$B$138:$R$396,2,FALSE)","v":0},{"$f":"VLOOKUP($A38,④工事経歴書の作成!$B$138:$R$396,3,FALSE)","v":0},{"$f":"VLOOKUP($A38,④工事経歴書の作成!$B$138:$R$396,4,FALSE)","v":0},{"$f":"VLOOKUP($A38,④工事経歴書の作成!$B$138:$R$396,5,FALSE)","v":0},{"$f":"VLOOKUP($A38,④工事経歴書の作成!$B$138:$R$396,2,FALSE)","v":0},{"$f":"VLOOKUP($A38,④工事経歴書の作成!$B$138:$R$396,6,FALSE)","v":0},{"$f":"VLOOKUP($A38,④工事経歴書の作成!$B$138:$R$396,7,FALSE)","v":0},{"$f":"VLOOKUP($A38,④工事経歴書の作成!$B$138:$R$396,8,FALSE)","v":0},{"$f":"VLOOKUP($A38,④工事経歴書の作成!$B$138:$R$396,9,FALSE)","v":0},{"$f":"VLOOKUP($A38,④工事経歴書の作成!$B$138:$R$396,8,FALSE)","v":0},{"$f":"VLOOKUP($A38,④工事経歴書の作成!$B$138:$R$396,11,FALSE)","v":0},"千円",{"$f":"VLOOKUP($A38,④工事経歴書の作成!$B$138:$R$396,13,FALSE)","v":0},"千円","令和",{"$f":"VLOOKUP($A38,④工事経歴書の作成!$B$138:$R$396,14,FALSE)","v":0},"年",{"$f":"VLOOKUP($A38,④工事経歴書の作成!$B$138:$R$396,15,FALSE)","v":0},"月","令和",{"$f":"VLOOKUP($A38,④工事経歴書の作成!$B$138:$R$396,16,FALSE)","v":0},"年",{"$f":"VLOOKUP($A38,④工事経歴書の作成!$B$138:$R$396,17,FALSE)","v":0},"月",null,null,null,{"$f":"IF(+L38=0,\"\",L38)","v":""},null,{"$f":"+N38","v":0},null,{"$f":"IF(AA39=$AF$12,L38,0)","v":0},null,{"$f":"IF(AA39=$AF$12,N38,0)","v":0}]
[null,null,null,null,null,null,null,null,null,null,null,{"$f":"VLOOKUP($A38,④工事経歴書の作成!$B$138:$R$396,10,FALSE)","v":0},null,{"$f":"VLOOKUP($A38,④工事経歴書の作成!$B$138:$R$396,12,FALSE)","v":0},null,null,null,null,null,null,null,null,null,null,null,null,{"$f":"IF(C38=$C$51,AA37,C38)","v":0},{"$f":"IF(+L39=0,\"\",L39)","v":""},null,{"$f":"+N39","v":0},null,{"$f":"IF(AA39=$AF$12,L39,0)","v":0},null,{"$f":"IF(AA39=$AF$12,N39,0)","v":0}]
[null,null,null,null,null,null,null,null,null,null,null,null,null,null,null,null,null,null,null,null,null,null,null,null,null,null,null,{"$f":"SUM(AB14:AB39)","v":0},0,0,0,0,0,0,0]
[null,null,null,null,null,null,null,null,"小　　計",null,"件",null,"千円",null,"千円","うち　元請工事"]
[null,null,null,null,null,null,null,null,null,null,null,null,null,null,null,null,null,null,"千円",null,null,null,null,"千円"]
[]
[]
[null,null,null,null,null,null,null,null,"合　　計",null,"件",null,"千円",null,"千円","うち　元請工事"]
[null,null,null,null,null,null,null,null,null,null,null,null,null,null,null,null,null,null,"千円",null,null,null,null,"千円"]
[]
[]
[null,null,null,null,null,null,null,"小計を","小計",{"$f":"COUNT(AC14:AC39)","v":0},"件",{"$f":"+AC40","v":0},"千円",{"$f":"+AE40","v":0},"千円",{"$f":"+AG40","v":0},null,null,"千円",null,{"$f":"+AI40","v":0},null,null,"千円"]
[null,null,null,null,null,null,null,"転記しましょう",null,{"$f":"COUNT(AB14:AB39)","v":0},null,{"$f":"+AB40","v":0},null,{"$f":"+AD40","v":0},null,{"$f":"+AF40","v":0},null,null,null,null,{"$f":"+AH40","v":0}]
[null,null,null,null,null,null,null,"操作方法によっては算式がこわれる場合があります。この数値は参考程度としていただき、必ず電卓で検算してください。"]
[]
[null,null,null,null,null,null,null,null,"ﾚ"]

{"sheet":"10","index":17,"n_rows":53,"n_cols":35,"rows_kept":53,"cut":false,"hidden":false,"merged":[[4,1,4,24],[40,12,42,12],[40,14,42,14],[11,9,12,10],[13,9,14,10],[41,13,42,13],[37,16,38,16],[37,17,38,17],[37,18,38,18],[37,6,38,6],[37,12,38,12],[35,19,36,19],[41,23,42,24],[42,20,42,22],[37,23,38,23],[35,15,36,15],[35,16,36,16],[37,14,38,14],[41,18,42,19],[37,15,38,15],[37,7,38,7],[33,12,34,12],[33,7,34,7],[33,8,34,8],[35,0,36,0],[37,8,38,8],[35,20,36,20],[33,20,34,20],[35,23,36,23],[37,24,38,24],[33,22,34,22],[33,23,34,23],[33,24,34,24],[35,24,36,24],[33,21,34,21],[33,0,34,0],[33,18,34,18],[33,19,34,19],[37,19,38,19],[33,14,34,14],[35,18,36,18],[35,14,36,14],[37,0,38,0],[37,1,38,1],[37,2,38,2],[37,3,38,3],[37,4,38,5],[35,1,36,1],[35,2,36,2],[35,3,36,3],[35,4,36,5],[35,6,36,6],[31,19,32,19],[33,16,34,16],[33,17,34,17],[31,20,32,20],[33,1,34,1],[33,2,34,2],[33,3,34,3],[33,4,34,5],[31,7,32,7],[35,7,36,7],[44,8,46,8],[44,10,46,10],[44,12,46,12],[45,9,46,9],[45,11,46,11],[46,15,46,17],[31,21,32,21],[31,14,32,14],[31,15,32,15],[31,16,32,16],[31,17,32,17],[31,18,32,18],[35,21,36,21],[40,8,42,8],[41,9,42,9],[35,9,36,10],[41,11,42,11],[35,8,36,8],[37,9,38,10],[40,10,42,10],[35,12,36,12],[33,6,34,6],[27,0,28,0],[27,1,28,1],[27,2,28,2],[27,3,28,3],[27,4,28,5],[27,6,28,6],[25,12,26,12],[31,12,32,12],[27,9,28,10],[27,12,28,12],[27,8,28,8],[29,8,30,8],[31,8,32,8],[29,7,30,7],[27,7,28,7],[31,6,32,6],[29,0,30,0],[29,4,30,5],[29,2,30,2],[31,0,32,0],[31,1,32,1],[31,2,32,2],[31,3,32,3],[31,4,32,5],[29,6,30,6],[29,3,30,3],[23,24,24,24],[23,7,24,7],[23,23,24,23],[23,8,24,8],[23,14,24,14],[25,0,26,0],[25,1,26,1],[25,2,26,2],[25,3,26,3],[25,4,26,5],[25,14,26,14],[25,9,26,10],[23,0,24,0],[23,1,24,1],[23,2,24,2],[23,3,24,3],[23,4,24,5],[23,6,24,6],[25,6,26,6],[23,12,24,12],[25,7,26,7],[25,8,26,8],[23,20,24,20],[23,21,24,21],[23,16,24,16],[25,21,26,21],[29,16,30,16],[21,8,22,8],[21,20,22,20],[21,21,22,21],[21,12,22,12],[21,14,22,14],[21,15,22,15],[21,16,22,16],[21,19,22,19],[21,18,22,18],[29,17,30,17],[29,20,30,20],[29,12,30,12],[29,14,30,14],[27,16,28,16],[27,14,28,14],[27,15,28,15],[23,22,24,22],[29,15,30,15],[29,19,30,19],[17,19,18,19],[19,12,20,12],[19,14,20,14],[19,15,20,15],[17,0,18,0],[17,1,18,1],[17,2,18,2],[17,3,18,3],[17,4,18,5],[17,6,18,6],[19,8,20,8],[17,14,18,14],[17,15,18,15],[17,16,18,16],[17,9,18,10],[19,16,20,16],[21,4,22,5],[21,6,22,6],[21,7,22,7],[27,22,28,22],[27,21,28,21],[21,24,22,24],[25,24,26,24],[46,20,46,22],[37,20,38,20],[37,21,38,21],[23,19,24,19],[17,20,18,20],[17,21,18,21],[19,0,20,0],[19,1,20,1],[19,2,20,2],[19,3,20,3],[19,4,20,5],[19,17,20,17],[17,7,18,7],[17,8,18,8],[19,20,20,20],[19,6,20,6],[19,7,20,7],[21,0,22,0],[21,1,22,1],[21,2,22,2],[21,3,22,3],[21,9,22,10],[48,18,49,19],[49,20,49,22],[48,20,48,22],[27,23,28,23],[25,23,26,23],[45,13,46,13],[45,15,45,17],[44,14,46,14],[44,15,44,24],[37,22,38,22],[45,18,46,19],[45,20,45,22],[45,23,46,24],[33,15,34,15],[35,22,36,22],[19,21,20,21],[21,22,22,22],[17,18,18,18],[15,17,16,17],[15,18,16,18],[19,19,20,19],[48,8,49,8],[48,10,49,10],[48,12,49,12],[48,14,49,14],[49,15,49,17],[48,15,48,17],[25,15,26,15],[25,16,26,16],[35,17,36,17],[42,15,42,17],[41,15,41,17],[40,15,40,24],[25,22,26,22],[41,20,41,22],[27,19,28,19],[29,21,30,21],[48,23,49,24],[33,9,34,10],[11,31,11,34],[19,9,20,10],[23,9,24,10],[29,9,30,10],[31,9,32,10],[27,24,28,24],[29,22,30,22],[29,23,30,23],[29,24,30,24],[31,23,32,23],[31,22,32,22],[11,27,11,30],[31,24,32,24],[27,20,28,20],[17,12,18,12],[25,20,26,20],[21,23,22,23],[15,24,16,24],[17,22,18,22],[17,23,18,23],[17,24,18,24],[19,24,20,24],[19,22,20,22],[19,23,20,23],[13,24,14,24],[13,19,14,19],[15,20,16,20],[15,21,16,21],[15,22,16,22],[15,23,16,23],[15,19,16,19],[8,1,12,1],[13,1,14,1],[13,16,14,16],[8,15,8,24],[9,15,12,19],[9,20,10,24],[11,20,12,24],[13,21,14,21],[13,22,14,22],[13,23,14,23],[15,4,16,5],[15,6,16,6],[15,1,16,1],[15,2,16,2],[15,3,16,3],[15,8,16,8],[15,14,16,14],[10,8,10,10],[11,8,12,8],[9,7,12,7],[13,7,14,7],[15,0,16,0],[29,18,30,18],[19,18,20,18],[13,12,14,12],[15,7,16,7],[13,8,14,8],[13,15,14,15],[13,17,14,17],[13,18,14,18],[17,17,18,17],[25,18,26,18],[23,17,24,17],[23,18,24,18],[21,17,22,17],[27,17,28,17],[25,17,26,17],[15,15,16,15],[15,16,16,16],[29,1,30,1],[23,15,24,15],[0,1,0,16],[50,7,50,24],[13,6,14,6],[13,0,14,0],[13,4,14,5],[13,20,14,20],[13,2,14,2],[13,3,14,3],[25,19,26,19],[27,18,28,18],[6,2,6,4],[8,6,12,6],[8,2,12,2],[8,11,8,13],[8,4,12,5],[15,12,16,12],[15,9,16,10],[8,3,12,3],[10,13,10,14],[11,13,11,14],[8,7,8,10],[12,13,12,14],[13,14,14,14],[9,8,9,10]]}
[null,"このシートは編集できません。\n「④工事経歴書の作成」のシートの「編集加工できる工事経歴書の作成」のボタンを押してください。\n自由に編集加工できるシートができあがります。"]
[]
[]
[null,"様式第二号 （第二条、第十三条の二、第十三条の三、第十九条の八関係）",null,null,null,null,null,null,null,null,null,null,null,null,null,null,null,null,null,null,null,null,null,null,"（用紙Ａ4）"]
[null,"工　 事　 経　 歴　 書"]
[]
[null,"（建設工事の種類）",{"$f":"+①業種!D13","v":"土木一式"},null,null,"工事","（　　税込　　・","　　税抜　　）"]
[]
[null,"注　　文　　者","元請\n又は\n下請\nの別","JV\nの\n別","工　　　事　　　名",null,"工事現場の\nある都道府\n県及び市区\n町  村  名","配　置　技　術　者",null,null,null,"請　負　代　金　の　額",null,null,null,"工　　　　期"]
[null,null,null,null,null,null,null,"氏　　名","主任技術者又は監理技術者",null,null,null,null,"うち、",null,"着　工　年　月",null,null,null,null,"　完成又は"]
[null,null,null,null,null,null,null,null,"の別（該当箇所にﾚ印を記載)",null,null,null,null,"　　　・ＰＣ"]
[null,null,null,null,null,null,null,null,"主任技術者","監理技術者",null,null,null,"　　　・法面処理",null,null,null,null,null,null,"　完成予定年月",null,null,null,null,null,null,"全体",null,null,null,"元請"]
[null,null,null,null,null,null,null,null,null,null,null,null,null,"　　　・鋼橋上部",null,null,null,null,null,null,null,null,null,null,null,null,null,"下段","上段","うち、下段","うち、上段","下段","上段","うち、下段","うち、上段"]
[118,{"$f":"VLOOKUP($A14,④工事経歴書の作成!$B$138:$R$396,2,FALSE)","v":0},{"$f":"VLOOKUP($A14,④工事経歴書の作成!$B$138:$R$396,3,FALSE)","v":0},{"$f":"VLOOKUP($A14,④工事経歴書の作成!$B$138:$R$396,4,FALSE)","v":0},{"$f":"VLOOKUP($A14,④工事経歴書の作成!$B$138:$R$396,5,FALSE)","v":0},{"$f":"VLOOKUP($A14,④工事経歴書の作成!$B$138:$R$396,2,FALSE)","v":0},{"$f":"VLOOKUP($A14,④工事経歴書の作成!$B$138:$R$396,6,FALSE)","v":0},{"$f":"VLOOKUP($A14,④工事経歴書の作成!$B$138:$R$396,7,FALSE)","v":0},{"$f":"VLOOKUP($A14,④工事経歴書の作成!$B$138:$R$396,8,FALSE)","v":0},{"$f":"VLOOKUP($A14,④工事経歴書の作成!$B$138:$R$396,9,FALSE)","v":0},{"$f":"VLOOKUP($A14,④工事経歴書の作成!$B$138:$R$396,8,FALSE)","v":0},{"$f":"VLOOKUP($A14,④工事経歴書の作成!$B$138:$R$396,11,FALSE)","v":0},"千円",{"$f":"VLOOKUP($A14,④工事経歴書の作成!$B$138:$R$396,13,FALSE)","v":0},"千円","令和",{"$f":"VLOOKUP($A14,④工事経歴書の作成!$B$138:$R$396,14,FALSE)","v":0},"年",{"$f":"VLOOKUP($A14,④工事経歴書の作成!$B$138:$R$396,15,FALSE)","v":0},"月","令和",{"$f":"VLOOKUP($A14,④工事経歴書の作成!$B$138:$R$396,16,FALSE)","v":0},"年",{"$f":"VLOOKUP($A14,④工事経歴書の作成!$B$138:$R$396,17,FALSE)","v":0},"月",null,null,null,{"$f":"IF(+L14=0,\"\",L14)","v":""},null,{"$f":"+N14","v":0},null,{"$f":"IF(AA15=$AF$12,L14,0)","v":0},null,{"$f":"IF(AA15=$AF$12,N14,0)","v":0}]
[null,null,null,null,null,null,null,null,null,null,null,{"$f":"VLOOKUP($A14,④工事経歴書の作成!$B$138:$R$396,10,FALSE)","v":0},null,{"$f":"VLOOKUP($A14,④工事経歴書の作成!$B$138:$R$396,12,FALSE)","v":0},null,null,null,null,null,null,null,null,null,null,null,null,{"$f":"IF(C14=$C$51,AA13,C14)","v":0},{"$f":"IF(+L15=0,\"\",L15)","v":""},null,{"$f":"+N15","v":0},null,{"$f":"IF(AA15=$AF$12,L15,0)","v":0},null,{"$f":"IF(AA15=$AF$12,N15,0)","v":0}]
[119,{"$f":"VLOOKUP($A16,④工事経歴書の作成!$B$138:$R$396,2,FALSE)","v":0},{"$f":"VLOOKUP($A16,④工事経歴書の作成!$B$138:$R$396,3,FALSE)","v":0},{"$f":"VLOOKUP($A16,④工事経歴書の作成!$B$138:$R$396,4,FALSE)","v":0},{"$f":"VLOOKUP($A16,④工事経歴書の作成!$B$138:$R$396,5,FALSE)","v":0},{"$f":"VLOOKUP($A16,④工事経歴書の作成!$B$138:$R$396,2,FALSE)","v":0},{"$f":"VLOOKUP($A16,④工事経歴書の作成!$B$138:$R$396,6,FALSE)","v":0},{"$f":"VLOOKUP($A16,④工事経歴書の作成!$B$138:$R$396,7,FALSE)","v":0},{"$f":"VLOOKUP($A16,④工事経歴書の作成!$B$138:$R$396,8,FALSE)","v":0},{"$f":"VLOOKUP($A16,④工事経歴書の作成!$B$138:$R$396,9,FALSE)","v":0},{"$f":"VLOOKUP($A16,④工事経歴書の作成!$B$138:$R$396,8,FALSE)","v":0},{"$f":"VLOOKUP($A16,④工事経歴書の作成!$B$138:$R$396,11,FALSE)","v":0},"千円",{"$f":"VLOOKUP($A16,④工事経歴書の作成!$B$138:$R$396,13,FALSE)","v":0},"千円","令和",{"$f":"VLOOKUP($A16,④工事経歴書の作成!$B$138:$R$396,14,FALSE)","v":0},"年",{"$f":"VLOOKUP($A16,④工事経歴書の作成!$B$138:$R$396,15,FALSE)","v":0},"月","令和",{"$f":"VLOOKUP($A16,④工事経歴書の作成!$B$138:$R$396,16,FALSE)","v":0},"年",{"$f":"VLOOKUP($A16,④工事経歴書の作成!$B$138:$R$396,17,FALSE)","v":0},"月",null,null,null,{"$f":"IF(+L16=0,\"\",L16)","v":""},null,{"$f":"+N16","v":0},null,{"$f":"IF(AA17=$AF$12,L16,0)","v":0},null,{"$f":"IF(AA17=$AF$12,N16,0)","v":0}]
[null,null,null,null,null,null,null,null,null,null,null,{"$f":"VLOOKUP($A16,④工事経歴書の作成!$B$138:$R$396,10,FALSE)","v":0},null,{"$f":"VLOOKUP($A16,④工事経歴書の作成!$B$138:$R$396,12,FALSE)","v":0},null,null,null,null,null,null,null,null,null,null,null,null,{"$f":"IF(C16=$C$51,AA15,C16)","v":0},{"$f":"IF(+L17=0,\"\",L17)","v":""},null,{"$f":"+N17","v":0},null,{"$f":"IF(AA17=$AF$12,L17,0)","v":0},null,{"$f":"IF(AA17=$AF$12,N17,0)","v":0}]
[120,{"$f":"VLOOKUP($A18,④工事経歴書の作成!$B$138:$R$396,2,FALSE)","v":0},{"$f":"VLOOKUP($A18,④工事経歴書の作成!$B$138:$R$396,3,FALSE)","v":0},{"$f":"VLOOKUP($A18,④工事経歴書の作成!$B$138:$R$396,4,FALSE)","v":0},{"$f":"VLOOKUP($A18,④工事経歴書の作成!$B$138:$R$396,5,FALSE)","v":0},{"$f":"VLOOKUP($A18,④工事経歴書の作成!$B$138:$R$396,2,FALSE)","v":0},{"$f":"VLOOKUP($A18,④工事経歴書の作成!$B$138:$R$396,6,FALSE)","v":0},{"$f":"VLOOKUP($A18,④工事経歴書の作成!$B$138:$R$396,7,FALSE)","v":0},{"$f":"VLOOKUP($A18,④工事経歴書の作成!$B$138:$R$396,8,FALSE)","v":0},{"$f":"VLOOKUP($A18,④工事経歴書の作成!$B$138:$R$396,9,FALSE)","v":0},{"$f":"VLOOKUP($A18,④工事経歴書の作成!$B$138:$R$396,8,FALSE)","v":0},{"$f":"VLOOKUP($A18,④工事経歴書の作成!$B$138:$R$396,11,FALSE)","v":0},"千円",{"$f":"VLOOKUP($A18,④工事経歴書の作成!$B$138:$R$396,13,FALSE)","v":0},"千円","令和",{"$f":"VLOOKUP($A18,④工事経歴書の作成!$B$138:$R$396,14,FALSE)","v":0},"年",{"$f":"VLOOKUP($A18,④工事経歴書の作成!$B$138:$R$396,15,FALSE)","v":0},"月","令和",{"$f":"VLOOKUP($A18,④工事経歴書の作成!$B$138:$R$396,16,FALSE)","v":0},"年",{"$f":"VLOOKUP($A18,④工事経歴書の作成!$B$138:$R$396,17,FALSE)","v":0},"月",null,null,null,{"$f":"IF(+L18=0,\"\",L18)","v":""},null,{"$f":"+N18","v":0},null,{"$f":"IF(AA19=$AF$12,L18,0)","v":0},null,{"$f":"IF(AA19=$AF$12,N18,0)","v":0}]
[null,null,null,null,null,null,null,null,null,null,null,{"$f":"VLOOKUP($A18,④工事経歴書の作成!$B$138:$R$396,10,FALSE)","v":0},null,{"$f":"VLOOKUP($A18,④工事経歴書の作成!$B$138:$R$396,12,FALSE)","v":0},null,null,null,null,null,null,null,null,null,null,null,null,{"$f":"IF(C18=$C$51,AA17,C18)","v":0},{"$f":"IF(+L19=0,\"\",L19)","v":""},null,{"$f":"+N19","v":0},null,{"$f":"IF(AA19=$AF$12,L19,0)","v":0},null,{"$f":"IF(AA19=$AF$12,N19,0)","v":0}]
[121,{"$f":"VLOOKUP($A20,④工事経歴書の作成!$B$138:$R$396,2,FALSE)","v":0},{"$f":"VLOOKUP($A20,④工事経歴書の作成!$B$138:$R$396,3,FALSE)","v":0},{"$f":"VLOOKUP($A20,④工事経歴書の作成!$B$138:$R$396,4,FALSE)","v":0},{"$f":"VLOOKUP($A20,④工事経歴書の作成!$B$138:$R$396,5,FALSE)","v":0},{"$f":"VLOOKUP($A20,④工事経歴書の作成!$B$138:$R$396,2,FALSE)","v":0},{"$f":"VLOOKUP($A20,④工事経歴書の作成!$B$138:$R$396,6,FALSE)","v":0},{"$f":"VLOOKUP($A20,④工事経歴書の作成!$B$138:$R$396,7,FALSE)","v":0},{"$f":"VLOOKUP($A20,④工事経歴書の作成!$B$138:$R$396,8,FALSE)","v":0},{"$f":"VLOOKUP($A20,④工事経歴書の作成!$B$138:$R$396,9,FALSE)","v":0},{"$f":"VLOOKUP($A20,④工事経歴書の作成!$B$138:$R$396,8,FALSE)","v":0},{"$f":"VLOOKUP($A20,④工事経歴書の作成!$B$138:$R$396,11,FALSE)","v":0},"千円",{"$f":"VLOOKUP($A20,④工事経歴書の作成!$B$138:$R$396,13,FALSE)","v":0},"千円","令和",{"$f":"VLOOKUP($A20,④工事経歴書の作成!$B$138:$R$396,14,FALSE)","v":0},"年",{"$f":"VLOOKUP($A20,④工事経歴書の作成!$B$138:$R$396,15,FALSE)","v":0},"月","令和",{"$f":"VLOOKUP($A20,④工事経歴書の作成!$B$138:$R$396,16,FALSE)","v":0},"年",{"$f":"VLOOKUP($A20,④工事経歴書の作成!$B$138:$R$396,17,FALSE)","v":0},"月",null,null,null,{"$f":"IF(+L20=0,\"\",L20)","v":""},null,{"$f":"+N20","v":0},null,{"$f":"IF(AA21=$AF$12,L20,0)","v":0},null,{"$f":"IF(AA21=$AF$12,N20,0)","v":0}]
[null,null,null,null,null,null,null,null,null,null,null,{"$f":"VLOOKUP($A20,④工事経歴書の作成!$B$138:$R$396,10,FALSE)","v":0},null,{"$f":"VLOOKUP($A20,④工事経歴書の作成!$B$138:$R$396,12,FALSE)","v":0},null,null,null,null,null,null,null,null,null,null,null,null,{"$f":"IF(C20=$C$51,AA19,C20)","v":0},{"$f":"IF(+L21=0,\"\",L21)","v":""},null,{"$f":"+N21","v":0},null,{"$f":"IF(AA21=$AF$12,L21,0)","v":0},null,{"$f":"IF(AA21=$AF$12,N21,0)","v":0}]
[122,{"$f":"VLOOKUP($A22,④工事経歴書の作成!$B$138:$R$396,2,FALSE)","v":0},{"$f":"VLOOKUP($A22,④工事経歴書の作成!$B$138:$R$396,3,FALSE)","v":0},{"$f":"VLOOKUP($A22,④工事経歴書の作成!$B$138:$R$396,4,FALSE)","v":0},{"$f":"VLOOKUP($A22,④工事経歴書の作成!$B$138:$R$396,5,FALSE)","v":0},{"$f":"VLOOKUP($A22,④工事経歴書の作成!$B$138:$R$396,2,FALSE)","v":0},{"$f":"VLOOKUP($A22,④工事経歴書の作成!$B$138:$R$396,6,FALSE)","v":0},{"$f":"VLOOKUP($A22,④工事経歴書の作成!$B$138:$R$396,7,FALSE)","v":0},{"$f":"VLOOKUP($A22,④工事経歴書の作成!$B$138:$R$396,8,FALSE)","v":0},{"$f":"VLOOKUP($A22,④工事経歴書の作成!$B$138:$R$396,9,FALSE)","v":0},{"$f":"VLOOKUP($A22,④工事経歴書の作成!$B$138:$R$396,8,FALSE)","v":0},{"$f":"VLOOKUP($A22,④工事経歴書の作成!$B$138:$R$396,11,FALSE)","v":0},"千円",{"$f":"VLOOKUP($A22,④工事経歴書の作成!$B$138:$R$396,13,FALSE)","v":0},"千円","令和",{"$f":"VLOOKUP($A22,④工事経歴書の作成!$B$138:$R$396,14,FALSE)","v":0},"年",{"$f":"VLOOKUP($A22,④工事経歴書の作成!$B$138:$R$396,15,FALSE)","v":0},"月","令和",{"$f":"VLOOKUP($A22,④工事経歴書の作成!$B$138:$R$396,16,FALSE)","v":0},"年",{"$f":"VLOOKUP($A22,④工事経歴書の作成!$B$138:$R$396,17,FALSE)","v":0},"月",null,null,null,{"$f":"IF(+L22=0,\"\",L22)","v":""},null,{"$f":"+N22","v":0},null,{"$f":"IF(AA23=$AF$12,L22,0)","v":0},null,{"$f":"IF(AA23=$AF$12,N22,0)","v":0}]
[null,null,null,null,null,null,null,null,null,null,null,{"$f":"VLOOKUP($A22,④工事経歴書の作成!$B$138:$R$396,10,FALSE)","v":0},null,{"$f":"VLOOKUP($A22,④工事経歴書の作成!$B$138:$R$396,12,FALSE)","v":0},null,null,null,null,null,null,null,null,null,null,null,null,{"$f":"IF(C22=$C$51,AA21,C22)","v":0},{"$f":"IF(+L23=0,\"\",L23)","v":""},null,{"$f":"+N23","v":0},null,{"$f":"IF(AA23=$AF$12,L23,0)","v":0},null,{"$f":"IF(AA23=$AF$12,N23,0)","v":0}]
[123,{"$f":"VLOOKUP($A24,④工事経歴書の作成!$B$138:$R$396,2,FALSE)","v":0},{"$f":"VLOOKUP($A24,④工事経歴書の作成!$B$138:$R$396,3,FALSE)","v":0},{"$f":"VLOOKUP($A24,④工事経歴書の作成!$B$138:$R$396,4,FALSE)","v":0},{"$f":"VLOOKUP($A24,④工事経歴書の作成!$B$138:$R$396,5,FALSE)","v":0},{"$f":"VLOOKUP($A24,④工事経歴書の作成!$B$138:$R$396,2,FALSE)","v":0},{"$f":"VLOOKUP($A24,④工事経歴書の作成!$B$138:$R$396,6,FALSE)","v":0},{"$f":"VLOOKUP($A24,④工事経歴書の作成!$B$138:$R$396,7,FALSE)","v":0},{"$f":"VLOOKUP($A24,④工事経歴書の作成!$B$138:$R$396,8,FALSE)","v":0},{"$f":"VLOOKUP($A24,④工事経歴書の作成!$B$138:$R$396,9,FALSE)","v":0},{"$f":"VLOOKUP($A24,④工事経歴書の作成!$B$138:$R$396,8,FALSE)","v":0},{"$f":"VLOOKUP($A24,④工事経歴書の作成!$B$138:$R$396,11,FALSE)","v":0},"千円",{"$f":"VLOOKUP($A24,④工事経歴書の作成!$B$138:$R$396,13,FALSE)","v":0},"千円","令和",{"$f":"VLOOKUP($A24,④工事経歴書の作成!$B$138:$R$396,14,FALSE)","v":0},"年",{"$f":"VLOOKUP($A24,④工事経歴書の作成!$B$138:$R$396,15,FALSE)","v":0},"月","令和",{"$f":"VLOOKUP($A24,④工事経歴書の作成!$B$138:$R$396,16,FALSE)","v":0},"年",{"$f":"VLOOKUP($A24,④工事経歴書の作成!$B$138:$R$396,17,FALSE)","v":0},"月",null,null,null,{"$f":"IF(+L24=0,\"\",L24)","v":""},null,{"$f":"+N24","v":0},null,{"$f":"IF(AA25=$AF$12,L24,0)","v":0},null,{"$f":"IF(AA25=$AF$12,N24,0)","v":0}]
[null,null,null,null,null,null,null,null,null,null,null,{"$f":"VLOOKUP($A24,④工事経歴書の作成!$B$138:$R$396,10,FALSE)","v":0},null,{"$f":"VLOOKUP($A24,④工事経歴書の作成!$B$138:$R$396,12,FALSE)","v":0},null,null,null,null,null,null,null,null,null,null,null,null,{"$f":"IF(C24=$C$51,AA23,C24)","v":0},{"$f":"IF(+L25=0,\"\",L25)","v":""},null,{"$f":"+N25","v":0},null,{"$f":"IF(AA25=$AF$12,L25,0)","v":0},null,{"$f":"IF(AA25=$AF$12,N25,0)","v":0}]
[124,{"$f":"VLOOKUP($A26,④工事経歴書の作成!$B$138:$R$396,2,FALSE)","v":0},{"$f":"VLOOKUP($A26,④工事経歴書の作成!$B$138:$R$396,3,FALSE)","v":0},{"$f":"VLOOKUP($A26,④工事経歴書の作成!$B$138:$R$396,4,FALSE)","v":0},{"$f":"VLOOKUP($A26,④工事経歴書の作成!$B$138:$R$396,5,FALSE)","v":0},{"$f":"VLOOKUP($A26,④工事経歴書の作成!$B$138:$R$396,2,FALSE)","v":0},{"$f":"VLOOKUP($A26,④工事経歴書の作成!$B$138:$R$396,6,FALSE)","v":0},{"$f":"VLOOKUP($A26,④工事経歴書の作成!$B$138:$R$396,7,FALSE)","v":0},{"$f":"VLOOKUP($A26,④工事経歴書の作成!$B$138:$R$396,8,FALSE)","v":0},{"$f":"VLOOKUP($A26,④工事経歴書の作成!$B$138:$R$396,9,FALSE)","v":0},{"$f":"VLOOKUP($A26,④工事経歴書の作成!$B$138:$R$396,8,FALSE)","v":0},{"$f":"VLOOKUP($A26,④工事経歴書の作成!$B$138:$R$396,11,FALSE)","v":0},"千円",{"$f":"VLOOKUP($A26,④工事経歴書の作成!$B$138:$R$396,13,FALSE)","v":0},"千円","令和",{"$f":"VLOOKUP($A26,④工事経歴書の作成!$B$138:$R$396,14,FALSE)","v":0},"年",{"$f":"VLOOKUP($A26,④工事経歴書の作成!$B$138:$R$396,15,FALSE)","v":0},"月","令和",{"$f":"VLOOKUP($A26,④工事経歴書の作成!$B$138:$R$396,16,FALSE)","v":0},"年",{"$f":"VLOOKUP($A26,④工事経歴書の作成!$B$138:$R$396,17,FALSE)","v":0},"月",null,null,null,{"$f":"IF(+L26=0,\"\",L26)","v":""},null,{"$f":"+N26","v":0},null,{"$f":"IF(AA27=$AF$12,L26,0)","v":0},null,{"$f":"IF(AA27=$AF$12,N26,0)","v":0}]
[null,null,null,null,null,null,null,null,null,null,null,{"$f":"VLOOKUP($A26,④工事経歴書の作成!$B$138:$R$396,10,FALSE)","v":0},null,{"$f":"VLOOKUP($A26,④工事経歴書の作成!$B$138:$R$396,12,FALSE)","v":0},null,null,null,null,null,null,null,null,null,null,null,null,{"$f":"IF(C26=$C$51,AA25,C26)","v":0},{"$f":"IF(+L27=0,\"\",L27)","v":""},null,{"$f":"+N27","v":0},null,{"$f":"IF(AA27=$AF$12,L27,0)","v":0},null,{"$f":"IF(AA27=$AF$12,N27,0)","v":0}]
[125,{"$f":"VLOOKUP($A28,④工事経歴書の作成!$B$138:$R$396,2,FALSE)","v":0},{"$f":"VLOOKUP($A28,④工事経歴書の作成!$B$138:$R$396,3,FALSE)","v":0},{"$f":"VLOOKUP($A28,④工事経歴書の作成!$B$138:$R$396,4,FALSE)","v":0},{"$f":"VLOOKUP($A28,④工事経歴書の作成!$B$138:$R$396,5,FALSE)","v":0},{"$f":"VLOOKUP($A28,④工事経歴書の作成!$B$138:$R$396,2,FALSE)","v":0},{"$f":"VLOOKUP($A28,④工事経歴書の作成!$B$138:$R$396,6,FALSE)","v":0},{"$f":"VLOOKUP($A28,④工事経歴書の作成!$B$138:$R$396,7,FALSE)","v":0},{"$f":"VLOOKUP($A28,④工事経歴書の作成!$B$138:$R$396,8,FALSE)","v":0},{"$f":"VLOOKUP($A28,④工事経歴書の作成!$B$138:$R$396,9,FALSE)","v":0},{"$f":"VLOOKUP($A28,④工事経歴書の作成!$B$138:$R$396,8,FALSE)","v":0},{"$f":"VLOOKUP($A28,④工事経歴書の作成!$B$138:$R$396,11,FALSE)","v":0},"千円",{"$f":"VLOOKUP($A28,④工事経歴書の作成!$B$138:$R$396,13,FALSE)","v":0},"千円","令和",{"$f":"VLOOKUP($A28,④工事経歴書の作成!$B$138:$R$396,14,FALSE)","v":0},"年",{"$f":"VLOOKUP($A28,④工事経歴書の作成!$B$138:$R$396,15,FALSE)","v":0},"月","令和",{"$f":"VLOOKUP($A28,④工事経歴書の作成!$B$138:$R$396,16,FALSE)","v":0},"年",{"$f":"VLOOKUP($A28,④工事経歴書の作成!$B$138:$R$396,17,FALSE)","v":0},"月",null,null,null,{"$f":"IF(+L28=0,\"\",L28)","v":""},null,{"$f":"+N28","v":0},null,{"$f":"IF(AA29=$AF$12,L28,0)","v":0},null,{"$f":"IF(AA29=$AF$12,N28,0)","v":0}]
[null,null,null,null,null,null,null,null,null,null,null,{"$f":"VLOOKUP($A28,④工事経歴書の作成!$B$138:$R$396,10,FALSE)","v":0},null,{"$f":"VLOOKUP($A28,④工事経歴書の作成!$B$138:$R$396,12,FALSE)","v":0},null,null,null,null,null,null,null,null,null,null,null,null,{"$f":"IF(C28=$C$51,AA27,C28)","v":0},{"$f":"IF(+L29=0,\"\",L29)","v":""},null,{"$f":"+N29","v":0},null,{"$f":"IF(AA29=$AF$12,L29,0)","v":0},null,{"$f":"IF(AA29=$AF$12,N29,0)","v":0}]
[126,{"$f":"VLOOKUP($A30,④工事経歴書の作成!$B$138:$R$396,2,FALSE)","v":0},{"$f":"VLOOKUP($A30,④工事経歴書の作成!$B$138:$R$396,3,FALSE)","v":0},{"$f":"VLOOKUP($A30,④工事経歴書の作成!$B$138:$R$396,4,FALSE)","v":0},{"$f":"VLOOKUP($A30,④工事経歴書の作成!$B$138:$R$396,5,FALSE)","v":0},{"$f":"VLOOKUP($A30,④工事経歴書の作成!$B$138:$R$396,2,FALSE)","v":0},{"$f":"VLOOKUP($A30,④工事経歴書の作成!$B$138:$R$396,6,FALSE)","v":0},{"$f":"VLOOKUP($A30,④工事経歴書の作成!$B$138:$R$396,7,FALSE)","v":0},{"$f":"VLOOKUP($A30,④工事経歴書の作成!$B$138:$R$396,8,FALSE)","v":0},{"$f":"VLOOKUP($A30,④工事経歴書の作成!$B$138:$R$396,9,FALSE)","v":0},{"$f":"VLOOKUP($A30,④工事経歴書の作成!$B$138:$R$396,8,FALSE)","v":0},{"$f":"VLOOKUP($A30,④工事経歴書の作成!$B$138:$R$396,11,FALSE)","v":0},"千円",{"$f":"VLOOKUP($A30,④工事経歴書の作成!$B$138:$R$396,13,FALSE)","v":0},"千円","令和",{"$f":"VLOOKUP($A30,④工事経歴書の作成!$B$138:$R$396,14,FALSE)","v":0},"年",{"$f":"VLOOKUP($A30,④工事経歴書の作成!$B$138:$R$396,15,FALSE)","v":0},"月","令和",{"$f":"VLOOKUP($A30,④工事経歴書の作成!$B$138:$R$396,16,FALSE)","v":0},"年",{"$f":"VLOOKUP($A30,④工事経歴書の作成!$B$138:$R$396,17,FALSE)","v":0},"月",null,null,null,{"$f":"IF(+L30=0,\"\",L30)","v":""},null,{"$f":"+N30","v":0},null,{"$f":"IF(AA31=$AF$12,L30,0)","v":0},null,{"$f":"IF(AA31=$AF$12,N30,0)","v":0}]
[null,null,null,null,null,null,null,null,null,null,null,{"$f":"VLOOKUP($A30,④工事経歴書の作成!$B$138:$R$396,10,FALSE)","v":0},null,{"$f":"VLOOKUP($A30,④工事経歴書の作成!$B$138:$R$396,12,FALSE)","v":0},null,null,null,null,null,null,null,null,null,null,null,null,{"$f":"IF(C30=$C$51,AA29,C30)","v":0},{"$f":"IF(+L31=0,\"\",L31)","v":""},null,{"$f":"+N31","v":0},null,{"$f":"IF(AA31=$AF$12,L31,0)","v":0},null,{"$f":"IF(AA31=$AF$12,N31,0)","v":0}]
[127,{"$f":"VLOOKUP($A32,④工事経歴書の作成!$B$138:$R$396,2,FALSE)","v":0},{"$f":"VLOOKUP($A32,④工事経歴書の作成!$B$138:$R$396,3,FALSE)","v":0},{"$f":"VLOOKUP($A32,④工事経歴書の作成!$B$138:$R$396,4,FALSE)","v":0},{"$f":"VLOOKUP($A32,④工事経歴書の作成!$B$138:$R$396,5,FALSE)","v":0},{"$f":"VLOOKUP($A32,④工事経歴書の作成!$B$138:$R$396,2,FALSE)","v":0},{"$f":"VLOOKUP($A32,④工事経歴書の作成!$B$138:$R$396,6,FALSE)","v":0},{"$f":"VLOOKUP($A32,④工事経歴書の作成!$B$138:$R$396,7,FALSE)","v":0},{"$f":"VLOOKUP($A32,④工事経歴書の作成!$B$138:$R$396,8,FALSE)","v":0},{"$f":"VLOOKUP($A32,④工事経歴書の作成!$B$138:$R$396,9,FALSE)","v":0},{"$f":"VLOOKUP($A32,④工事経歴書の作成!$B$138:$R$396,8,FALSE)","v":0},{"$f":"VLOOKUP($A32,④工事経歴書の作成!$B$138:$R$396,11,FALSE)","v":0},"千円",{"$f":"VLOOKUP($A32,④工事経歴書の作成!$B$138:$R$396,13,FALSE)","v":0},"千円","令和",{"$f":"VLOOKUP($A32,④工事経歴書の作成!$B$138:$R$396,14,FALSE)","v":0},"年",{"$f":"VLOOKUP($A32,④工事経歴書の作成!$B$138:$R$396,15,FALSE)","v":0},"月","令和",{"$f":"VLOOKUP($A32,④工事経歴書の作成!$B$138:$R$396,16,FALSE)","v":0},"年",{"$f":"VLOOKUP($A32,④工事経歴書の作成!$B$138:$R$396,17,FALSE)","v":0},"月",null,null,null,{"$f":"IF(+L32=0,\"\",L32)","v":""},null,{"$f":"+N32","v":0},null,{"$f":"IF(AA33=$AF$12,L32,0)","v":0},null,{"$f":"IF(AA33=$AF$12,N32,0)","v":0}]
[null,null,null,null,null,null,null,null,null,null,null,{"$f":"VLOOKUP($A32,④工事経歴書の作成!$B$138:$R$396,10,FALSE)","v":0},null,{"$f":"VLOOKUP($A32,④工事経歴書の作成!$B$138:$R$396,12,FALSE)","v":0},null,null,null,null,null,null,null,null,null,null,null,null,{"$f":"IF(C32=$C$51,AA31,C32)","v":0},{"$f":"IF(+L33=0,\"\",L33)","v":""},null,{"$f":"+N33","v":0},null,{"$f":"IF(AA33=$AF$12,L33,0)","v":0},null,{"$f":"IF(AA33=$AF$12,N33,0)","v":0}]
[128,{"$f":"VLOOKUP($A34,④工事経歴書の作成!$B$138:$R$396,2,FALSE)","v":0},{"$f":"VLOOKUP($A34,④工事経歴書の作成!$B$138:$R$396,3,FALSE)","v":0},{"$f":"VLOOKUP($A34,④工事経歴書の作成!$B$138:$R$396,4,FALSE)","v":0},{"$f":"VLOOKUP($A34,④工事経歴書の作成!$B$138:$R$396,5,FALSE)","v":0},{"$f":"VLOOKUP($A34,④工事経歴書の作成!$B$138:$R$396,2,FALSE)","v":0},{"$f":"VLOOKUP($A34,④工事経歴書の作成!$B$138:$R$396,6,FALSE)","v":0},{"$f":"VLOOKUP($A34,④工事経歴書の作成!$B$138:$R$396,7,FALSE)","v":0},{"$f":"VLOOKUP($A34,④工事経歴書の作成!$B$138:$R$396,8,FALSE)","v":0},{"$f":"VLOOKUP($A34,④工事経歴書の作成!$B$138:$R$396,9,FALSE)","v":0},{"$f":"VLOOKUP($A34,④工事経歴書の作成!$B$138:$R$396,8,FALSE)","v":0},{"$f":"VLOOKUP($A34,④工事経歴書の作成!$B$138:$R$396,11,FALSE)","v":0},"千円",{"$f":"VLOOKUP($A34,④工事経歴書の作成!$B$138:$R$396,13,FALSE)","v":0},"千円","令和",{"$f":"VLOOKUP($A34,④工事経歴書の作成!$B$138:$R$396,14,FALSE)","v":0},"年",{"$f":"VLOOKUP($A34,④工事経歴書の作成!$B$138:$R$396,15,FALSE)","v":0},"月","令和",{"$f":"VLOOKUP($A34,④工事経歴書の作成!$B$138:$R$396,16,FALSE)","v":0},"年",{"$f":"VLOOKUP($A34,④工事経歴書の作成!$B$138:$R$396,17,FALSE)","v":0},"月",null,null,null,{"$f":"IF(+L34=0,\"\",L34)","v":""},null,{"$f":"+N34","v":0},null,{"$f":"IF(AA35=$AF$12,L34,0)","v":0},null,{"$f":"IF(AA35=$AF$12,N34,0)","v":0}]
[null,null,null,null,null,null,null,null,null,null,null,{"$f":"VLOOKUP($A34,④工事経歴書の作成!$B$138:$R$396,10,FALSE)","v":0},null,{"$f":"VLOOKUP($A34,④工事経歴書の作成!$B$138:$R$396,12,FALSE)","v":0},null,null,null,null,null,null,null,null,null,null,null,null,{"$f":"IF(C34=$C$51,AA33,C34)","v":0},{"$f":"IF(+L35=0,\"\",L35)","v":""},null,{"$f":"+N35","v":0},null,{"$f":"IF(AA35=$AF$12,L35,0)","v":0},null,{"$f":"IF(AA35=$AF$12,N35,0)","v":0}]
[129,{"$f":"VLOOKUP($A36,④工事経歴書の作成!$B$138:$R$396,2,FALSE)","v":0},{"$f":"VLOOKUP($A36,④工事経歴書の作成!$B$138:$R$396,3,FALSE)","v":0},{"$f":"VLOOKUP($A36,④工事経歴書の作成!$B$138:$R$396,4,FALSE)","v":0},{"$f":"VLOOKUP($A36,④工事経歴書の作成!$B$138:$R$396,5,FALSE)","v":0},{"$f":"VLOOKUP($A36,④工事経歴書の作成!$B$138:$R$396,2,FALSE)","v":0},{"$f":"VLOOKUP($A36,④工事経歴書の作成!$B$138:$R$396,6,FALSE)","v":0},{"$f":"VLOOKUP($A36,④工事経歴書の作成!$B$138:$R$396,7,FALSE)","v":0},{"$f":"VLOOKUP($A36,④工事経歴書の作成!$B$138:$R$396,8,FALSE)","v":0},{"$f":"VLOOKUP($A36,④工事経歴書の作成!$B$138:$R$396,9,FALSE)","v":0},{"$f":"VLOOKUP($A36,④工事経歴書の作成!$B$138:$R$396,8,FALSE)","v":0},{"$f":"VLOOKUP($A36,④工事経歴書の作成!$B$138:$R$396,11,FALSE)","v":0},"千円",{"$f":"VLOOKUP($A36,④工事経歴書の作成!$B$138:$R$396,13,FALSE)","v":0},"千円","令和",{"$f":"VLOOKUP($A36,④工事経歴書の作成!$B$138:$R$396,14,FALSE)","v":0},"年",{"$f":"VLOOKUP($A36,④工事経歴書の作成!$B$138:$R$396,15,FALSE)","v":0},"月","令和",{"$f":"VLOOKUP($A36,④工事経歴書の作成!$B$138:$R$396,16,FALSE)","v":0},"年",{"$f":"VLOOKUP($A36,④工事経歴書の作成!$B$138:$R$396,17,FALSE)","v":0},"月",null,null,null,{"$f":"IF(+L36=0,\"\",L36)","v":""},null,{"$f":"+N36","v":0},null,{"$f":"IF(AA37=$AF$12,L36,0)","v":0},null,{"$f":"IF(AA37=$AF$12,N36,0)","v":0}]
[null,null,null,null,null,null,null,null,null,null,null,{"$f":"VLOOKUP($A36,④工事経歴書の作成!$B$138:$R$396,10,FALSE)","v":0},null,{"$f":"VLOOKUP($A36,④工事経歴書の作成!$B$138:$R$396,12,FALSE)","v":0},null,null,null,null,null,null,null,null,null,null,null,null,{"$f":"IF(C36=$C$51,AA35,C36)","v":0},{"$f":"IF(+L37=0,\"\",L37)","v":""},null,{"$f":"+N37","v":0},null,{"$f":"IF(AA37=$AF$12,L37,0)","v":0},null,{"$f":"IF(AA37=$AF$12,N37,0)","v":0}]
[130,{"$f":"VLOOKUP($A38,④工事経歴書の作成!$B$138:$R$396,2,FALSE)","v":0},{"$f":"VLOOKUP($A38,④工事経歴書の作成!$B$138:$R$396,3,FALSE)","v":0},{"$f":"VLOOKUP($A38,④工事経歴書の作成!$B$138:$R$396,4,FALSE)","v":0},{"$f":"VLOOKUP($A38,④工事経歴書の作成!$B$138:$R$396,5,FALSE)","v":0},{"$f":"VLOOKUP($A38,④工事経歴書の作成!$B$138:$R$396,2,FALSE)","v":0},{"$f":"VLOOKUP($A38,④工事経歴書の作成!$B$138:$R$396,6,FALSE)","v":0},{"$f":"VLOOKUP($A38,④工事経歴書の作成!$B$138:$R$396,7,FALSE)","v":0},{"$f":"VLOOKUP($A38,④工事経歴書の作成!$B$138:$R$396,8,FALSE)","v":0},{"$f":"VLOOKUP($A38,④工事経歴書の作成!$B$138:$R$396,9,FALSE)","v":0},{"$f":"VLOOKUP($A38,④工事経歴書の作成!$B$138:$R$396,8,FALSE)","v":0},{"$f":"VLOOKUP($A38,④工事経歴書の作成!$B$138:$R$396,11,FALSE)","v":0},"千円",{"$f":"VLOOKUP($A38,④工事経歴書の作成!$B$138:$R$396,13,FALSE)","v":0},"千円","令和",{"$f":"VLOOKUP($A38,④工事経歴書の作成!$B$138:$R$396,14,FALSE)","v":0},"年",{"$f":"VLOOKUP($A38,④工事経歴書の作成!$B$138:$R$396,15,FALSE)","v":0},"月","令和",{"$f":"VLOOKUP($A38,④工事経歴書の作成!$B$138:$R$396,16,FALSE)","v":0},"年",{"$f":"VLOOKUP($A38,④工事経歴書の作成!$B$138:$R$396,17,FALSE)","v":0},"月",null,null,null,{"$f":"IF(+L38=0,\"\",L38)","v":""},null,{"$f":"+N38","v":0},null,{"$f":"IF(AA39=$AF$12,L38,0)","v":0},null,{"$f":"IF(AA39=$AF$12,N38,0)","v":0}]
[null,null,null,null,null,null,null,null,null,null,null,{"$f":"VLOOKUP($A38,④工事経歴書の作成!$B$138:$R$396,10,FALSE)","v":0},null,{"$f":"VLOOKUP($A38,④工事経歴書の作成!$B$138:$R$396,12,FALSE)","v":0},null,null,null,null,null,null,null,null,null,null,null,null,{"$f":"IF(C38=$C$51,AA37,C38)","v":0},{"$f":"IF(+L39=0,\"\",L39)","v":""},null,{"$f":"+N39","v":0},null,{"$f":"IF(AA39=$AF$12,L39,0)","v":0},null,{"$f":"IF(AA39=$AF$12,N39,0)","v":0}]
[null,null,null,null,null,null,null,null,null,null,null,null,null,null,null,null,null,null,null,null,null,null,null,null,null,null,null,{"$f":"SUM(AB14:AB39)","v":0},0,0,0,0,0,0,0]
[null,null,null,null,null,null,null,null,"小　　計",null,"件",null,"千円",null,"千円","うち　元請工事"]
[null,null,null,null,null,null,null,null,null,null,null,null,null,null,null,null,null,null,"千円",null,null,null,null,"千円"]
[]
[]
[null,null,null,null,null,null,null,null,"合　　計",null,"件",null,"千円",null,"千円","うち　元請工事"]
[null,null,null,null,null,null,null,null,null,null,null,null,null,null,null,null,null,null,"千円",null,null,null,null,"千円"]
[]
[]
[null,null,null,null,null,null,null,"小計を","小計",{"$f":"COUNT(AC14:AC39)","v":0},"件",{"$f":"+AC40","v":0},"千円",{"$f":"+AE40","v":0},"千円",{"$f":"+AG40","v":0},null,null,"千円",null,{"$f":"+AI40","v":0},null,null,"千円"]
[null,null,null,null,null,null,null,"転記しましょう",null,{"$f":"COUNT(AB14:AB39)","v":0},null,{"$f":"+AB40","v":0},null,{"$f":"+AD40","v":0},null,{"$f":"+AF40","v":0},null,null,null,null,{"$f":"+AH40","v":0}]
[null,null,null,null,null,null,null,"操作方法によっては算式がこわれる場合があります。この数値は参考程度としていただき、必ず電卓で検算してください。"]
[]
[null,null,null,null,null,null,null,null,"ﾚ"]